BEGIN:VCALENDAR
VERSION:2.0
PRODID:-//The E List - ECPv6.15.20//NONSGML v1.0//EN
CALSCALE:GREGORIAN
METHOD:PUBLISH
X-WR-CALNAME:The E List
X-ORIGINAL-URL:https://the-e-list.com
X-WR-CALDESC:Events for The E List
REFRESH-INTERVAL;VALUE=DURATION:PT1H
X-Robots-Tag:noindex
X-PUBLISHED-TTL:PT1H
BEGIN:VTIMEZONE
TZID:UTC
BEGIN:STANDARD
TZOFFSETFROM:+0000
TZOFFSETTO:+0000
TZNAME:UTC
DTSTART:20250101T000000
END:STANDARD
END:VTIMEZONE
BEGIN:VTIMEZONE
TZID:UTC
BEGIN:STANDARD
TZOFFSETFROM:+0000
TZOFFSETTO:+0000
TZNAME:UTC
DTSTART:20250101T000000
END:STANDARD
END:VTIMEZONE
BEGIN:VEVENT
DTSTART;VALUE=DATE:20260417
DTEND;VALUE=DATE:20260530
DTSTAMP:20260426T012716
CREATED:20260316T140151Z
LAST-MODIFIED:20260316T140151Z
UID:10003352-1776384000-1780099199@the-e-list.com
SUMMARY:Ship to Shore: A Marine Show at the Lyme Art Association
DESCRIPTION:Sarah Stifler Lucas\, Heading Out\, Oil \nFrom Open Seas to Tiny Details\, the Art Exhibits at the Lyme Art Association Show Visitors the Wonders of the World \nThe Lyme Art Association (LAA) presents from April 17 – May 29\, Ship to Shore: A Marine Show\, juried by acclaimed artist William P. Duffy. Open exclusively to LAA members\, this exhibition celebrates the marine genre\, featuring a range of subjects from tranquil harbors to turbulent seas. Running concurrently are A Closer Look\, a members show\, and a solo show of Jacqueline Stella’s work\, called There Is Power. \nFrom calm waters to crashing waves\, open seas to secluded marshes\, the annual exhibition of Ship to Shore celebrates the marine genre by encompassing a broad range of subjects related to the sea and its surrounding environment. This exhibition displays a variety of artistic styles and mediums of representational artwork that reflect nautical and marine themes.\nSometimes the smallest details reveal the greatest depth\, and in A Closer Look\, the art in this show focuses on magnification or close-up views of objects\, on intimate subject matter\, or on a slowed way of seeing the world. This exhibition celebrates observation\, detail\, and discovery\, with artworks that ask viewers to pause and notice what might otherwise go unseen. \nThe Ship to Shore’s opening reception takes place on Sunday\, April 19 from 2 – 4 pm\, during which attendees will hear lively sea chanteys and songs of the sea while perusing the art. The three exhibitions are on view from April 17 – May 29 at the Lyme Art Association\, located at 90 Lyme Street in Old Lyme\, CT. The gallery is open to the public Tuesday – Sunday\, 10 am – 5 pm. Admission is free\, and all are welcome.
URL:https://the-e-list.com/event/ship-to-shore-a-marine-show-at-the-lyme-art-association/
LOCATION:Lyme Art Association\, 90 Lyme Street\, Old Lyme\, CT\, 06371\, United States
ATTACH;FMTTYPE=image/jpeg:https://the-e-list.com/wp-content/uploads/2026/03/Lucas-Sarah-Stifler_Heading-Out_oil_11x14_1600-scaled-e1773669424410.jpg
END:VEVENT
BEGIN:VEVENT
DTSTART;TZID=UTC:20260417T100000
DTEND;TZID=UTC:20260821T150000
DTSTAMP:20260426T012716
CREATED:20260328T181017Z
LAST-MODIFIED:20260329T224706Z
UID:10003370-1776420000-1787324400@the-e-list.com
SUMMARY:Village Herbery Spring Opening
DESCRIPTION:The doors are opening\, the gardens are waking\, and a new season begins at Village Herbery. \nJoin Village Herbery as they welcome spring with fresh greenery\, fragrant herbs\, and a curated collection of charming vintage finds. They look forward to seeing you soon! \nStore Hours – Friday & Saturday 10-5\, Sunday 11-3 \n 
URL:https://the-e-list.com/event/village-herbery-spring-opening/
LOCATION:Village Herbery\, 14 Union Street\, Deep River\, CT\, 06417
ATTACH;FMTTYPE=image/png:https://the-e-list.com/wp-content/uploads/2026/03/Village-Herbery-e1774721410378.png
END:VEVENT
BEGIN:VEVENT
DTSTART;VALUE=DATE:20260424
DTEND;VALUE=DATE:20260511
DTSTAMP:20260426T012716
CREATED:20260424T190359Z
LAST-MODIFIED:20260424T190620Z
UID:10003397-1776988800-1778457599@the-e-list.com
SUMMARY:An Ode to Mom at A-Nu-Yu\, Guilford
DESCRIPTION:Welcome to A Nu Yu! We’re a Permanent Cosmetic and Paramedical Tattoo Studio\, since 2003. We specialize in Eyebrow Restoration for Men and Women. \nOwner\, Christine Zimmerman is an authority in her field achieving CPCP Board certification with SPCP and a FAAM member of the American Academy of Micropigmentation. Christine has appeared many times on NBC News Health Team 30\, Channel 8 and many forms of media. \nChristine’s mom had spent years tirelessly drawing her brows on. The greatest\, longest-lasting Mother’s Day gift was giving her eyebrows again! Treat your mom to perfect eyebrows\, non-surgical skin-tightening Plasma Treatments\, Lip Blushing\, or Permanent Eyeliner\, and so much more.  \nKeeping Guilford Gorgeous at ANuYu since 2003!
URL:https://the-e-list.com/event/an-ode-to-mom-at-a-nu-yu-guilford/
LOCATION:A-Nu-Yu Studio\, 1100 Boston Post Road\, Guilford\, CT\, 06437\, United States
ATTACH;FMTTYPE=image/jpeg:https://the-e-list.com/wp-content/uploads/2026/04/mother1.jpg
END:VEVENT
BEGIN:VEVENT
DTSTART;TZID=UTC:20260424T130000
DTEND;TZID=UTC:20260426T170000
DTSTAMP:20260426T012716
CREATED:20260408T181926Z
LAST-MODIFIED:20260408T182009Z
UID:10003381-1777035600-1777222800@the-e-list.com
SUMMARY:Connecticut Spring Boat Show
DESCRIPTION:Celebrate the 10th Connecticut Spring Boat Show April 24-26\, 2026 along the Connecticut River in historic Essex\, as the town marks its 250th anniversary. Join boaters\, builders and marine businesses for a rain-or-shine weekend featuring an expanded lineup of boats\, exhibitors and live entertainment all in support of Sails Up 4 Cancer. \n\nOne ticket includes all three days-\nChildren 13 and under are free with a paid adult\n\nProduced by WindCheck Magazine and hosted by Safe Harbor Essex Island.
URL:https://the-e-list.com/event/connecticut-spring-boat-show/
LOCATION:Safe Harbor Essex Island\, 11 Ferry Street\, Essex\, CT\, 06426
ATTACH;FMTTYPE=image/jpeg:https://the-e-list.com/wp-content/uploads/2026/04/CT-Spring-Boat-Show-by-Stephen-Slade.jpg
END:VEVENT
BEGIN:VEVENT
DTSTART;TZID=UTC:20260425T170000
DTEND;TZID=UTC:20260426T150000
DTSTAMP:20260426T012716
CREATED:20260413T151127Z
LAST-MODIFIED:20260413T151150Z
UID:10003389-1777136400-1777215600@the-e-list.com
SUMMARY:Musical Masterworks Season 35 Finale
DESCRIPTION:Musical Masterworks proudly presents an extraordinary season finale weekend of chamber music featuring Julia Schilz\, violin\, winner of the prestigious 2025 Irving M. Klein International Strings Competition. \nSchilz joins an acclaimed ensemble of artists including Tessa Lark\, violin; Alice Yoo\, cello; Nicholas Cords\, viola; and Jeewon Park\, piano. \nThe program showcases a dynamic and emotionally rich repertoire\, including:\n• Still\, Suite for Violin and Piano\n• Florence Price\, Piano Quintet in A minor\n• Antonín Dvořák\, Piano Quintet No. 2 in A Major\, Op. 81 \nAudiences will experience both the brilliance of a rising international star and the artistry of some of today’s most compelling chamber musicians. \n“This program beautifully bridges tradition and discovery\,” says Artistic Director Tessa Lark. “Julia Schilz is an exceptional young artist\, and this repertoire highlights both her voice and the incredible depth of this ensemble.” \nConcerts will take place at the First Congregational Church of Old Lyme.
URL:https://the-e-list.com/event/musical-masterworks-season-35-finale/
LOCATION:The First Congregational Church of Old Lyme\, 2 Ferry Road\, Old Lyme\, CT\, 06371\, United States
ATTACH;FMTTYPE=image/png:https://the-e-list.com/wp-content/uploads/2026/04/April-2026-concert-e1776093081446.png
END:VEVENT
BEGIN:VEVENT
DTSTART;TZID=UTC:20260426T150000
DTEND;TZID=UTC:20260426T170000
DTSTAMP:20260426T012716
CREATED:20260408T174114Z
LAST-MODIFIED:20260408T174308Z
UID:10003377-1777215600-1777222800@the-e-list.com
SUMMARY:Cappella Cantorum Spring Concert features a Tribute to American Composers
DESCRIPTION:Join Cappella Cantorum for an exciting tribute to American composers and music genres in celebration of America’s 250th Anniversary! \nOn April 26\, the Cappella Cantorum Masterworks Chorus and Cappella Orchestra will perform Schubert’s Mass in G Major\, followed by a special program of music featuring American composers\, American music genres and early musical tributes to our young nation. The concert will begin at 3:00 p.m. in the beautiful and historic Andrews Memorial Auditorium at Clinton Town Hall (54 East Main Street\, Clinton). A complimentary reception will follow. \nThe Masterworks Chorus and Cappella Orchestra will be conducted by Music Director Dr. Irina Georgieva. Soloists include Megan Weikleenget (soprano)\, Charles Feierabend (tenor)\, and John Ong (bass). The Spring Concert is funded in part by grants from the Community Foundation of Middlesex County\, Essex Bank\, and the State of Connecticut/Office of the Arts. \nAdvance Purchase Tickets are now available online here\, by calling 860-532-0454 or through any chorus member ($16 for Students under 18 and $32 for Adults). Tickets may also be purchased at the door ($16 Students/$35 Adults) on the day of the performance\, subject to availability.
URL:https://the-e-list.com/event/cappella-cantorum-spring-concert-features-a-tribute-to-american-composers/
LOCATION:Andrews Memorial Town Hall\, 54 East Main Street\, Clinton\, CT\, 06413\, United States
ATTACH;FMTTYPE=image/jpeg:https://the-e-list.com/wp-content/uploads/2026/04/Spring-2026-Concert-Graphic-scaled-e1775669828955.jpg
ORGANIZER;CN="Cappella Cantorum":MAILTO:info@CappellaCantorum.org
END:VEVENT
END:VCALENDAR