BEGIN:VCALENDAR
VERSION:2.0
PRODID:-//The E List - ECPv6.15.20//NONSGML v1.0//EN
CALSCALE:GREGORIAN
METHOD:PUBLISH
X-WR-CALNAME:The E List
X-ORIGINAL-URL:https://the-e-list.com
X-WR-CALDESC:Events for The E List
REFRESH-INTERVAL;VALUE=DURATION:PT1H
X-Robots-Tag:noindex
X-PUBLISHED-TTL:PT1H
BEGIN:VTIMEZONE
TZID:UTC
BEGIN:STANDARD
TZOFFSETFROM:+0000
TZOFFSETTO:+0000
TZNAME:UTC
DTSTART:20250101T000000
END:STANDARD
END:VTIMEZONE
BEGIN:VTIMEZONE
TZID:UTC
BEGIN:STANDARD
TZOFFSETFROM:+0000
TZOFFSETTO:+0000
TZNAME:UTC
DTSTART:20250101T000000
END:STANDARD
END:VTIMEZONE
BEGIN:VEVENT
DTSTART;TZID=UTC:20260503T120000
DTEND;TZID=UTC:20260503T150000
DTSTAMP:20260422T161631
CREATED:20260409T125443Z
LAST-MODIFIED:20260409T130250Z
UID:10003386-1777809600-1777820400@the-e-list.com
SUMMARY:Oysters at the Point
DESCRIPTION:Sunday\, May 3rd\, 2026 from 12:00-3:00pm \nEnjoy an afternoon of oysters\, champagnes\, ales\, cocktails\, local artisans and live music on the terrace with Jamie’s Junk Show\, all set against the stunning backdrop of our picturesque marina with breathtaking water views. Savor the freshness of oysters sourced from Connecticut\, Rhode Island\, Long Island\, and Block Island. \nMUST BE 21 TO ATTEND | $75 + Per Person | Make your reservation.
URL:https://the-e-list.com/event/oysters-at-the-point-4/
LOCATION:Saybrook Point Resort & Marina\, 2 Bridge Street\, Old Saybrook\, CT\, 06475\, United States
ATTACH;FMTTYPE=image/png:https://the-e-list.com/wp-content/uploads/2026/04/1920x1080-e1775739215309.png
END:VEVENT
BEGIN:VEVENT
DTSTART;TZID=UTC:20260506T050000
DTEND;TZID=UTC:20260506T200000
DTSTAMP:20260422T161631
CREATED:20260330T225438Z
LAST-MODIFIED:20260420T214311Z
UID:10003373-1778043600-1778097600@the-e-list.com
SUMMARY:Save the Date for an E List Girls' Night Out in Madison
DESCRIPTION:Circle May 6th on your calendar\, rally your friends\, and get ready for a joyful evening filled with exclusive discounts\, drinks\, and dinner. As always\, it’s free to participate. Details below (and check back in for updates!). \nMeet The E List Team at Comomango – 52 Wall Street or Madison Cinemas – 761 Boston Post Road between 5 and 6:30 pm for a sip of wine and to pick up your sticker to qualify for 20% off at 30 participating shops and restaurants. \nDetails here!
URL:https://the-e-list.com/event/save-the-date-for-an-e-list-girls-night-out-in-madison/
LOCATION:Downtown Madison\, 725 Boston Post Road\, Madison\, CT\, 06443\, United States
ATTACH;FMTTYPE=image/jpeg:https://the-e-list.com/wp-content/uploads/2026/04/gno_mad_main.jpg
END:VEVENT
BEGIN:VEVENT
DTSTART;TZID=UTC:20260508T090000
DTEND;TZID=UTC:20260509T160000
DTSTAMP:20260422T161631
CREATED:20260325T220648Z
LAST-MODIFIED:20260325T220705Z
UID:10003365-1778230800-1778342400@the-e-list.com
SUMMARY:Friends of the Guilford Free Library Spring Book Sale
DESCRIPTION:Another season\, another reason to support the Friends of the Guilford Free Library’s Annual Spring Book Sale! \nThe sale offers gently used hardcover and paperback fiction and nonfiction for adults and children\, as well as books on art\, cooking\, gardening\, and more. Also\, mass market paperbacks\, DVDs\, CDs and jigsaw puzzles. Everything is in excellent condition and offered at unbeatable prices. \nThe sale will take place on the front patio and in the Meeting Room\, rain or shine. \nAll proceeds from the sale go to support the Library – to buy books; sponsor programs for children\, teens\, and adults; purchase equipment\, software\, and hardware; and to provide funds for staff development. \n***And if you’re doing any Spring Cleaning\, please consider donating used books in saleable condition to the Friends’ fundraising efforts. There is a conveniently placed table for donations at the Library’s parking-lot entrance. \nThe Library is located at 67 Park Street across from the Guilford Green. Click for more information or contact the Library at 203-453-8282.
URL:https://the-e-list.com/event/friends-of-the-guilford-free-library-spring-book-sale-4/
LOCATION:Guilford Free Library\, 67 Park Street\, Guilford\, CT\, 06437\, United States
ATTACH;FMTTYPE=image/jpeg:https://the-e-list.com/wp-content/uploads/2026/03/FOL-Pics--e1774476223828.jpg
GEO:41.2840105;-72.6809119
X-APPLE-STRUCTURED-LOCATION;VALUE=URI;X-ADDRESS=Guilford Free Library 67 Park Street Guilford CT 06437 United States;X-APPLE-RADIUS=500;X-TITLE=67 Park Street:geo:-72.6809119,41.2840105
END:VEVENT
BEGIN:VEVENT
DTSTART;TZID=UTC:20260508T120000
DTEND;TZID=UTC:20260509T130000
DTSTAMP:20260422T161631
CREATED:20260413T135225Z
LAST-MODIFIED:20260413T135405Z
UID:10003388-1778241600-1778331600@the-e-list.com
SUMMARY:Duck River Garden Club Annual Mother’s Day Plant Sale
DESCRIPTION:The Duck River Garden Club of Old Lyme and East Lyme is pleased to announce its much-anticipated Annual Mother’s Day Plant Sale\, a beloved community tradition that brings together gardening enthusiasts and local residents each spring. \nThis year’s sale will be held at the Lyme Art Association\, located at 90 Lyme Street in Old Lyme. Shoppers can look forward to browsing a vibrant and diverse selection of plants\, including annuals\, vegetables and herbs\, native pollinator plants\, perennials\, geraniums\, and the club’s ever-popular hanging baskets. \nA special highlight of the event is the Member’s Plant Area\, where visitors can purchase unique plants cultivated directly from the gardens of club members. \nProceeds from the sale directly support the Duck River Garden Club’s community initiatives\, including scholarships for students in Old Lyme and East Lyme\, civic beautification projects throughout both towns\, public educational programs\, and senior programming. \nThe sale will take place: \n• Friday\, May 8: 12:00 PM – 6:00 PM\n• Saturday\, May 9: 9:00 AM – 1:00 PM
URL:https://the-e-list.com/event/duck-river-garden-club-annual-mothers-day-plant-sale/
LOCATION:Lyme Art Association\, 90 Lyme Street\, Old Lyme\, CT\, 06371\, United States
ATTACH;FMTTYPE=image/png:https://the-e-list.com/wp-content/uploads/2026/04/Duck-River-Garden-Club-plant-sale-collage-300x300-1.png
END:VEVENT
BEGIN:VEVENT
DTSTART;TZID=UTC:20260508T183000
DTEND;TZID=UTC:20260508T210000
DTSTAMP:20260422T161631
CREATED:20260313T210659Z
LAST-MODIFIED:20260314T171044Z
UID:10003346-1778265000-1778274000@the-e-list.com
SUMMARY:Safe Futures STAND UP Comedy Fundraiser
DESCRIPTION:The Niantic Rotary Foundation is proud to present this fundraiser to benefit the Campaign for the Center of Safe Futures. \nSafe Futures provides free services to thousands of domestic violence survivors. The Center for Safe Futures will be a multi-agency campus of professionals offering services in one place\, offering safety\, convenience and hope to all impacted. \nHelp  the Niantic Rotary Foundation sell out the Port N Starboard banquet hall\, have a few laughs\, and show your support. \n$35 per person includes a charcuterie board on each table. Cash Bar on site.\nPurchase 8 tickets for a RESERVED table. Requested at time of purchase. \nTickets are available now!
URL:https://the-e-list.com/event/safe-futures-stand-up-comedy-fundraiser/
LOCATION:Port N Starboard Banquet Hall\, 1225 Ocean Ave\, New London\, CT
ATTACH;FMTTYPE=image/jpeg:https://the-e-list.com/wp-content/uploads/2026/03/Niantic-Cabaret.jpg
ORGANIZER;CN="Niantic Rotary Foundation":MAILTO:info@nianticrotary.org
END:VEVENT
BEGIN:VEVENT
DTSTART;TZID=UTC:20260509T090000
DTEND;TZID=UTC:20260509T130000
DTSTAMP:20260422T161631
CREATED:20260408T175307Z
LAST-MODIFIED:20260413T141123Z
UID:10003376-1778317200-1778331600@the-e-list.com
SUMMARY:Essex Garden Club Presents: May Market
DESCRIPTION:May Market features members’ perennial plants\, herbs\, shrubs and fresh-cut flowers\, as well as garlic salt\, gently-used home and garden treasures\, garden gifts\, and jewelry.
URL:https://the-e-list.com/event/may-market/
LOCATION:Essex Town Green\, 12 Main Street\, Essex\, CT\, 06426\, United States
ATTACH;FMTTYPE=image/jpeg:https://the-e-list.com/wp-content/uploads/2026/04/May-Market-e1775670646773.jpg
ORGANIZER;CN="Essex Garden Club":MAILTO:essexgardenclubct@gmail.com
GEO:41.3524963;-72.3897967
X-APPLE-STRUCTURED-LOCATION;VALUE=URI;X-ADDRESS=Essex Town Green 12 Main Street Essex CT 06426 United States;X-APPLE-RADIUS=500;X-TITLE=12 Main Street:geo:-72.3897967,41.3524963
END:VEVENT
BEGIN:VEVENT
DTSTART;TZID=UTC:20260509T090000
DTEND;TZID=UTC:20260509T140000
DTSTAMP:20260422T161631
CREATED:20260402T141616Z
LAST-MODIFIED:20260402T142012Z
UID:10003374-1778317200-1778335200@the-e-list.com
SUMMARY:Westbrook Garden Club May Market Plant Sale
DESCRIPTION:The Westbrook Garden Club May Market Sale will be held on Saturday\, May 9\, 2026\, 9am to 2pm (rain or shine) at the Westbrook Town Hall.  Please join us for flowers\, food\, and fun!  Offerings include annuals\, perennials\, herbs\, vegetables\, hanging baskets and more!  Club members will be offering plants dug from their own gardens as well as handmade crafts.  Master gardeners will be present to answer your gardening questions!\n\nMay Market Sale pre-orders are available 3/30/26 – 4/25/26\n\nVisit westbrookgardenclub.myshopify.com
URL:https://the-e-list.com/event/westbrook-garden-club-may-market-plant-sale/
LOCATION:Westbrook Town Hall\, 866 Boston Post Road\, Westbrook\, CT\, 06498\, United States
ATTACH;FMTTYPE=image/jpeg:https://the-e-list.com/wp-content/uploads/2026/04/WGC-May-Market-Sale-flyer.jpeg
END:VEVENT
BEGIN:VEVENT
DTSTART;TZID=UTC:20260509T100000
DTEND;TZID=UTC:20260509T160000
DTSTAMP:20260422T161631
CREATED:20260323T201641Z
LAST-MODIFIED:20260324T143928Z
UID:10003360-1778320800-1778342400@the-e-list.com
SUMMARY:Chester Historic Homes Tour
DESCRIPTION:Ever wondered what’s behind the doors of Chester’s iconic homes? Now’s your chance to find out. The Chester Historical Society is hosting a walking tour of seven historically significant homes\, whose gracious owners are opening their doors to a limited number of visitors. \nThe houses are all centrally located\, within walking distance of designated free parking lots and Chester Village. Knowledgeable volunteers (and in some cases the homeowners themselves) will be on hand to share the stories behind the architecture\, renovations and history. \nAdvance tickets are $40 ($35 for CHS members) and available now!  But don’t wait \, advance sales end May 5\, and tickets are limited. After that\, remaining tickets go for $50 at the door. \nChester’s excellent restaurants are nearby when you’re ready for lunch\, ice cream or beverages. \nLocation: All ticket holders must check in at the Chester Meeting House (4 Liberty St.) on Friday afternoon (May 8) or Saturday (May 9) to receive a wristband to serve as your admission ticket to each home along with a commemorative program with details about each home and a map.
URL:https://the-e-list.com/event/chester-historic-homes-tour/
LOCATION:Chester\, CT\, Chester\, CT\, United States
ATTACH;FMTTYPE=image/jpeg:https://the-e-list.com/wp-content/uploads/2026/03/Historic-Homes-Tour-resized.jpg
ORGANIZER;CN="Chester Historical Society":MAILTO: chestercthistoricalsociety@gmail.com 
END:VEVENT
BEGIN:VEVENT
DTSTART;TZID=UTC:20260516T120000
DTEND;TZID=UTC:20260516T180000
DTSTAMP:20260422T161631
CREATED:20260408T183012Z
LAST-MODIFIED:20260409T123213Z
UID:10003380-1778932800-1778954400@the-e-list.com
SUMMARY:The Artful Home Open House
DESCRIPTION:Step into a space where creativity meets home. Join us for ‘The Artful Home’ Open House\, a one-of-a-kind experience showcasing beautiful watercolor art\, curated wallpaper designs\, and modern styling ideas that bring your space to life. Alan James Art and AH Designs have joined forces\, and will be hosting a joint Open House on May 16\, 2026\, 12pm. All merchandise and paintings at both shops will be discounted for this totally cool event. Indulge in wine\, cheese and home inspiration. Plus\, don’t miss our exclusive raffles for a chance to take home some beautiful art\, wallpaper\, or some other fine goodies. See this event on your favorite social media. \nLocations: AH Design 114 Main St Deep River AND Alan James Art 116 Main St Deep River \n 
URL:https://the-e-list.com/event/the-artful-home-open-house/
LOCATION:Alan James Studio\, 116 Main Street\, Deep River\, Connecticut
ATTACH;FMTTYPE=image/jpeg:https://the-e-list.com/wp-content/uploads/2026/04/JointOpenHouseAdPicwithPeopleLyrs-scaled-e1775737920500.jpg
END:VEVENT
BEGIN:VEVENT
DTSTART;TZID=UTC:20260517T150000
DTEND;TZID=UTC:20260517T170000
DTSTAMP:20260422T161631
CREATED:20260131T204722Z
LAST-MODIFIED:20260225T145236Z
UID:10003299-1779030000-1779037200@the-e-list.com
SUMMARY:Vince Giordano & The Nighthawks Return to Essex Winter Series
DESCRIPTION:For this concert rescheduled from February\, Essex Winter Series Jazz Advisor Jeff Barnhart is thrilled to announce the return of fan favorite Vince Giordano\, who will lead his incredible jazz orchestra – The Nighthawks – for an afternoon of Hot and Sweet Music of the 1920s and ‘30s! \nBeyond at an Essex Winter Series performance\, you have probably heard or seen these outstanding musicians in many movies and streaming series\, but Vince told Jeff that our audiences are among the most rewarding he’s performed in front of\, averring “It’s like returning to visit old friends!” Indeed\, this concert marks the fifth time the group has appeared with Essex Winter Series\, making it the most requested jazz ensemble in the history of the series! Be sure you don’t miss this increasingly rare opportunity to experience the incredible jazz orchestra Vince Giordano & The Nighthawks outside of their NYC home! For this treat\, you’ll just have to get to Valley Regional High School in Deep River\, CT. \nThis concert will be followed by one more: The 49th season of Essex Winter Series concludes with its rescheduled January concert. Having crafted a season that weaves together stellar performances with the celebration of the 250th anniversary of America’s independence\, Artistic Director and flutist Tara Helen O’Connor has gathered friends for a program called Timeless Bonds & New Horizons. Joining Tara for the inaugural Mihae Lee Legacy Concert are Ani Kavafian\, violin; Peter Wiley\, cello; and Shai Wosner\, piano … four leading chamber musicians in an unforgettable collaboration to perform works by J.S.Bach\, Mel Bonis\, and Valerie Coleman\, culminating in Schubert’s ravishing Trio in B-flat Major\, D. 898. The performance will be on November 8\, 2026 at Valley Regional High School. \n\n\nConcerts are on Sundays at 3 pm and all seating is general admission. Adult – $45 / Student – $5. Discounted subscriptions and Flex Passes are available as well. Click for tickets and more information or call 860-272-4572. For all our venues\, parking\, entry and seating accessibility is available. \n2026 season sponsors include ASP Trust\, BrandTech Scientific\, Clark Group\, Essex Bank & Essex Financial Services\, Essex Meadows\, Jeffrey N. Mehler CFP LLC\, Masonicare at Chester Village\, Tower Laboratories\, and WSHU. We also gratefully acknowledge the support for our mission of concerts and community outreach received in part through grant funding by ASP Trust\, Community Foundation of Middlesex County\, Connecticut Office of the Arts/DECD/NEA\, Essex Bank Community Investment Program\, and The Kitchings Family Foundation.
URL:https://the-e-list.com/event/vince-giordano-the-nighthawks-return-to-essex-winter-series/
LOCATION:Valley Regional High School\, 256 Kelsey Hill Road\, Deep River\, CT\, United States
ATTACH;FMTTYPE=image/jpeg:https://the-e-list.com/wp-content/uploads/2026/01/Concert-May-650x450-for-E-List-Calendar-Rev-rgb.jpg
END:VEVENT
BEGIN:VEVENT
DTSTART;TZID=UTC:20260530T100000
DTEND;TZID=UTC:20260530T160000
DTSTAMP:20260422T161631
CREATED:20260311T195405Z
LAST-MODIFIED:20260313T132228Z
UID:10003341-1780135200-1780156800@the-e-list.com
SUMMARY:Guilford House Tour
DESCRIPTION:Back by Popular Demand: The Guilford House Tour! \nMark your calendars for Saturday\, May 30\, 2026 | 10 AM – 4 PM for a self-guided tour of unique homes all within one mile of the Guilford Green\, our starting point for the day. \nStep inside some of Guilford’s most fascinating and historic properties and experience the charm\, history\, and architectural beauty that makes Guilford so special. \nAdvance Tickets: $40 (Until 5:00 PM on 5/29)\nAvailable at Sachem Card & Party\, The Hartmann Group\, Breakwater Books\, or online at guilfordkeepingsociety.org \nDay-of Tickets: $45\nAvailable at the Guilford Green on May 30. \nLocation: Tour starting point is the Guilford Green-Broad and Whitfield Streets in Guilford. \nDon’t miss this rare opportunity to explore Guilford’s historic homes!
URL:https://the-e-list.com/event/guilford-house-tour-2/
LOCATION:Various locations in Guilford
ATTACH;FMTTYPE=image/png:https://the-e-list.com/wp-content/uploads/2026/03/60672509-cce9-4472-8ee5-e8cba06bc0ce.png
ORGANIZER;CN="Guilford Keeping Society":MAILTO:info@guilfordkeepingsociety.org
END:VEVENT
BEGIN:VEVENT
DTSTART;TZID=UTC:20260531T150000
DTEND;TZID=UTC:20260531T170000
DTSTAMP:20260422T161631
CREATED:20260316T164215Z
LAST-MODIFIED:20260316T164223Z
UID:10003353-1780239600-1780246800@the-e-list.com
SUMMARY:A Broadway Afternoon with Todd Ellison & Friends
DESCRIPTION:Enjoy an a afternoon of Broadway favorites — bold\, beloved\, and anything but formal. \nEssex hometown favorite and veteran Broadway Music Director Todd Ellison returns to The Kate with friends* from Broadway for an unforgettable\nafternoon of music — all to benefit two organizations close to his heart: Community Music School and Essex Veterans Memorial Hall. \n*artists subject to change. \nSunday\, May 31 at 3 pm\nThe Katharine Hepburn Cultural Arts Center\n300 Main Street\, Old Saybrook\, CT 06475 \nBox Office Phone: 860.510.0453 | Tickets are selling fast!  Purchase yours online today.\nTickets $100 -$150 + applicable service fee \nPresented by Community Music School and Essex Veterans Memorial Hall.
URL:https://the-e-list.com/event/a-broadway-afternoon-with-todd-ellison-friends/
LOCATION:The Kate\, 300 Main Street\, Old Saybrook\, 06475
ATTACH;FMTTYPE=image/jpeg:https://the-e-list.com/wp-content/uploads/2026/03/TEF-SM-3.5.26-scaled-e1773679113896.jpg
END:VEVENT
BEGIN:VEVENT
DTSTART;TZID=UTC:20260606T183000
DTEND;TZID=UTC:20260718T220000
DTSTAMP:20260422T161631
CREATED:20260422T122813Z
LAST-MODIFIED:20260422T122912Z
UID:10003396-1780770600-1784412000@the-e-list.com
SUMMARY:Summer Cooking Classes
DESCRIPTION:From Spring Awakening to Summer Feasts — The Season Ahead at Weekend Kitchen \nTheir garden is waking up\, the grills are being dusted off\, and Weekend Kitchen’s lineup of classes is hitting its most delicious stretch of the year. Four nights\, four extraordinary chefs\, four very different love letters to the season — here’s what’s coming. \nThey’ll open with Spring Awakening: An evening with Chef Aerin Zavory — a three-time Food Network winner whose cooking has the kind of elegance and restraint that lets each ingredient shine. Her menu reads like the market in May. You’ll begin with a shaved asparagus salad tossed with sherry vinegar and crowned with lacy parmesan crisps and a glossy olive-oil-confit egg yolk — a simple dish that tastes like spring itself. From there\, stuffed artichokes perfumed with lemon\, herbs\, breadcrumbs\, and parmesan; feather-light ricotta gnudi in a pan sauce of pancetta\, leeks\, and sweet spring peas; and a showstopping roast leg of lamb stuffed with mint\, garlic\, and pistachios. Finish with a crackling pavlova\, piled high with fresh berries and billows of chantilly cream. BYOB — bring something bright and herbaceous. It’s going to be a beautiful evening. \nThen head to the Mediterranean with a very special afternoon class led by Chef Jeremy Rock Smith. As summer settles in\, there’s no better time to bring the principles of longevity to the grill. In this class\, you’ll enjoy a Mediterranean\, plant-forward approach to grilling\, focusing on simple\, seasonal ingredients and the techniques that bring out their best. Get ready for a vibrant table of grilled dishes\, fresh salads\, and traditional mezze inspired by traditional Greek barbecue — where food is not just nourishment\, but a way of life. \nNext up\, Weekend Kitchen’s beloved annual Paella Party with Chef Dani Roche returns — always one of the most spirited nights on their calendar. Dani brings her signature warmth (and her giant pan) for an evening of saffron-scented rice\, sizzling socarrat\, and the kind of easygoing\, hands-on fun that has made this class a summer tradition. Come hungry\, come curious\, come ready to have a very good time. \nIn July\, Chef Jenn leads an ode to the classics of New England — a love letter to our own backyard. From buttery stuffed clams & baked beans to golden\, craggy-crusted fish and chips\, and blueberry hand pies- this is summer shoreline cooking at its very best. Expect to pick up the techniques that make these old favorites sing\, and to sit down to a meal that tastes like the coast itself. \nFour nights. Four chefs. One very delicious season ahead. Reserve your seat today — these classes fill quickly.
URL:https://the-e-list.com/event/summer-cooking-classes/
LOCATION:Venue provided upon registration.
ATTACH;FMTTYPE=image/jpeg:https://the-e-list.com/wp-content/uploads/2026/04/Jeremy-2.jpg
END:VEVENT
BEGIN:VEVENT
DTSTART;TZID=UTC:20260613T100000
DTEND;TZID=UTC:20260613T150000
DTSTAMP:20260422T161631
CREATED:20260419T124957Z
LAST-MODIFIED:20260419T140845Z
UID:10003391-1781344800-1781362800@the-e-list.com
SUMMARY:Hidden Gardens Tour
DESCRIPTION:The 2026 Hidden Gardens Tour marks the kickoff of the Essex Garden Club’s 75th year\, inviting visitors to explore a curated collection of eight private gardens in the Essex villages of Ivoryton and Centerbrook. \nEnjoy these unique New England gardens including a surprise roof-top garden of a prominent local business. June blooms featuring roses\, peonies\, bleeding hearts\, irises\, and wisteria-clad pergolas blend in well with shady woodland gardens of hostas\, native wildflowers\, and carpets of ferns and moss. Water features can be seen on this garden tour – from koi fishponds to a fishing ladder that encourages fish to swim upstream. Seasonal vegetable and cutting gardens are enclosed in a variety of square foot features. Patio and fire pit spaces are tucked away to enjoy the gardens day and night. Venture through gardens\, weaving along paths to some fun features such as a chicken coop turned into a resting spot\, or a gaggle of runner ducks excited to meet you. For the rock lover\, a cascading riverbed runs from top to bottom in one of the gardens. \nClick for tickets.  Please Note: Rain or shine. Non-refundable.\nNo dogs – while we love our furry friends\, they are not permitted during garden tours.\nComfortable walking shoes recommended\nGarden locations provided with ticket purchase \nLocation: Pick up your tickets and hidden garden listings at the Ivoryton Gazebo (opposite the Ivoryton Library\, 100 Main Street\, Ivoryton)\, then proceed at your own pace touring these beautiful gardens.
URL:https://the-e-list.com/event/hidden-gardens-tour/
LOCATION:Essex Villages of Ivoryton and Centerbrook
ATTACH;FMTTYPE=image/jpeg:https://the-e-list.com/wp-content/uploads/2026/04/EGC-Hidden-Garden-Tour-Photo-1.jpg
ORGANIZER;CN="Essex Garden Club":MAILTO:essexgardenclubct@gmail.com
END:VEVENT
END:VCALENDAR