BEGIN:VCALENDAR
VERSION:2.0
PRODID:-//The E List - ECPv6.15.20//NONSGML v1.0//EN
CALSCALE:GREGORIAN
METHOD:PUBLISH
X-ORIGINAL-URL:https://the-e-list.com
X-WR-CALDESC:Events for The E List
REFRESH-INTERVAL;VALUE=DURATION:PT1H
X-Robots-Tag:noindex
X-PUBLISHED-TTL:PT1H
BEGIN:VTIMEZONE
TZID:UTC
BEGIN:STANDARD
TZOFFSETFROM:+0000
TZOFFSETTO:+0000
TZNAME:UTC
DTSTART:20240101T000000
END:STANDARD
END:VTIMEZONE
BEGIN:VEVENT
DTSTART;TZID=UTC:20251207T140000
DTEND;TZID=UTC:20251207T160000
DTSTAMP:20260423T073540
CREATED:20251023T025420Z
LAST-MODIFIED:20251023T132859Z
UID:10003196-1765116000-1765123200@the-e-list.com
SUMMARY:Cappella Cantorum Winter Concert
DESCRIPTION:Give yourself the gift of music this holiday season! Join the Cappella Cantorum Masterworks Chorus and Cappella Orchestra as they ring in the holidays with Bach’s “Magnificat” and a joyful collection of seasonal favorites. The performance will be conducted by Dr. Irina Georgieva\, with featured guest soloists Kayla Cook\, Brooke Larimer\, Tim Lind and Ed Fitzpatrick. \nClick for tickets.
URL:https://the-e-list.com/event/cappella-cantorum-winter-concert-2/
LOCATION:John Winthrop Middle School\, 1 Winthrop Road\, Deep River\, 06417\, United States
ATTACH;FMTTYPE=image/jpeg:https://the-e-list.com/wp-content/uploads/2025/10/Winter-Concert-25-Singers-Grid-600x600-for-EList.jpg
ORGANIZER;CN="Cappella Cantorum":MAILTO:info@CappellaCantorum.org
END:VEVENT
BEGIN:VEVENT
DTSTART;TZID=UTC:20250504T150000
DTEND;TZID=UTC:20250504T170000
DTSTAMP:20260423T073540
CREATED:20250422T203619Z
LAST-MODIFIED:20250423T165456Z
UID:10002994-1746370800-1746378000@the-e-list.com
SUMMARY:Cappella Cantorum Spring Concert
DESCRIPTION:Cappella Cantorum Masterworks Chorus\, accompanied by the Cappella Orchestra\, will perform Mozart’s Requiem and Regina Coeli on Sunday\, May 4 at 3pm in Andrews Memorial Auditorium at Clinton Town Hall (54 East Main Street\, Clinton). A complimentary reception celebrating the 55th Anniversary of Cappella Cantorum will follow the concert. Don’t miss this exciting event! \nGet your tickets!
URL:https://the-e-list.com/event/cappella-cantorum-spring-concert/
LOCATION:Andrews Memorial Town Hall\, 54 East Main Street\, Clinton\, CT\, 06413\, United States
ATTACH;FMTTYPE=image/jpeg:https://the-e-list.com/wp-content/uploads/2025/04/DigitalAd_SmallJPGMay4A_final-e1745354173515.jpg
ORGANIZER;CN="Cappella Cantorum":MAILTO:info@CappellaCantorum.org
END:VEVENT
END:VCALENDAR