BEGIN:VCALENDAR
VERSION:2.0
PRODID:-//The E List - ECPv6.15.20//NONSGML v1.0//EN
CALSCALE:GREGORIAN
METHOD:PUBLISH
X-ORIGINAL-URL:https://the-e-list.com
X-WR-CALDESC:Events for The E List
REFRESH-INTERVAL;VALUE=DURATION:PT1H
X-Robots-Tag:noindex
X-PUBLISHED-TTL:PT1H
BEGIN:VTIMEZONE
TZID:UTC
BEGIN:STANDARD
TZOFFSETFROM:+0000
TZOFFSETTO:+0000
TZNAME:UTC
DTSTART:20250101T000000
END:STANDARD
END:VTIMEZONE
BEGIN:VEVENT
DTSTART;TZID=UTC:20260509T100000
DTEND;TZID=UTC:20260509T160000
DTSTAMP:20260422T221624
CREATED:20260323T201641Z
LAST-MODIFIED:20260324T143928Z
UID:10003360-1778320800-1778342400@the-e-list.com
SUMMARY:Chester Historic Homes Tour
DESCRIPTION:Ever wondered what’s behind the doors of Chester’s iconic homes? Now’s your chance to find out. The Chester Historical Society is hosting a walking tour of seven historically significant homes\, whose gracious owners are opening their doors to a limited number of visitors. \nThe houses are all centrally located\, within walking distance of designated free parking lots and Chester Village. Knowledgeable volunteers (and in some cases the homeowners themselves) will be on hand to share the stories behind the architecture\, renovations and history. \nAdvance tickets are $40 ($35 for CHS members) and available now!  But don’t wait \, advance sales end May 5\, and tickets are limited. After that\, remaining tickets go for $50 at the door. \nChester’s excellent restaurants are nearby when you’re ready for lunch\, ice cream or beverages. \nLocation: All ticket holders must check in at the Chester Meeting House (4 Liberty St.) on Friday afternoon (May 8) or Saturday (May 9) to receive a wristband to serve as your admission ticket to each home along with a commemorative program with details about each home and a map.
URL:https://the-e-list.com/event/chester-historic-homes-tour/
LOCATION:Chester\, CT\, Chester\, CT\, United States
ATTACH;FMTTYPE=image/jpeg:https://the-e-list.com/wp-content/uploads/2026/03/Historic-Homes-Tour-resized.jpg
ORGANIZER;CN="Chester Historical Society":MAILTO: chestercthistoricalsociety@gmail.com 
END:VEVENT
END:VCALENDAR