BEGIN:VCALENDAR
VERSION:2.0
PRODID:-//The E List - ECPv6.15.20//NONSGML v1.0//EN
CALSCALE:GREGORIAN
METHOD:PUBLISH
X-WR-CALNAME:The E List
X-ORIGINAL-URL:https://the-e-list.com
X-WR-CALDESC:Events for The E List
REFRESH-INTERVAL;VALUE=DURATION:PT1H
X-Robots-Tag:noindex
X-PUBLISHED-TTL:PT1H
BEGIN:VTIMEZONE
TZID:UTC
BEGIN:STANDARD
TZOFFSETFROM:+0000
TZOFFSETTO:+0000
TZNAME:UTC
DTSTART:20240101T000000
END:STANDARD
END:VTIMEZONE
BEGIN:VEVENT
DTSTART;TZID=UTC:20251019T160000
DTEND;TZID=UTC:20251019T180000
DTSTAMP:20260424T223915
CREATED:20250818T175356Z
LAST-MODIFIED:20250818T175423Z
UID:10003118-1760889600-1760896800@the-e-list.com
SUMMARY:Silver Threads and Linda Ronstadt Tribute Band concert
DESCRIPTION:Linda Ronstadt’s music is coming to Clinton on Sunday October 19th at 4pm. \nSponsored by The Clinton Rotary Club directed by Tony Raucci – TJR Productions. \nThe nationally acclaimed Linda Ronstadt Band “Silver Threads” will be performing her music at the Clinton Town Hall theater for the Performing Arts. All tickets are $25.00 General Admission. \nClick for tickets.\nCome and enjoy an afternoon of the music of this very iconic artist\nAny questions please call Tony Raucci 203-988-7989.
URL:https://the-e-list.com/event/silver-threads-and-linda-ronstadt-tribute-band-concert/
LOCATION:Clinton Town Hall Theater for the Performing\, 54 E Main Street\, Clinton\, CT
ATTACH;FMTTYPE=image/jpeg:https://the-e-list.com/wp-content/uploads/2025/08/Edit-Silver-Threads-Show-Poster-2025-1-jpg-e1755539285718.jpg
END:VEVENT
END:VCALENDAR