BEGIN:VCALENDAR
VERSION:2.0
PRODID:-//The E List - ECPv6.15.20//NONSGML v1.0//EN
CALSCALE:GREGORIAN
METHOD:PUBLISH
X-ORIGINAL-URL:https://the-e-list.com
X-WR-CALDESC:Events for The E List
REFRESH-INTERVAL;VALUE=DURATION:PT1H
X-Robots-Tag:noindex
X-PUBLISHED-TTL:PT1H
BEGIN:VTIMEZONE
TZID:UTC
BEGIN:STANDARD
TZOFFSETFROM:+0000
TZOFFSETTO:+0000
TZNAME:UTC
DTSTART:20230101T000000
END:STANDARD
END:VTIMEZONE
BEGIN:VEVENT
DTSTART;TZID=UTC:20241024T173000
DTEND;TZID=UTC:20241024T193000
DTSTAMP:20260423T030135
CREATED:20240911T143755Z
LAST-MODIFIED:20240914T120104Z
UID:10002728-1729791000-1729798200@the-e-list.com
SUMMARY:"Musical Chairs" Fundraiser for Community Music School
DESCRIPTION:Wine\, beer\, hors d’oeuvres\, music and fun!\nJoin Community Music School for a truly unique event at the Lyme Art Association featuring beautiful displays of chairs and chair-themed art available for sale through silent auction\, while supporting the 501(c)(3) non-profit Community Music School of Centerbrook\, CT. Tickets are $75 and include beer/wine and Hors d’oeuvres. \nClick to purchase tickets.
URL:https://the-e-list.com/event/musical-chairs-fundraiser-for-community-music-school/
LOCATION:Lyme Art Association\, 90 Lyme Street\, Old Lyme\, CT\, 06371\, United States
ATTACH;FMTTYPE=image/jpeg:https://the-e-list.com/wp-content/uploads/2024/09/Musical-chairs-logo-rough-snip.jpg
END:VEVENT
END:VCALENDAR