BEGIN:VCALENDAR
VERSION:2.0
PRODID:-//The E List - ECPv6.15.20//NONSGML v1.0//EN
CALSCALE:GREGORIAN
METHOD:PUBLISH
X-WR-CALNAME:The E List
X-ORIGINAL-URL:https://the-e-list.com
X-WR-CALDESC:Events for The E List
REFRESH-INTERVAL;VALUE=DURATION:PT1H
X-Robots-Tag:noindex
X-PUBLISHED-TTL:PT1H
BEGIN:VTIMEZONE
TZID:UTC
BEGIN:STANDARD
TZOFFSETFROM:+0000
TZOFFSETTO:+0000
TZNAME:UTC
DTSTART:20250101T000000
END:STANDARD
END:VTIMEZONE
BEGIN:VTIMEZONE
TZID:America/New_York
BEGIN:DAYLIGHT
TZOFFSETFROM:-0500
TZOFFSETTO:-0400
TZNAME:EDT
DTSTART:20220313T070000
END:DAYLIGHT
BEGIN:STANDARD
TZOFFSETFROM:-0400
TZOFFSETTO:-0500
TZNAME:EST
DTSTART:20221106T060000
END:STANDARD
BEGIN:DAYLIGHT
TZOFFSETFROM:-0500
TZOFFSETTO:-0400
TZNAME:EDT
DTSTART:20230312T070000
END:DAYLIGHT
BEGIN:STANDARD
TZOFFSETFROM:-0400
TZOFFSETTO:-0500
TZNAME:EST
DTSTART:20231105T060000
END:STANDARD
BEGIN:DAYLIGHT
TZOFFSETFROM:-0500
TZOFFSETTO:-0400
TZNAME:EDT
DTSTART:20240310T070000
END:DAYLIGHT
BEGIN:STANDARD
TZOFFSETFROM:-0400
TZOFFSETTO:-0500
TZNAME:EST
DTSTART:20241103T060000
END:STANDARD
END:VTIMEZONE
BEGIN:VEVENT
DTSTART;TZID=UTC:20260409T180000
DTEND;TZID=UTC:20260409T210000
DTSTAMP:20260423T093447
CREATED:20260323T193818Z
LAST-MODIFIED:20260323T193827Z
UID:10003362-1775757600-1775768400@the-e-list.com
SUMMARY:Connecticut River Museum's Annual Brenda Milkofsky Curatorial Fund Dinner
DESCRIPTION:Don’t miss this splendid evening. Support the Connecticut River Museum’s collections and archives and enjoy lively conversation\, a delectable dinner\, and the chance to engage with one of Connecticut’s finest historians\, Amy Kurtz Lansing\, Curator at the Florence Griswold Museum in Old Lyme\, Connecticut. \nFor over a century\, the Wiggins family of artists—Carleton\, Guy C.\, and Guy A.—recorded southeastern Connecticut’s scenic waterways\, towns\, and landscapes in their paintings. Committed teachers\, they encouraged their pupils to do the same\, most notably at the Guy Wiggins Art School that Guy C. opened in Essex during the Great Depression. Celebrating the donation of Guy C. Wiggins’s painting of a dock now belonging to the Museum\, this lecture by Amy Kurtz Lansing will illustrate the family’s artistic legacy in Connecticut\, from Old Lyme to Essex. \nReserve your tickets.
URL:https://the-e-list.com/event/connecticut-river-museums-annual-brenda-milkofsky-curatorial-fund-dinner/
LOCATION:Saybrook Point Resort & Marina\, 2 Bridge Street\, Old Saybrook\, CT\, 06475\, United States
ATTACH;FMTTYPE=image/jpeg:https://the-e-list.com/wp-content/uploads/2026/03/Guy-C.-Wiggins-Connecticut-River-Museum-Dock-Painting-e1774294504139.jpg
END:VEVENT
BEGIN:VEVENT
DTSTART;TZID=America/New_York:20231206T180000
DTEND;TZID=America/New_York:20231206T210000
DTSTAMP:20260423T093447
CREATED:20231116T202747Z
LAST-MODIFIED:20231116T202747Z
UID:10002366-1701885600-1701896400@the-e-list.com
SUMMARY:Mistletoe and Martinis to Benefit the Connecticut River Museum
DESCRIPTION:The Connecticut River Museum will host its highly anticipated annual holiday event\, Mistletoe and Martinis! This cocktail event will take place on Wednesday\, December 6th at the beautifully renovated Brushmill by the Waterfall in Chester. Get ready for an unforgettable evening filled with merriment and joy. This year’s event will feature a festive selection of martinis\, delectable hors d’oeuvres\, music\, the chance to win a stunning piece of diamond jewelry from Becker’s Diamonds and Jewelers\, and lots more. As the Museum has just kicked off it’s 50th Anniversary\, this year’s Mistletoe and Martinis promises to be more exciting than ever! \nYou don’t want to miss fantastic evening!  Click here to purchase your tickets today as tickets sell out fast! Ticket prices start are $85.
URL:https://the-e-list.com/event/mistletoe-and-martinis-to-benefit-the-connecticut-river-museum/
LOCATION:Savour 2023 Holiday Menu
ATTACH;FMTTYPE=image/png:https://the-e-list.com/wp-content/uploads/2023/11/MM-e-list-2.png
END:VEVENT
BEGIN:VEVENT
DTSTART;TZID=America/New_York:20231126T100000
DTEND;TZID=America/New_York:20231126T180000
DTSTAMP:20260423T093447
CREATED:20231116T203705Z
LAST-MODIFIED:20231116T203705Z
UID:10002373-1700992800-1701021600@the-e-list.com
SUMMARY:Connecticut River Museum's Trees in the Rigging
DESCRIPTION:Trees in the Rigging is back and bigger than ever! Join the Connecticut River Museum for a full day of festive fun! In collaboration with the Essex Historical Society and Safe Harbor Dauntless & Essex Island\, the Connecticut River Museum is thrilled that the celebration is expanding! \nStarting at 10 am\, immerse yourself in the enchanting Annual Holiday Train Show. At noon\, kickstart your holiday shopping on the North Deck\, exploring a delightful Holiday Market filled with unique and wonderful items. The little ones can join in on the fun with children’s craft activities also starting at noon. Warm up and indulge in a cup of delicious hot chocolate. As the day progresses\, at 4:30 pm\, partake in a beloved tradition – a lantern-lit carol stroll from Essex Town Hall to the Connecticut River Museum. And at 5:00pm don’t forget to marvel at the stunning light displays crafted by local boaters during the Boat Parade. There’s something for everyone to enjoy during this festive celebration. \nNovember 26\, 2023 \n10:00am-6:00pm \n10:00am – Holiday Train Show \n12:00pm- Holiday Market \n12:00- Children’s activities \n4:30pm – Parade – lantern lit carol stroll \n5:00pm- Boat Parade \n\n\n 
URL:https://the-e-list.com/event/connecticut-river-museums-trees-in-the-rigging/
LOCATION:Downtown Essex\, Main St\, Essex\, CT\, United States
ATTACH;FMTTYPE=image/png:https://the-e-list.com/wp-content/uploads/2023/11/TIR.png
END:VEVENT
BEGIN:VEVENT
DTSTART;TZID=America/New_York:20230404T180000
DTEND;TZID=America/New_York:20230404T190000
DTSTAMP:20260423T093447
CREATED:20230301T120955Z
LAST-MODIFIED:20230301T120955Z
UID:10002089-1680631200-1680634800@the-e-list.com
SUMMARY:STEAMgirls at the Connecticut River Museum: Shani Mensing
DESCRIPTION:Shani Mensing: Maker Space \nA FREE virtual program to serve girls\, age 10-16\, interested in studying the academic areas of STEAM: Science\, Technology\, Engineering\, Art\, and Mathematics. \nSTEAMgirls participants meet and speak with accomplished young women\, learning first-hand about the career successes women are experiencing in all areas of STEAM; providing young girls with knowledge that may ignite their passion for the future. \n\nShani Mensing is the Fimbel Maker & Innovation Lab Coordinator and Technical Specialist and co-founder of iDesign Studios Course. She works to assist the MHC community in academic collaboration with the Makerspace as well as across disciplines. She is currently a Ph.D student in the Math\, Science & Learning Technology Education program at UMass Amherst. Mensing oversees activities\, training\, and workshops in the Fimbel Lab as well as maintaining and educating the community on the equipment housed in the Lab. She also supervises and trains Fimbel Lab student staff\, on an ongoing basis\, to assist in building interest and projects in the Lab. \nFor more information and to register for this free online event Click Here.
URL:https://the-e-list.com/event/steamgirls-at-the-connecticut-river-museum-shani-mensing/
ATTACH;FMTTYPE=image/png:https://the-e-list.com/wp-content/uploads/2023/03/Shani-Mensing-Shani_landscape.png
END:VEVENT
BEGIN:VEVENT
DTSTART;TZID=America/New_York:20230301T180000
DTEND;TZID=America/New_York:20230301T190000
DTSTAMP:20260423T093447
CREATED:20230301T115318Z
LAST-MODIFIED:20230301T115318Z
UID:10002087-1677693600-1677697200@the-e-list.com
SUMMARY:STEAMgirls at the Connecticut River Museum: Erica Cirino
DESCRIPTION:Erica Cirino: Writer\, Artist\, and Wildlife Rehabilitation \nA FREE virtual program to serve girls\, age 10-16\, interested in studying the academic areas of STEAM: Science\, Technology\, Engineering\, Art\, and Mathematics. \nErica Cirino is a writer\, artist\, and wildlife rehabilitator who explores the intersection of the human and non-human worlds. She is currently writing a book about the global plastic pollution crisis and her experiences covering the issue\, documenting plastic pollution in nature\, the latest science that measures the extent of the crisis\, and new solutions that could prevent further ecological destruction and harm to wildlife. \nSTEAMgirls participants meet and speak with accomplished young women\, learning first-hand about the career successes women are experiencing in all areas of STEAM; providing young girls with knowledge that may ignite their passion for the future. \nFor more information and to register for this free online event Click Here.
URL:https://the-e-list.com/event/steamgirls-at-the-connecticut-river-museum-erica-cirino/
ATTACH;FMTTYPE=image/jpeg:https://the-e-list.com/wp-content/uploads/2023/03/ericacirino.jpeg
END:VEVENT
END:VCALENDAR