BEGIN:VCALENDAR
VERSION:2.0
PRODID:-//The E List - ECPv6.15.20//NONSGML v1.0//EN
CALSCALE:GREGORIAN
METHOD:PUBLISH
X-WR-CALNAME:The E List
X-ORIGINAL-URL:https://the-e-list.com
X-WR-CALDESC:Events for The E List
REFRESH-INTERVAL;VALUE=DURATION:PT1H
X-Robots-Tag:noindex
X-PUBLISHED-TTL:PT1H
BEGIN:VTIMEZONE
TZID:America/New_York
BEGIN:DAYLIGHT
TZOFFSETFROM:-0500
TZOFFSETTO:-0400
TZNAME:EDT
DTSTART:20220313T070000
END:DAYLIGHT
BEGIN:STANDARD
TZOFFSETFROM:-0400
TZOFFSETTO:-0500
TZNAME:EST
DTSTART:20221106T060000
END:STANDARD
BEGIN:DAYLIGHT
TZOFFSETFROM:-0500
TZOFFSETTO:-0400
TZNAME:EDT
DTSTART:20230312T070000
END:DAYLIGHT
BEGIN:STANDARD
TZOFFSETFROM:-0400
TZOFFSETTO:-0500
TZNAME:EST
DTSTART:20231105T060000
END:STANDARD
BEGIN:DAYLIGHT
TZOFFSETFROM:-0500
TZOFFSETTO:-0400
TZNAME:EDT
DTSTART:20240310T070000
END:DAYLIGHT
BEGIN:STANDARD
TZOFFSETFROM:-0400
TZOFFSETTO:-0500
TZNAME:EST
DTSTART:20241103T060000
END:STANDARD
END:VTIMEZONE
BEGIN:VEVENT
DTSTART;VALUE=DATE:20231101
DTEND;VALUE=DATE:20231201
DTSTAMP:20260423T155224
CREATED:20230530T191255Z
LAST-MODIFIED:20230530T191255Z
UID:10002309-1698796800-1701388799@the-e-list.com
SUMMARY:Old Saybrook Walking Food Tours
DESCRIPTION:History\, Food\, and Walking all included! \n– 1.5 mile walk over three hours\n– Stops at 3 – 4 restaurants where carefully prepared small plates will be served\n– Water available and other beverages may be purchased\n– History of Old Saybrook\n– Tours are Wednesdays through Saturdays year-round – other days may be available upon request. \nDiane is looking forward to taking you on a tour of downtown Old Saybrook. We will meet at a designated spot and walk to three or four restaurants. Diane will highlight some of the prominent figures in Old Saybrook history and point out historic spots along the way\, sharing her love of Old Saybrook and passion for its history. You will experience the food\, vibrant retail scene\, and history of downtown. Tours are limited to a maximum of eight people. \nFor more information and to register for tours\, Click Here. \n@ctshorewalkingfoodtours
URL:https://the-e-list.com/event/old-saybrook-walking-food-tours/
ATTACH;FMTTYPE=image/jpeg:https://the-e-list.com/wp-content/uploads/2023/05/My-project-1-5-e1685970238122.jpeg
ORGANIZER;CN="CT Shore Walking Food Tours":MAILTO:ctshoretours.oldsaybrook@gmail.com
END:VEVENT
END:VCALENDAR