BEGIN:VCALENDAR
VERSION:2.0
PRODID:-//The E List - ECPv6.15.20//NONSGML v1.0//EN
CALSCALE:GREGORIAN
METHOD:PUBLISH
X-ORIGINAL-URL:https://the-e-list.com
X-WR-CALDESC:Events for The E List
REFRESH-INTERVAL;VALUE=DURATION:PT1H
X-Robots-Tag:noindex
X-PUBLISHED-TTL:PT1H
BEGIN:VTIMEZONE
TZID:UTC
BEGIN:STANDARD
TZOFFSETFROM:+0000
TZOFFSETTO:+0000
TZNAME:UTC
DTSTART:20230101T000000
END:STANDARD
END:VTIMEZONE
BEGIN:VEVENT
DTSTART;TZID=UTC:20240506T190000
DTEND;TZID=UTC:20240506T200000
DTSTAMP:20260425T011717
CREATED:20240408T173557Z
LAST-MODIFIED:20240410T194756Z
UID:10002572-1715022000-1715025600@the-e-list.com
SUMMARY:Ct Valley Camera Club Open House
DESCRIPTION:PHOTOGRAPHY OPEN HOUSE: Are you interested in photography? Would you like to get better results?? The CT Valley Camera Club is hosting an open house on Monday\, May 6 at 7:00 at the Old Lyme- Phoebe Griffin-Noyes Library. Three speakers will give tips on improving your results in areas such as sports\, landscape\, and nature photography. Whether you have a smartphone or a digital camera\, the information will be usable to you. The one hour session is free\, will be followed by refreshments and an opportunity to talk with the presenters and other club members \nThe event will be held in the Community Room at the Old Lyme-Phoebe Griffin Noyes Library\, 2 Library Lane\, Old Lyme\, CT.  For questions and more information call Richard at 860-575-6763 or email him at rspearrin@gmail.com.
URL:https://the-e-list.com/event/ct-valley-camera-club-open-house/
LOCATION:Old Lyme Phoebe Griffin Noyes Library\, 2 Library Lane\, Old Lyme\, Connecticut\, 06371\, United States
ATTACH;FMTTYPE=image/jpeg:https://the-e-list.com/wp-content/uploads/2024/04/Club-Shot-2-1-of-1-scaled-e1712597627588.jpg
ORGANIZER;CN="CT Valley Camera Club":MAILTO:rspearrin@gmail.com
END:VEVENT
END:VCALENDAR