BEGIN:VCALENDAR
VERSION:2.0
PRODID:-//The E List - ECPv6.15.20//NONSGML v1.0//EN
CALSCALE:GREGORIAN
METHOD:PUBLISH
X-ORIGINAL-URL:https://the-e-list.com
X-WR-CALDESC:Events for The E List
REFRESH-INTERVAL;VALUE=DURATION:PT1H
X-Robots-Tag:noindex
X-PUBLISHED-TTL:PT1H
BEGIN:VTIMEZONE
TZID:UTC
BEGIN:STANDARD
TZOFFSETFROM:+0000
TZOFFSETTO:+0000
TZNAME:UTC
DTSTART:20250101T000000
END:STANDARD
END:VTIMEZONE
BEGIN:VEVENT
DTSTART;TZID=UTC:20260530T100000
DTEND;TZID=UTC:20260530T160000
DTSTAMP:20260422T221947
CREATED:20260311T195405Z
LAST-MODIFIED:20260313T132228Z
UID:10003341-1780135200-1780156800@the-e-list.com
SUMMARY:Guilford House Tour
DESCRIPTION:Back by Popular Demand: The Guilford House Tour! \nMark your calendars for Saturday\, May 30\, 2026 | 10 AM – 4 PM for a self-guided tour of unique homes all within one mile of the Guilford Green\, our starting point for the day. \nStep inside some of Guilford’s most fascinating and historic properties and experience the charm\, history\, and architectural beauty that makes Guilford so special. \nAdvance Tickets: $40 (Until 5:00 PM on 5/29)\nAvailable at Sachem Card & Party\, The Hartmann Group\, Breakwater Books\, or online at guilfordkeepingsociety.org \nDay-of Tickets: $45\nAvailable at the Guilford Green on May 30. \nLocation: Tour starting point is the Guilford Green-Broad and Whitfield Streets in Guilford. \nDon’t miss this rare opportunity to explore Guilford’s historic homes!
URL:https://the-e-list.com/event/guilford-house-tour-2/
LOCATION:Various locations in Guilford
ATTACH;FMTTYPE=image/png:https://the-e-list.com/wp-content/uploads/2026/03/60672509-cce9-4472-8ee5-e8cba06bc0ce.png
ORGANIZER;CN="Guilford Keeping Society":MAILTO:info@guilfordkeepingsociety.org
END:VEVENT
END:VCALENDAR