BEGIN:VCALENDAR
VERSION:2.0
PRODID:-//The E List - ECPv6.15.20//NONSGML v1.0//EN
CALSCALE:GREGORIAN
METHOD:PUBLISH
X-WR-CALNAME:The E List
X-ORIGINAL-URL:https://the-e-list.com
X-WR-CALDESC:Events for The E List
REFRESH-INTERVAL;VALUE=DURATION:PT1H
X-Robots-Tag:noindex
X-PUBLISHED-TTL:PT1H
BEGIN:VTIMEZONE
TZID:America/New_York
BEGIN:DAYLIGHT
TZOFFSETFROM:-0500
TZOFFSETTO:-0400
TZNAME:EDT
DTSTART:20220313T070000
END:DAYLIGHT
BEGIN:STANDARD
TZOFFSETFROM:-0400
TZOFFSETTO:-0500
TZNAME:EST
DTSTART:20221106T060000
END:STANDARD
BEGIN:DAYLIGHT
TZOFFSETFROM:-0500
TZOFFSETTO:-0400
TZNAME:EDT
DTSTART:20230312T070000
END:DAYLIGHT
BEGIN:STANDARD
TZOFFSETFROM:-0400
TZOFFSETTO:-0500
TZNAME:EST
DTSTART:20231105T060000
END:STANDARD
BEGIN:DAYLIGHT
TZOFFSETFROM:-0500
TZOFFSETTO:-0400
TZNAME:EDT
DTSTART:20240310T070000
END:DAYLIGHT
BEGIN:STANDARD
TZOFFSETFROM:-0400
TZOFFSETTO:-0500
TZNAME:EST
DTSTART:20241103T060000
END:STANDARD
END:VTIMEZONE
BEGIN:VEVENT
DTSTART;TZID=America/New_York:20231026T160000
DTEND;TZID=America/New_York:20231026T190000
DTSTAMP:20260424T004846
CREATED:20231016T085858Z
LAST-MODIFIED:20231016T085858Z
UID:10002345-1698336000-1698346800@the-e-list.com
SUMMARY:Lalaine Trunk Show at J. Horton to Benefit Smilow Cancer Hospital
DESCRIPTION:Join Joanie at J. Horton in Madison for an exclusive Trunk Show of Lalaine Wool Coats on Thursday\, October 26th from 4 – 7pm. The Designer of Lalaine will be instore on Friday\, October 27th from 11 – 6. These easy-to-wear and elegant outerwear pieces will be the staple of your winter wardrobe. Plus 20% of the proceeds will be donated to Smilow Cancer Hospital. Win\, win! \nHave a look at the collection here: https://www.lalaine.co/
URL:https://the-e-list.com/event/lalaine-trunk-show-at-j-horton-to-benefit-smilow-cancer-hospital/
LOCATION:J. Horton\, 690 Boston Post Road\, Madison\, 06443\, United States
ATTACH;FMTTYPE=image/jpeg:https://the-e-list.com/wp-content/uploads/2023/10/LALAINE_CLOTHING-1-2-e1697461114727.jpg
END:VEVENT
END:VCALENDAR