BEGIN:VCALENDAR
VERSION:2.0
PRODID:-//The E List - ECPv6.15.20//NONSGML v1.0//EN
CALSCALE:GREGORIAN
METHOD:PUBLISH
X-ORIGINAL-URL:https://the-e-list.com
X-WR-CALDESC:Events for The E List
REFRESH-INTERVAL;VALUE=DURATION:PT1H
X-Robots-Tag:noindex
X-PUBLISHED-TTL:PT1H
BEGIN:VTIMEZONE
TZID:America/New_York
BEGIN:DAYLIGHT
TZOFFSETFROM:-0500
TZOFFSETTO:-0400
TZNAME:EDT
DTSTART:20200308T070000
END:DAYLIGHT
BEGIN:STANDARD
TZOFFSETFROM:-0400
TZOFFSETTO:-0500
TZNAME:EST
DTSTART:20201101T060000
END:STANDARD
BEGIN:DAYLIGHT
TZOFFSETFROM:-0500
TZOFFSETTO:-0400
TZNAME:EDT
DTSTART:20210314T070000
END:DAYLIGHT
BEGIN:STANDARD
TZOFFSETFROM:-0400
TZOFFSETTO:-0500
TZNAME:EST
DTSTART:20211107T060000
END:STANDARD
BEGIN:DAYLIGHT
TZOFFSETFROM:-0500
TZOFFSETTO:-0400
TZNAME:EDT
DTSTART:20220313T070000
END:DAYLIGHT
BEGIN:STANDARD
TZOFFSETFROM:-0400
TZOFFSETTO:-0500
TZNAME:EST
DTSTART:20221106T060000
END:STANDARD
BEGIN:DAYLIGHT
TZOFFSETFROM:-0500
TZOFFSETTO:-0400
TZNAME:EDT
DTSTART:20230312T070000
END:DAYLIGHT
BEGIN:STANDARD
TZOFFSETFROM:-0400
TZOFFSETTO:-0500
TZNAME:EST
DTSTART:20231105T060000
END:STANDARD
BEGIN:DAYLIGHT
TZOFFSETFROM:-0500
TZOFFSETTO:-0400
TZNAME:EDT
DTSTART:20240310T070000
END:DAYLIGHT
BEGIN:STANDARD
TZOFFSETFROM:-0400
TZOFFSETTO:-0500
TZNAME:EST
DTSTART:20241103T060000
END:STANDARD
END:VTIMEZONE
BEGIN:VEVENT
DTSTART;TZID=America/New_York:20230817T173000
DTEND;TZID=America/New_York:20230817T200000
DTSTAMP:20260425T182153
CREATED:20230803T164141Z
LAST-MODIFIED:20230803T164141Z
UID:10002281-1692293400-1692302400@the-e-list.com
SUMMARY:13th Annual Beachcomber Night in Downtown Madison
DESCRIPTION:Bring your friends and family to downtown Madison on August 17th for a wonderful coastal CT summer evening! Beachcomber is an annual outdoor event in downtown Madison with food trucks\, live music\, shopping\, and wine & beer tastings along Boston Post Road & Wall Street. \nMadison Chamber of Commerce will be donating a portion of the event proceeds to benefit both Madison Volunteer Fire Departments. \nBeachcomber drink bracelets are on sale by visiting: \nwww.chamberorganizer.com/members
URL:https://the-e-list.com/event/13th-annual-beachcomber-night-in-downtown-madison/
ATTACH;FMTTYPE=image/png:https://the-e-list.com/wp-content/uploads/2023/08/BEACHCOMBER-2023-e1691094972155.png
END:VEVENT
BEGIN:VEVENT
DTSTART;TZID=America/New_York:20230727T090000
DTEND;TZID=America/New_York:20230730T170000
DTSTAMP:20260425T182153
CREATED:20230724T151143Z
LAST-MODIFIED:20230724T151143Z
UID:10002280-1690448400-1690736400@the-e-list.com
SUMMARY:Madison Sidewalk Sale
DESCRIPTION:Our annual Sidewalk Events feature great bargains at our fabulous Madison shops! Come and shop bargains galore\, down by the shore! \nFor more information\, Click Here.
URL:https://the-e-list.com/event/madison-sidewalk-sale/
ATTACH;FMTTYPE=image/jpeg:https://the-e-list.com/wp-content/uploads/2023/07/362623501_675184797979046_3487166794475233305_n-e1690225310455.jpeg
END:VEVENT
BEGIN:VEVENT
DTSTART;TZID=America/New_York:20230225T120000
DTEND;TZID=America/New_York:20230225T143000
DTSTAMP:20260425T182153
CREATED:20230210T165938Z
LAST-MODIFIED:20230210T165938Z
UID:10002070-1677326400-1677335400@the-e-list.com
SUMMARY:Souper Bowl
DESCRIPTION:7th Annual Souper Bowl on the sidewalks of Downtown Madison! \nThis fun\, family-friendly outdoor Winter event will feature the best Soups & Chili the Shoreline has to offer. The public will be tasting & voting for their favorites in each category. \n(Inclement weather date: Sunday\, 2/26) \nFor more information visit: www.madisonct.com
URL:https://the-e-list.com/event/souper-bowl/
ATTACH;FMTTYPE=image/png:https://the-e-list.com/wp-content/uploads/2023/02/Screenshot-2023-01-26-at-11.30.25-AM-e1676065752568.png
END:VEVENT
BEGIN:VEVENT
DTSTART;TZID=America/New_York:20210722T100000
DTEND;TZID=America/New_York:20210725T180000
DTSTAMP:20260425T182153
CREATED:20210719T073815Z
LAST-MODIFIED:20210719T073815Z
UID:10000319-1626948000-1627236000@the-e-list.com
SUMMARY:Madison Sidewalk Sales
DESCRIPTION:Enjoy an annual bargain hunter’s paradise as shops slash prices during Madison’s Sidewalk Sale Days from July 22nd through July 25th. Most stores open 10am to 6pm and later on Thursday. Please note: not all stores open on Sunday.
URL:https://the-e-list.com/event/madison-sidewalk-sales/
LOCATION:Downtown Madison\, 725 Boston Post Road\, Madison\, CT\, 06443\, United States
END:VEVENT
END:VCALENDAR