BEGIN:VCALENDAR
VERSION:2.0
PRODID:-//The E List - ECPv6.15.20//NONSGML v1.0//EN
CALSCALE:GREGORIAN
METHOD:PUBLISH
X-ORIGINAL-URL:https://the-e-list.com
X-WR-CALDESC:Events for The E List
REFRESH-INTERVAL;VALUE=DURATION:PT1H
X-Robots-Tag:noindex
X-PUBLISHED-TTL:PT1H
BEGIN:VTIMEZONE
TZID:UTC
BEGIN:STANDARD
TZOFFSETFROM:+0000
TZOFFSETTO:+0000
TZNAME:UTC
DTSTART:20230101T000000
END:STANDARD
END:VTIMEZONE
BEGIN:VTIMEZONE
TZID:America/New_York
BEGIN:DAYLIGHT
TZOFFSETFROM:-0500
TZOFFSETTO:-0400
TZNAME:EDT
DTSTART:20220313T070000
END:DAYLIGHT
BEGIN:STANDARD
TZOFFSETFROM:-0400
TZOFFSETTO:-0500
TZNAME:EST
DTSTART:20221106T060000
END:STANDARD
BEGIN:DAYLIGHT
TZOFFSETFROM:-0500
TZOFFSETTO:-0400
TZNAME:EDT
DTSTART:20230312T070000
END:DAYLIGHT
BEGIN:STANDARD
TZOFFSETFROM:-0400
TZOFFSETTO:-0500
TZNAME:EST
DTSTART:20231105T060000
END:STANDARD
BEGIN:DAYLIGHT
TZOFFSETFROM:-0500
TZOFFSETTO:-0400
TZNAME:EDT
DTSTART:20240310T070000
END:DAYLIGHT
BEGIN:STANDARD
TZOFFSETFROM:-0400
TZOFFSETTO:-0500
TZNAME:EST
DTSTART:20241103T060000
END:STANDARD
END:VTIMEZONE
BEGIN:VEVENT
DTSTART;TZID=UTC:20240608T183000
DTEND;TZID=UTC:20240608T203000
DTSTAMP:20260425T102149
CREATED:20240515T145951Z
LAST-MODIFIED:20240515T150012Z
UID:10002613-1717871400-1717878600@the-e-list.com
SUMMARY:Pass The Guitar Comes to Madison
DESCRIPTION:Hugh Birdsall\, Dogbite\, and more of the best local talent will gather in Madison on Saturday\, June 8th to support the New London Homeless Hospitality Center. One dozen musicians\, one song each\, one guitar\, in the spirit of extending a hand of hope and help to our neighbors experiencing homelessness. \nPizza\, wine\, beer\, and soft drinks are available for donation. \nAdvance ticket purchase is recommended. Click to buy your tickets for $15.
URL:https://the-e-list.com/event/pass-the-guitar-comes-to-madison/
LOCATION:Shoreline Unitarian Universalist Society\, 297 Boston Post Road\, Madison\, CT\, 06443\, United States
ATTACH;FMTTYPE=image/png:https://the-e-list.com/wp-content/uploads/2024/05/Pass-the-guitar-june-6-instagram-e1715784978461.png
ORGANIZER;CN="New London Homeless Hospitality Center":MAILTO:info@nlhhc.org
END:VEVENT
BEGIN:VEVENT
DTSTART;TZID=UTC:20240428T120000
DTEND;TZID=UTC:20240428T150000
DTSTAMP:20260425T102149
CREATED:20240322T203124Z
LAST-MODIFIED:20240322T203158Z
UID:10002550-1714305600-1714316400@the-e-list.com
SUMMARY:17th Annual Walk to End Homelessness
DESCRIPTION:Southeast Connecticut’s 17th Annual Walk to End Homelessness will be held on Sunday\, April 28\, at Parade Plaza in downtown New London. Registration starts at noon\, with the walk commencing at 1 p.m. \nThe event\, organized by the New London Homeless Hospitality Center and Connecticut College\, aims to raise awareness about homelessness and gather support for the center’s programs. Lead sponsor Yale New Haven Health/Lawrence & Memorial Hospital and gold sponsor Mohegan Sun are joined by several other generous sponsors. It’s anticipated to attract hundreds of participants. \nActivities kick off at noon with registration\, information booths\, and entertainment by local band\, Dogbite. The walk will feature remarks from community leaders before embarking on a 1.7-mile route through downtown New London and nearby neighborhoods\, passing by landmarks and social service agencies. \nThe New London Homeless Hospitality Center\, founded in 2006\, provides emergency shelter and support services to adults experiencing homelessness in New London County. It strives to make homelessness rare\, brief\, and nonrecurring. \nClick for more details and to register. Let’s come together to end homelessness in our community. \nThe New London Homeless Hospitality Center and Connecticut College thanks its sponsors: YNNH/L&M Hospital\, Mohegan Sun\, Connecticut College\, Temple Emanu-El\, Mystic Congregational Church\, Scient Federal Credit Union\, Bob’s Discount Furniture\, Chelsea Groton Bank\, New London Rotary Club\, New London’s Kiwanis Club and All Souls Unitarian Universalist Congregation. \nThe Walk to End Homelessness is an outdoor event starting at Parade Plaza\, across the street from the train station in New London\, CT. This is a rain-or-shine event. In the case of rain\, the walk kick-off festivities will take place at Hygienic Art Park from 12 pm – 1 pm.
URL:https://the-e-list.com/event/17th-annual-walk-to-end-homelessness/
LOCATION:Parade Plaza\, State Street and South Water Street\, New London\, CT
ATTACH;FMTTYPE=image/png:https://the-e-list.com/wp-content/uploads/2024/03/2024-logo-for-tshirts.png
ORGANIZER;CN="New London Homeless Hospitality Center":MAILTO:info@nlhhc.org
END:VEVENT
BEGIN:VEVENT
DTSTART;TZID=America/New_York:20231007T153000
DTEND;TZID=America/New_York:20231007T173000
DTSTAMP:20260425T102149
CREATED:20230905T210033Z
LAST-MODIFIED:20230905T210033Z
UID:10001862-1696692600-1696699800@the-e-list.com
SUMMARY:Pass the Guitar at Hygenic Art Park to benefit New London Homeless Hospitality Center
DESCRIPTION:Come to the Hygenic Art Park in October for an afternoon of great music to benefit New London Homeless Hospitality Center\, the area’s largest shelter for adults experiencing homelessness.  Featuring some of New London’s most revered musicians\, Pass the Guitar is a unique event where one artist plays an acoustic song then hands the guitar to the next musician. \nThis fall’s event is family-focused\, held at a time everyone can enjoy\, with special songs that will appeal to the littles. Join the New London Community to stand together in the fight against homelessness in southeast Connecticut. \n$15 for adults  |  $5 for children. Click to purchase tickets.
URL:https://the-e-list.com/event/pass-the-guitar-at-hygenic-art-park/
LOCATION:Hygienic Art Galleries\, 79 Bank Street\, New London\, 06320\, United States
ATTACH;FMTTYPE=image/png:https://the-e-list.com/wp-content/uploads/2023/09/Pass-the-Guitar-Poster-fall-2023-as-of-8-25-23.png
ORGANIZER;CN="New London Homeless Hospitality Center":MAILTO:info@nlhhc.org
END:VEVENT
END:VCALENDAR