BEGIN:VCALENDAR
VERSION:2.0
PRODID:-//The E List - ECPv6.15.20//NONSGML v1.0//EN
CALSCALE:GREGORIAN
METHOD:PUBLISH
X-WR-CALNAME:The E List
X-ORIGINAL-URL:https://the-e-list.com
X-WR-CALDESC:Events for The E List
REFRESH-INTERVAL;VALUE=DURATION:PT1H
X-Robots-Tag:noindex
X-PUBLISHED-TTL:PT1H
BEGIN:VTIMEZONE
TZID:UTC
BEGIN:STANDARD
TZOFFSETFROM:+0000
TZOFFSETTO:+0000
TZNAME:UTC
DTSTART:20250101T000000
END:STANDARD
END:VTIMEZONE
BEGIN:VTIMEZONE
TZID:UTC
BEGIN:STANDARD
TZOFFSETFROM:+0000
TZOFFSETTO:+0000
TZNAME:UTC
DTSTART:20240101T000000
END:STANDARD
END:VTIMEZONE
BEGIN:VEVENT
DTSTART;TZID=UTC:20260411T140000
DTEND;TZID=UTC:20260411T160000
DTSTAMP:20260423T075205
CREATED:20260313T133747Z
LAST-MODIFIED:20260313T133747Z
UID:10003344-1775916000-1775923200@the-e-list.com
SUMMARY:Nature Walk with Maggie Jones
DESCRIPTION:Enjoy a nature walk and plant identification with Maggie Jones. \nHatchetts Hill Preserve\n29-1 Hatchetts Hill Road \nPlease sign up here.
URL:https://the-e-list.com/event/nature-walk-with-maggie-jones/
LOCATION:Hatchetts Hill Preserve\, 29-1 Hatchetts Hill Road\, Old Lyme\, CT
ATTACH;FMTTYPE=image/jpeg:https://the-e-list.com/wp-content/uploads/2026/03/FLYER-Nature-Wlak-Maggie-Jones-2026-e1773408971240.jpg
ORGANIZER;CN="Old Lyme Land Trust":MAILTO:info@oldlymelandtrust.org
END:VEVENT
BEGIN:VEVENT
DTSTART;TZID=UTC:20251214T090000
DTEND;TZID=UTC:20251214T100000
DTSTAMP:20260423T075205
CREATED:20251119T171601Z
LAST-MODIFIED:20251119T171639Z
UID:10003246-1765702800-1765706400@the-e-list.com
SUMMARY:Old Lyme Land Trust Work Party
DESCRIPTION:Roll up your sleeves and join the Old Lyme Land Trust’s work party to clear the middle wall at the John Lohmann CT River Preserve on 33 Coult Lane on December 14 at 9 am. \nBring along your rakes\, loopers\, gloves\, tarps and help clean up this beautiful site. RSVP to ollandtrust@gmail.com. They will notify you if inclement weather causes us to reschedule. It takes a village.
URL:https://the-e-list.com/event/work-party/
LOCATION:John Lohmann CT River Preserve\, 33 Coult Lane\, Old Lyme\, CT\, 06371
ATTACH;FMTTYPE=image/jpeg:https://the-e-list.com/wp-content/uploads/2025/11/Work-party-12.14.2025-Lohmann-CT-River-3-e1763572166214.jpg
ORGANIZER;CN="Old Lyme Land Trust":MAILTO:info@oldlymelandtrust.org
END:VEVENT
BEGIN:VEVENT
DTSTART;TZID=UTC:20251115T090000
DTEND;TZID=UTC:20251115T120000
DTSTAMP:20260423T075205
CREATED:20251103T014022Z
LAST-MODIFIED:20251103T190514Z
UID:10003221-1763197200-1763208000@the-e-list.com
SUMMARY:Work Party with Old Lyme Land Trust
DESCRIPTION:All Hands on Deck.\nThe Old Lyme Land Trust will replace a bridge and build a board walk along the green trail at the Boggy Hole Preserve.\nWe need your help to carry in planks and build a span to cross another boggy hole!\nWear work gloves and sturdy boots. \nClick to sign-up!
URL:https://the-e-list.com/event/work-party-with-old-lyme-land-trust/
LOCATION:Boggy Hole Preserve\, 17 Boggy Hole Road\, Old Lyme
ATTACH;FMTTYPE=image/jpeg:https://the-e-list.com/wp-content/uploads/2025/11/Boggy-Hole-hole-copy-e1762133953858.jpg
ORGANIZER;CN="Old Lyme Land Trust":MAILTO:info@oldlymelandtrust.org
END:VEVENT
END:VCALENDAR