BEGIN:VCALENDAR
VERSION:2.0
PRODID:-//The E List - ECPv6.15.20//NONSGML v1.0//EN
CALSCALE:GREGORIAN
METHOD:PUBLISH
X-WR-CALNAME:The E List
X-ORIGINAL-URL:https://the-e-list.com
X-WR-CALDESC:Events for The E List
REFRESH-INTERVAL;VALUE=DURATION:PT1H
X-Robots-Tag:noindex
X-PUBLISHED-TTL:PT1H
BEGIN:VTIMEZONE
TZID:UTC
BEGIN:STANDARD
TZOFFSETFROM:+0000
TZOFFSETTO:+0000
TZNAME:UTC
DTSTART:20240101T000000
END:STANDARD
END:VTIMEZONE
BEGIN:VEVENT
DTSTART;VALUE=DATE:20250801
DTEND;VALUE=DATE:20250810
DTSTAMP:20260423T123954
CREATED:20250722T162909Z
LAST-MODIFIED:20250722T175147Z
UID:10003097-1754006400-1754783999@the-e-list.com
SUMMARY:Dinners at the Farm
DESCRIPTION:Hello summer! Join the team at River Tavern and their friend Digga Schacht for another season of unforgettable dinners held in the fields of beautiful Hunts Brook Farm in Quaker Hill\, CT on August 1-2\, & August 8-9\, 2025! \nThese special dinners will be held four nights in August: August 1\,2 and August 8\, 9\, 2025. Each night will feature a unique and delicious five-course menu showcasing the talents of cook and farmer paired with great wines\, local beers\, and homegrown music! A sensory extravaganza you won’t want to miss. Tickets available now! Grab them while you can. With only four dinners being held this year\, tickets will sell out fast! \nReserve your tickets!
URL:https://the-e-list.com/event/dinners-at-the-farm/
LOCATION:Hunts Brook Farm\, 108 Hunts Brook Road\, Quaker Hill\, CT\, 06375
ATTACH;FMTTYPE=image/jpeg:https://the-e-list.com/wp-content/uploads/2025/07/Dinner-at-the-farm-scaled-e1753201745717.jpg
END:VEVENT
END:VCALENDAR