BEGIN:VCALENDAR
VERSION:2.0
PRODID:-//The E List - ECPv6.15.20//NONSGML v1.0//EN
CALSCALE:GREGORIAN
METHOD:PUBLISH
X-ORIGINAL-URL:https://the-e-list.com
X-WR-CALDESC:Events for The E List
REFRESH-INTERVAL;VALUE=DURATION:PT1H
X-Robots-Tag:noindex
X-PUBLISHED-TTL:PT1H
BEGIN:VTIMEZONE
TZID:UTC
BEGIN:STANDARD
TZOFFSETFROM:+0000
TZOFFSETTO:+0000
TZNAME:UTC
DTSTART:20240101T000000
END:STANDARD
END:VTIMEZONE
BEGIN:VEVENT
DTSTART;TZID=UTC:20251102T170000
DTEND;TZID=UTC:20251102T184500
DTSTAMP:20260423T031815
CREATED:20251024T025913Z
LAST-MODIFIED:20251026T011441Z
UID:10003206-1762102800-1762109100@the-e-list.com
SUMMARY:Robbie Collomore Concerts: EunYoung Lee\, pianist\, in recital
DESCRIPTION:EunYoung Lee is a passionate pianist whose repertoire spans solo works\, chamber music\, and concertos\, showcasing her versatility as a performer. EunYoung’s talent and musicality have been recognized through numerous competition victories in the US and abroad. In addition to her solo career\, she is the founder of Fiorire Soloists\, an ensemble of exceptional musicians dedicated to creating performance opportunities for emerging professionals. \nEunYoung’s program features all French composers on the first half\, and all American composers on the second half. \nClick for tickets.
URL:https://the-e-list.com/event/robbie-collomore-concerts-eunyoung-lee-pianist-in-recital/
LOCATION:The Chester Meeting House\, 4 Liberty Street\, Chester\, CT\, 06412\, United States
ATTACH;FMTTYPE=image/jpeg:https://the-e-list.com/wp-content/uploads/2025/10/EunYoung-Lee-e1761274712390.jpeg
END:VEVENT
BEGIN:VEVENT
DTSTART;TZID=UTC:20251012T170000
DTEND;TZID=UTC:20251012T184500
DTSTAMP:20260423T031815
CREATED:20250912T001916Z
LAST-MODIFIED:20250912T001931Z
UID:10003153-1760288400-1760294700@the-e-list.com
SUMMARY:Robbie Collomore Concerts: Kyshona
DESCRIPTION:Kyshona lends her voice and music to those who feel silenced\, forgotten or alone. She began her career as a music therapist\, writing her first songs with patients under her care. She was compelled to write independently and find her own voice\, an endeavor that led her to the Nashville creative community and songwriting culture. Since then\, she balances her music career with her passion to heal in community through her organization\, Your Song. \nKyshona’s new project LEGACY focuses on family. Through stories\, photos\, film\, ancestry and genealogy research\, and travels in the power of place\, Kyshona shares her story while inviting listeners and concert goers to join her in exploration of self healing and growth. In 2020\, her song Listen was an anthem for many. About that album\, one reviewer wrote: “Amidst these hard\, divisive times this set of songs is a salve for the grief many of us are feeling.” On the album Kyshona blends roots\, rock\, R&B\, and folk to uplift the marginalized and bring awareness to the masses. \nAudiences will find a common thread of hope\, empowerment\, and overcoming adversity in her work. The show doesn’t end when the last song is sung. After her powerful performances\, concertgoers often ask\, “What can I do?” Her response? “Listen.” \nClick for tickets.
URL:https://the-e-list.com/event/robbie-collomore-concerts-kyshona/
LOCATION:The Chester Meeting House\, 4 Liberty Street\, Chester\, CT\, 06412\, United States
ATTACH;FMTTYPE=image/jpeg:https://the-e-list.com/wp-content/uploads/2025/09/Kyshona.jpg
END:VEVENT
BEGIN:VEVENT
DTSTART;TZID=UTC:20250928T170000
DTEND;TZID=UTC:20250928T184500
DTSTAMP:20260423T031815
CREATED:20250912T001248Z
LAST-MODIFIED:20250912T001326Z
UID:10003154-1759078800-1759085100@the-e-list.com
SUMMARY:Robbie Collomore Concerts: Amara Trio
DESCRIPTION:The Amara Trio\, Gold Prize winners at the 2024 Chesapeake Chamber Music Competition\, was formed in the summer of 2023 at the Kneisel Hall Chamber Music Festival. Since then\, they have shared their love for music with audiences at venues around the country. For the past two years\, the trio has been part of Juilliard’s Honors Chamber Music Program\, performing at Lincoln Center and premiering new works in collaboration with composers. Passionate about building community through music\, the Amara Trio is dedicated to sharing the joy of chamber music with diverse audiences. They regularly visit hospitals and retirement homes across New York and New Jersey\, using their music to uplift and connect. \nThe program includes music by Mozart\, Shostakovich\, and Beethoven. \nClick for tickets.
URL:https://the-e-list.com/event/robbie-collomore-concerts-amara-trio/
LOCATION:The Chester Meeting House\, 4 Liberty Street\, Chester\, CT\, 06412\, United States
ATTACH;FMTTYPE=image/jpeg:https://the-e-list.com/wp-content/uploads/2025/09/Amara-Trio-e1757635805862.jpg
END:VEVENT
END:VCALENDAR