BEGIN:VCALENDAR
VERSION:2.0
PRODID:-//The E List - ECPv6.15.20//NONSGML v1.0//EN
CALSCALE:GREGORIAN
METHOD:PUBLISH
X-WR-CALNAME:The E List
X-ORIGINAL-URL:https://the-e-list.com
X-WR-CALDESC:Events for The E List
REFRESH-INTERVAL;VALUE=DURATION:PT1H
X-Robots-Tag:noindex
X-PUBLISHED-TTL:PT1H
BEGIN:VTIMEZONE
TZID:America/New_York
BEGIN:DAYLIGHT
TZOFFSETFROM:-0500
TZOFFSETTO:-0400
TZNAME:EDT
DTSTART:20220313T070000
END:DAYLIGHT
BEGIN:STANDARD
TZOFFSETFROM:-0400
TZOFFSETTO:-0500
TZNAME:EST
DTSTART:20221106T060000
END:STANDARD
BEGIN:DAYLIGHT
TZOFFSETFROM:-0500
TZOFFSETTO:-0400
TZNAME:EDT
DTSTART:20230312T070000
END:DAYLIGHT
BEGIN:STANDARD
TZOFFSETFROM:-0400
TZOFFSETTO:-0500
TZNAME:EST
DTSTART:20231105T060000
END:STANDARD
BEGIN:DAYLIGHT
TZOFFSETFROM:-0500
TZOFFSETTO:-0400
TZNAME:EDT
DTSTART:20240310T070000
END:DAYLIGHT
BEGIN:STANDARD
TZOFFSETFROM:-0400
TZOFFSETTO:-0500
TZNAME:EST
DTSTART:20241103T060000
END:STANDARD
END:VTIMEZONE
BEGIN:VEVENT
DTSTART;TZID=America/New_York:20231111T100000
DTEND;TZID=America/New_York:20231112T160000
DTSTAMP:20260423T182542
CREATED:20230909T123804Z
LAST-MODIFIED:20230909T123804Z
UID:10002279-1699696800-1699804800@the-e-list.com
SUMMARY:Shoreline Arts Trail Open Studios Weekend - by Shoreline Arts Alliance
DESCRIPTION:Shoreline Arts Alliance’s Shoreline ArtsTrail Open Studios Weekend happens right in your backyard—at more than 30 studio locations in Branford\, Guilford\, and Madison\, Connecticut. This 23-year tradition provides opportunities for both artists and art lovers. \nHeld Saturday\, November 11 from 10am to 4pm and Sunday\, November 12 from 10am to 4pm\, the ArtsTrail is supported by 38 shoreline artists and 13 local business sponsors. \nThis juried event gathers some of the finest\, award-winning artists on the shoreline whose work must reflect mastery of methods and materials\, originality of concept\, and be handmade by the artist in his/her studio. \n• What you’ll find: One-of-a-kind\, quality-made items in a wide range of media including painting\, jewelry\, sculpture\, fiber\, glass\, pottery\, metal\, and textiles. \n• What you’ll experience: A chance to talk one-on-one with artists and explore their private studios as you weave your way around the scenic shoreline. \n• What you’ll do: Support the local arts community\, purchase great art made right here in Connecticut\, and visit event sponsors which include unique shops\, and renowned restaurants. \n• What else you’ll do: Enjoy a FUN and stress-free opportunity to get a head start on holiday shopping or enhance your home with an original work of art. \nClick to learn more. \nFeatured Artists \nThis year\, the Shoreline ArtsTrail welcomes three new member artists\, North Guilford potter David Frank\, Guilford ceramic artist Brian R. Jones and Guilford painter Patricia Shoemaker. They will join returning artists Francis Barkyoumb\, Candace Bialczak\, Terry Bogan\, Mike Bower\, Christine Chiocchio\, Alice Chittenden\, Anne Coffey\, Jayne Crowley\, Margaret Dean\, Robert Dietz\, Laurie Douglas\, Christine Drago\, Eileen Eder\, Laurie Flaherty\, Deborah Greco\, Jean Gresham\, Anita Griffith\, Lisa Hess Hesselgrave\, Joan Hickey\, Melissa Imossi\, Sandra Kensler\, Martha Link-Walsh\, Owen Luckey\, Alexa Lady MacCrady\, Dennis Masback\, Linda McCarthy\, Molly Sullivan McDonald\, Jackie McGuire\, Estelle Nussbaum\, Robert Parrott\, Chris Penry\, Steve Plaziak\, Janine Robertson\, Barbara Shulman and Catherine Steinberg.
URL:https://the-e-list.com/event/shoreline-arts-trail-open-studios-weekend/
LOCATION:30 studio locations in Branford\, Guilford\, and Madison
ATTACH;FMTTYPE=image/jpeg:https://the-e-list.com/wp-content/uploads/2023/09/ShorelineArtsTrail2023-Ad-copy-e1697749993995.jpg
END:VEVENT
BEGIN:VEVENT
DTSTART;TZID=America/New_York:20231028T190000
DTEND;TZID=America/New_York:20231028T220000
DTSTAMP:20260423T182542
CREATED:20231013T160825Z
LAST-MODIFIED:20231013T160825Z
UID:10002342-1698519600-1698530400@the-e-list.com
SUMMARY:Shoreline Arts Alliance Costumes & Cocktails
DESCRIPTION:When witches go riding\, and black cats are seen\, the moon laughs and whispers\, ’tis near Halloween!  The holiday is for children to dress up and celebrate…but what about the adults?  When do they get to celebrate? \nJoin Shoreline Arts Alliance for an Adult Halloween Party on October 28! Costumes and Cocktails will be held under the big tent at 25 Wall Street in Madison from 7-10 PM. \nEnjoy food from a pizza truck\, drink complimentary adult libations\, enter a costume contest and participate in ghostly activities. \nIt’s every adult’s dream to enjoy Halloween while helping raise money to support the arts! Click here for tickets. This party sold out last year\, so get your $60 tickets now! \n\nFor more information 203-421-6739 or office@shorelinearts.org
URL:https://the-e-list.com/event/shoreline-arts-alliance-costumes-cocktails/
LOCATION:WP Router Placeholder Page
ATTACH;FMTTYPE=image/jpeg:https://the-e-list.com/wp-content/uploads/2023/10/CostumesCocktails_postcard-2-e1697227667463.jpg
END:VEVENT
END:VCALENDAR