BEGIN:VCALENDAR
VERSION:2.0
PRODID:-//The E List - ECPv6.15.20//NONSGML v1.0//EN
CALSCALE:GREGORIAN
METHOD:PUBLISH
X-WR-CALNAME:The E List
X-ORIGINAL-URL:https://the-e-list.com
X-WR-CALDESC:Events for The E List
REFRESH-INTERVAL;VALUE=DURATION:PT1H
X-Robots-Tag:noindex
X-PUBLISHED-TTL:PT1H
BEGIN:VTIMEZONE
TZID:UTC
BEGIN:STANDARD
TZOFFSETFROM:+0000
TZOFFSETTO:+0000
TZNAME:UTC
DTSTART:20240101T000000
END:STANDARD
END:VTIMEZONE
BEGIN:VEVENT
DTSTART;TZID=UTC:20250918T173000
DTEND;TZID=UTC:20250918T193000
DTSTAMP:20260424T201455
CREATED:20250830T154103Z
LAST-MODIFIED:20250831T120857Z
UID:10003141-1758216600-1758223800@the-e-list.com
SUMMARY:STEEPED CONNECTIONS -Networking with a Feminine Twist
DESCRIPTION:What started out as the love of tea and conversation between two friends\, Steeped Connections is not your typical networking scene – it’s designed for women who crave authenticity over elevator pitches. \nThey blend professionalism with warmth\, intention with inspiration\, and structure with soul. They are a modern networking group with a feminine twist—where meaningful conversation meets curated connection. By supporting women owned businesses and connecting others\, this is how they create community. \nWhether you’re an entrepreneur\, professional\, creative\, or navigating your next chapter\, Steeped Connections offers a refreshing space to build real relationships\, spark new ideas\, and grow together—in business and beyond. \nThey hope to see you in September!\nRegister now to secure your spot! Limited spots available. \nSteeped Connections loves to support women owned businesses.\nPlease let them know if you’d like to host a Steeped Connections gathering in the future.
URL:https://the-e-list.com/event/steeped-connections-networking-with-a-feminine-twist/
LOCATION:Where Memories Are Made\, 1330 Boston Post Rd\, Old Saybrook\, CT\, 06475\, United States
ATTACH;FMTTYPE=image/jpeg:https://the-e-list.com/wp-content/uploads/2025/08/STEEPED-CONNECTIONS-Instagram-Post-6-e1756567931874.jpg
ORGANIZER;CN="Steeped Connections":MAILTO:rachel@timelesslivingdesigns.com
END:VEVENT
END:VCALENDAR