BEGIN:VCALENDAR
VERSION:2.0
PRODID:-//The E List - ECPv6.15.20//NONSGML v1.0//EN
CALSCALE:GREGORIAN
METHOD:PUBLISH
X-WR-CALNAME:The E List
X-ORIGINAL-URL:https://the-e-list.com
X-WR-CALDESC:Events for The E List
REFRESH-INTERVAL;VALUE=DURATION:PT1H
X-Robots-Tag:noindex
X-PUBLISHED-TTL:PT1H
BEGIN:VTIMEZONE
TZID:UTC
BEGIN:STANDARD
TZOFFSETFROM:+0000
TZOFFSETTO:+0000
TZNAME:UTC
DTSTART:20230101T000000
END:STANDARD
END:VTIMEZONE
BEGIN:VTIMEZONE
TZID:America/New_York
BEGIN:DAYLIGHT
TZOFFSETFROM:-0500
TZOFFSETTO:-0400
TZNAME:EDT
DTSTART:20220313T070000
END:DAYLIGHT
BEGIN:STANDARD
TZOFFSETFROM:-0400
TZOFFSETTO:-0500
TZNAME:EST
DTSTART:20221106T060000
END:STANDARD
BEGIN:DAYLIGHT
TZOFFSETFROM:-0500
TZOFFSETTO:-0400
TZNAME:EDT
DTSTART:20230312T070000
END:DAYLIGHT
BEGIN:STANDARD
TZOFFSETFROM:-0400
TZOFFSETTO:-0500
TZNAME:EST
DTSTART:20231105T060000
END:STANDARD
BEGIN:DAYLIGHT
TZOFFSETFROM:-0500
TZOFFSETTO:-0400
TZNAME:EDT
DTSTART:20240310T070000
END:DAYLIGHT
BEGIN:STANDARD
TZOFFSETFROM:-0400
TZOFFSETTO:-0500
TZNAME:EST
DTSTART:20241103T060000
END:STANDARD
END:VTIMEZONE
BEGIN:VEVENT
DTSTART;TZID=UTC:20240214T173000
DTEND;TZID=UTC:20240214T190000
DTSTAMP:20260425T133728
CREATED:20240209T192635Z
LAST-MODIFIED:20240209T192703Z
UID:10002494-1707931800-1707937200@the-e-list.com
SUMMARY:Victorian Valentine's Day Party with Madison Historical Society
DESCRIPTION:Are you looking for something fun to do this Valentine’s Day? Why not celebrate with the Madison Historical Society in Victorian style? The event will feature a display of vintage wedding dresses and valentines\, Victorian punch\, wine\, other beverages\, hors d’oeuvres\, and chocolate treats.
URL:https://the-e-list.com/event/victorian-valentines-day-party-with-madison-historical-society3/
LOCATION:Allis-Bushnell House Museum\, 853 Boston Post Rd\, Madison\, CT\, 06443\, United States
ATTACH;FMTTYPE=image/jpeg:https://the-e-list.com/wp-content/uploads/2024/02/Vintage-Valentine-image.jpeg
ORGANIZER;CN="The Madison Historical Society":MAILTO:contact@madisonhistory.org
END:VEVENT
BEGIN:VEVENT
DTSTART;TZID=America/New_York:20230214T173000
DTEND;TZID=America/New_York:20230214T190000
DTSTAMP:20260425T133728
CREATED:20230123T125346Z
LAST-MODIFIED:20230123T125346Z
UID:10002039-1676395800-1676401200@the-e-list.com
SUMMARY:Victorian Valentine's Day Party
DESCRIPTION:The Madison Historical Society will present a Victorian Valentine’s Day party at the historic Allis-Bushnell House\, 835 Boston Post Rd\, Madison. The event will feature drinks and hors d’oeuvres\, displays of vintage valentines and wedding dresses\, live music and a love story presented by acclaimed storyteller Jennifer Munro. $20 per person\, $15 MHS members. \nPlease visit madisonhistory.org to register or call 203-245-4567 for more information. \nDiscover how the Victorians celebrated Valentine’s Day at this festive event!
URL:https://the-e-list.com/event/victorian-valentines-day-party/
ATTACH;FMTTYPE=image/jpeg:https://the-e-list.com/wp-content/uploads/2023/01/Vintage-Valentine-image.jpeg
ORGANIZER;CN="The Madison Historical Society":MAILTO:contact@madisonhistory.org
END:VEVENT
END:VCALENDAR