BEGIN:VCALENDAR
VERSION:2.0
PRODID:-//The E List - ECPv6.15.20//NONSGML v1.0//EN
CALSCALE:GREGORIAN
METHOD:PUBLISH
X-WR-CALNAME:The E List
X-ORIGINAL-URL:https://the-e-list.com
X-WR-CALDESC:Events for The E List
REFRESH-INTERVAL;VALUE=DURATION:PT1H
X-Robots-Tag:noindex
X-PUBLISHED-TTL:PT1H
BEGIN:VTIMEZONE
TZID:America/New_York
BEGIN:DAYLIGHT
TZOFFSETFROM:-0500
TZOFFSETTO:-0400
TZNAME:EDT
DTSTART:20220313T070000
END:DAYLIGHT
BEGIN:STANDARD
TZOFFSETFROM:-0400
TZOFFSETTO:-0500
TZNAME:EST
DTSTART:20221106T060000
END:STANDARD
BEGIN:DAYLIGHT
TZOFFSETFROM:-0500
TZOFFSETTO:-0400
TZNAME:EDT
DTSTART:20230312T070000
END:DAYLIGHT
BEGIN:STANDARD
TZOFFSETFROM:-0400
TZOFFSETTO:-0500
TZNAME:EST
DTSTART:20231105T060000
END:STANDARD
BEGIN:DAYLIGHT
TZOFFSETFROM:-0500
TZOFFSETTO:-0400
TZNAME:EDT
DTSTART:20240310T070000
END:DAYLIGHT
BEGIN:STANDARD
TZOFFSETFROM:-0400
TZOFFSETTO:-0500
TZNAME:EST
DTSTART:20241103T060000
END:STANDARD
END:VTIMEZONE
BEGIN:VEVENT
DTSTART;TZID=America/New_York:20231129T170000
DTEND;TZID=America/New_York:20231129T190000
DTSTAMP:20260425T214959
CREATED:20231107T172753Z
LAST-MODIFIED:20231107T172753Z
UID:10001309-1701277200-1701284400@the-e-list.com
SUMMARY:Mahi Gold Sip & Shop
DESCRIPTION:The Mahi Gold ladies\, along with Nikki Estephan\, want to help you pick your holiday looks. Join them for a night of fantastic style\, seasonal sips and great company on November 29th from 5:00 – 7:00pm! Guests must RSVP to get their shopping pass\, which will give them a 20% off discount for Mahi Gold Purchases during the event. \nClick here to RSVP.
URL:https://the-e-list.com/event/mahi-gold-sip-shop/
LOCATION:2 Main Street\, Old Saybrook\, CT 06475\, 2 Main Street\, Old Saybrook\, Connecticut\, 06475
ATTACH;FMTTYPE=image/jpeg:https://the-e-list.com/wp-content/uploads/2023/11/Untitled-design-5-e1699457821977.jpg
END:VEVENT
END:VCALENDAR