BEGIN:VCALENDAR
VERSION:2.0
PRODID:-//The E List - ECPv6.15.20//NONSGML v1.0//EN
CALSCALE:GREGORIAN
METHOD:PUBLISH
X-WR-CALNAME:The E List
X-ORIGINAL-URL:https://the-e-list.com
X-WR-CALDESC:Events for The E List
REFRESH-INTERVAL;VALUE=DURATION:PT1H
X-Robots-Tag:noindex
X-PUBLISHED-TTL:PT1H
BEGIN:VTIMEZONE
TZID:UTC
BEGIN:STANDARD
TZOFFSETFROM:+0000
TZOFFSETTO:+0000
TZNAME:UTC
DTSTART:20230101T000000
END:STANDARD
END:VTIMEZONE
BEGIN:VTIMEZONE
TZID:UTC
BEGIN:STANDARD
TZOFFSETFROM:+0000
TZOFFSETTO:+0000
TZNAME:UTC
DTSTART:20230101T000000
END:STANDARD
END:VTIMEZONE
BEGIN:VEVENT
DTSTART;TZID=UTC:20250405T140000
DTEND;TZID=UTC:20250405T180000
DTSTAMP:20260422T220828
CREATED:20250403T231718Z
LAST-MODIFIED:20250403T231742Z
UID:10002976-1743861600-1743876000@the-e-list.com
SUMMARY:Open House at Alan James Art
DESCRIPTION:Alan James Art annual Spring Open House with many new paintings!\n50% OFF on all framed paintings and Unframed paintings as low as $250.00
URL:https://the-e-list.com/event/open-house-at-alan-james-art/
LOCATION:Alan James Studio\, 116 Main Street\, Deep River\, Connecticut
ATTACH;FMTTYPE=image/jpeg:https://the-e-list.com/wp-content/uploads/2025/04/OpenHouse-pic-1.jpg
END:VEVENT
BEGIN:VEVENT
DTSTART;TZID=UTC:20240720T130000
DTEND;TZID=UTC:20240720T180000
DTSTAMP:20260422T220828
CREATED:20240701T184100Z
LAST-MODIFIED:20240701T184132Z
UID:10002668-1721480400-1721498400@the-e-list.com
SUMMARY:Open House at Alan James Art Gallery
DESCRIPTION:Alan James Art Gallery Open House\nAll framed paintings 50% OFF!\nUnframed paintings as low as $300.00!\nPlenty of food and beverages on hand!
URL:https://the-e-list.com/event/open-house-at-alan-james-art-gallery/
LOCATION:Alan James Studio\, 116 Main Street\, Deep River\, Connecticut
ATTACH;FMTTYPE=image/jpeg:https://the-e-list.com/wp-content/uploads/2024/07/OpenHouse2July024LandscapeElist.jpg
END:VEVENT
BEGIN:VEVENT
DTSTART;TZID=UTC:20240518T100000
DTEND;TZID=UTC:20240519T150000
DTSTAMP:20260422T220828
CREATED:20240402T164733Z
LAST-MODIFIED:20240403T180631Z
UID:10002567-1716026400-1716130800@the-e-list.com
SUMMARY:Watercolor Workshop with Alan James
DESCRIPTION:Watercolor: “Capturing The Essence”\nLevel: Beginner – Intermediate\nLearn the secrets of how to paint in watercolor in this one day “Capturing The Essence” workshop with Alan James on May 18\, 10 am – 3pm / May 19\, 10 am – 3 pm\nTake this workshop on either Sat. or Sun. \nIn this workshop\, Alan James will share all of the secrets of what he calls “Capturing the Essence” which is the process of simplifying the subject by eliminating superficial details. Through step-by-step demonstrations and one-on-one guidance\, Alan will show you how to take your initial inspiration through his process in creating an expressive a painting that is strong in both composition and content. At the end of the workshop you will have a completed painting! \nClick to register and for more information.
URL:https://the-e-list.com/event/watercolor-workshop-with-alan-james-2/
LOCATION:Alan James Studio\, 116 Main Street\, Deep River\, Connecticut
ATTACH;FMTTYPE=image/jpeg:https://the-e-list.com/wp-content/uploads/2024/04/WorkshopDesignMay2024_72dpi-scaled-e1712076076767.jpg
END:VEVENT
BEGIN:VEVENT
DTSTART;VALUE=DATE:20240420
DTEND;VALUE=DATE:20240422
DTSTAMP:20260422T220828
CREATED:20240305T001620Z
LAST-MODIFIED:20240307T183014Z
UID:10002522-1713571200-1713743999@the-e-list.com
SUMMARY:Watercolor Workshop with Alan James
DESCRIPTION:Watercolor: “Capturing The Essence” \nLearn the secrets of how to paint in watercolor in this one and/or two day “Capturing The Essence” workshop with Alan James on April 20 and/or April 21\, 2024 from 10 am – 3pm. \nIn this workshop\, Alan James will share all of the secrets of what he calls “Capturing the Essence” which is the process of simplifying the subject by eliminating superficial details. Through step-by-step demonstrations and one-on-one guidance\, Alan will show you how to take your initial inspiration through his process in creating an expressive a painting that is strong in both composition and content. At the end of the workshop you will have a completed painting! \nCost: One Day: $100.00\, Two Days: $ 200.00 \nLevel: Beginner – Intermediate \nClick to reserve your spot!
URL:https://the-e-list.com/event/watercolor-workshop-with-alan-james/
LOCATION:Alan James Studio\, 116 Main Street\, Deep River\, Connecticut
ATTACH;FMTTYPE=image/jpeg:https://the-e-list.com/wp-content/uploads/2024/03/WorkshopDesign3FixesFlat-scaled-e1709597775881.jpg
END:VEVENT
BEGIN:VEVENT
DTSTART;TZID=UTC:20240406T130000
DTEND;TZID=UTC:20240406T180000
DTSTAMP:20260422T220828
CREATED:20240309T003659Z
LAST-MODIFIED:20240309T003659Z
UID:10002531-1712408400-1712426400@the-e-list.com
SUMMARY:Alan James Art Open House
DESCRIPTION:Alan James Art Open House 50% off of all framed paintings and huge discounts on unframed paintings!\nWin a painting in the raffle! Lot’s of Appetizers and Open Bar!
URL:https://the-e-list.com/event/alan-james-art-open-house/
LOCATION:Alan James Studio\, 116 Main Street\, Deep River\, Connecticut
ATTACH;FMTTYPE=image/jpeg:https://the-e-list.com/wp-content/uploads/2024/03/OpenHousePosterDesign2024_2_8x12-scaled-e1709944485349.jpg
END:VEVENT
END:VCALENDAR