BEGIN:VCALENDAR
VERSION:2.0
PRODID:-//The E List - ECPv6.15.20//NONSGML v1.0//EN
CALSCALE:GREGORIAN
METHOD:PUBLISH
X-WR-CALNAME:The E List
X-ORIGINAL-URL:https://the-e-list.com
X-WR-CALDESC:Events for The E List
REFRESH-INTERVAL;VALUE=DURATION:PT1H
X-Robots-Tag:noindex
X-PUBLISHED-TTL:PT1H
BEGIN:VTIMEZONE
TZID:America/New_York
BEGIN:DAYLIGHT
TZOFFSETFROM:-0500
TZOFFSETTO:-0400
TZNAME:EDT
DTSTART:20220313T070000
END:DAYLIGHT
BEGIN:STANDARD
TZOFFSETFROM:-0400
TZOFFSETTO:-0500
TZNAME:EST
DTSTART:20221106T060000
END:STANDARD
BEGIN:DAYLIGHT
TZOFFSETFROM:-0500
TZOFFSETTO:-0400
TZNAME:EDT
DTSTART:20230312T070000
END:DAYLIGHT
BEGIN:STANDARD
TZOFFSETFROM:-0400
TZOFFSETTO:-0500
TZNAME:EST
DTSTART:20231105T060000
END:STANDARD
BEGIN:DAYLIGHT
TZOFFSETFROM:-0500
TZOFFSETTO:-0400
TZNAME:EDT
DTSTART:20240310T070000
END:DAYLIGHT
BEGIN:STANDARD
TZOFFSETFROM:-0400
TZOFFSETTO:-0500
TZNAME:EST
DTSTART:20241103T060000
END:STANDARD
END:VTIMEZONE
BEGIN:VEVENT
DTSTART;VALUE=DATE:20231130
DTEND;VALUE=DATE:20231209
DTSTAMP:20260425T214207
CREATED:20231129T163229Z
LAST-MODIFIED:20231129T163229Z
UID:10002392-1701302400-1702079999@the-e-list.com
SUMMARY:Give Back this Holiday Season with One Warm Coat at Ashlawn Farm Coffee
DESCRIPTION:Ashlawn Farm Coffee invites you to Give Back this Holiday Season with One Warm Coat! \nAs the holiday season approaches\, Ashlawn Farm Coffee would like to invite you to take part in their One Warm Coat donation through December 8th. For every guest who brings a coat to donate\, Ashlawn will offer a complimentary hot coffee\, hot tea or cold brew of your choice. \nCome enjoy a delicious coffee and give back to those who need some assistance. Thank you for considering looking in your closet for one warm coat and taking advantage of this holiday giving opportunity. Please only GENTLY WORN OR LIKE NEW. No holes\, no stains.  Click to learn more about One Warm Coat. \nWe can’t wait to see you at Ashlawn!
URL:https://the-e-list.com/event/give-back-this-holiday-season-with-one-warm-coat-at-ashlawn-farm-coffee/
LOCATION:Ashlawn Farm\, Old Saybrook\, 455 Boston Post Road\, Old Saybrook\, CT\, 06475\, United States
ATTACH;FMTTYPE=image/jpeg:https://the-e-list.com/wp-content/uploads/2023/11/Untitled-13-e1701294025529.jpg
END:VEVENT
END:VCALENDAR