BEGIN:VCALENDAR
VERSION:2.0
PRODID:-//The E List - ECPv6.15.20//NONSGML v1.0//EN
CALSCALE:GREGORIAN
METHOD:PUBLISH
X-WR-CALNAME:The E List
X-ORIGINAL-URL:https://the-e-list.com
X-WR-CALDESC:Events for The E List
REFRESH-INTERVAL;VALUE=DURATION:PT1H
X-Robots-Tag:noindex
X-PUBLISHED-TTL:PT1H
BEGIN:VTIMEZONE
TZID:UTC
BEGIN:STANDARD
TZOFFSETFROM:+0000
TZOFFSETTO:+0000
TZNAME:UTC
DTSTART:20230101T000000
END:STANDARD
END:VTIMEZONE
BEGIN:VEVENT
DTSTART;TZID=UTC:20240714T180000
DTEND;TZID=UTC:20240728T193000
DTSTAMP:20260423T182543
CREATED:20240621T172018Z
LAST-MODIFIED:20240622T144032Z
UID:10002656-1720980000-1722195000@the-e-list.com
SUMMARY:Paddle Board Yoga
DESCRIPTION:Soul Sweat Yoga Studios is thrilled to announce their collaboration with Black Hall Outfitters to bring you Paddle Board Yoga this summer! Join Soul Sweat Yoga Studios in Old Lyme for a one-hour\, sunset session\, where you can practice your favorite yoga poses on a paddle board. We will paddle out and enjoy the sunset before winding down with Savasana. Be prepared to get wet and have an amazing time. \nThe $50 enrollment fee includes your board rental and the class\, which will be led by Soul Sweat instructors Julia and Genipher. Space is limited\, so sign up as soon as possible.  No prior yoga or paddle experience is necessary! \nSunday July 14th with Julia\, 6:30 pm – 7:30p pm \nSunday July 28th with Genipher\, 6:30 pm – 7:30 pm \n  \nClick to Register.  All purchases are non-refundable\, no exceptions. \nMeet at Black Hall Outfitters in Old Lyme at 6:00 pm sharp – 132 Shore Rd\, Old Lyme\, CT 06371.
URL:https://the-e-list.com/event/paddle-board-yoga/
LOCATION:Black Hall Outfitters\, 132 Shore Road\, Old Lyme\, CT\, 06371\, United States
ATTACH;FMTTYPE=image/jpeg:https://the-e-list.com/wp-content/uploads/2024/06/paddle-board-yoga-1.jpeg
ORGANIZER;CN="Soul Sweat Yoga":MAILTO:soulsweatct@gmail.com
END:VEVENT
END:VCALENDAR