BEGIN:VCALENDAR
VERSION:2.0
PRODID:-//The E List - ECPv6.15.20//NONSGML v1.0//EN
CALSCALE:GREGORIAN
METHOD:PUBLISH
X-WR-CALNAME:The E List
X-ORIGINAL-URL:https://the-e-list.com
X-WR-CALDESC:Events for The E List
REFRESH-INTERVAL;VALUE=DURATION:PT1H
X-Robots-Tag:noindex
X-PUBLISHED-TTL:PT1H
BEGIN:VTIMEZONE
TZID:America/New_York
BEGIN:DAYLIGHT
TZOFFSETFROM:-0500
TZOFFSETTO:-0400
TZNAME:EDT
DTSTART:20220313T070000
END:DAYLIGHT
BEGIN:STANDARD
TZOFFSETFROM:-0400
TZOFFSETTO:-0500
TZNAME:EST
DTSTART:20221106T060000
END:STANDARD
BEGIN:DAYLIGHT
TZOFFSETFROM:-0500
TZOFFSETTO:-0400
TZNAME:EDT
DTSTART:20230312T070000
END:DAYLIGHT
BEGIN:STANDARD
TZOFFSETFROM:-0400
TZOFFSETTO:-0500
TZNAME:EST
DTSTART:20231105T060000
END:STANDARD
BEGIN:DAYLIGHT
TZOFFSETFROM:-0500
TZOFFSETTO:-0400
TZNAME:EDT
DTSTART:20240310T070000
END:DAYLIGHT
BEGIN:STANDARD
TZOFFSETFROM:-0400
TZOFFSETTO:-0500
TZNAME:EST
DTSTART:20241103T060000
END:STANDARD
END:VTIMEZONE
BEGIN:VEVENT
DTSTART;VALUE=DATE:20230509
DTEND;VALUE=DATE:20230510
DTSTAMP:20260423T182534
CREATED:20230315T154458Z
LAST-MODIFIED:20230315T154458Z
UID:10002109-1683590400-1683676799@the-e-list.com
SUMMARY:Blueway Commons Now Leasing  ~ Grand Opening & Ribbon Cutting
DESCRIPTION:Elm Tree Communities is now leasing the Blueway Commons! Elm Tree Communities have announced the Ribbon Cutting and Grand Opening date for Blueway Commons will be held on Tuesday\, May 9th\, 2023. The groundbreaking will begin at 11 am. Please join our elected officials\, our development team\, and residents as we celebrate the opening of Blueway Commons. \nBlueway Commons is a luxury\, 56-unit multifamily community in Haddam\, Connecticut. Blueway Commons has three two-story buildings and a state-of-the-art resident clubhouse. \nBlueway Commons is located east of exit ten off of Connecticut Route 9\, 12 minutes north of Interstate highway 95\, with Amtrak train service the Connecticut shoreline within a short drive. The project is 10 minutes south of Middletown and Interstate 91. Located near the iconic Swing Bridge that links Haddam and East Haddam\, Blueway Commons will offer residents an outdoor lifestyle near the Connecticut River\, biking trails\, and waterfront dining in the surrounding area.  \n“Blueway Commons is centrally located in the Connecticut River Valley in Haddam\, CT – with complete lifestyle amenities\, pet-friendly community\, a professionally managed\, Class A luxury apartment community\,” said Jeff Hartmann\, the founder\, and CEO of Elm Tree Communities. Blueway Commons provides a beautiful home for young professionals\, families\, and empty nesters. \n Blueway Commons offers six-floor plans to cater to an array of lifestyles from one and two-bedroom options ranging from 823 to 1259 square feet. The apartments will offer designer kitchens\, with stainless steel appliances\, nine-foot ceilings\, and spacious closets. All Blueway Commons Units feature an outdoor balcony. \nBlueway Commons property’s community amenities include: \n\nA 2\,500 square foot community center.\nSecured package system for quests\nDog park for your pet.\nA state-of-the-art fitness center.\nA community gathering room for resident use.\nAn outdoor lounge area with a grill and fire pit.\n\nFor additional information visit: www.bluewaycommons.com \n 
URL:https://the-e-list.com/event/ribbon-cutting-and-grand-opening-for-blueway-commons/
LOCATION:Blueway Commons\, 3 Brookes Court\, Haddam\, CT\, 06438
ATTACH;FMTTYPE=image/jpeg:https://the-e-list.com/wp-content/uploads/2023/03/blueway_horiz.jpg
END:VEVENT
END:VCALENDAR