BEGIN:VCALENDAR
VERSION:2.0
PRODID:-//The E List - ECPv6.15.20//NONSGML v1.0//EN
CALSCALE:GREGORIAN
METHOD:PUBLISH
X-ORIGINAL-URL:https://the-e-list.com
X-WR-CALDESC:Events for The E List
REFRESH-INTERVAL;VALUE=DURATION:PT1H
X-Robots-Tag:noindex
X-PUBLISHED-TTL:PT1H
BEGIN:VTIMEZONE
TZID:UTC
BEGIN:STANDARD
TZOFFSETFROM:+0000
TZOFFSETTO:+0000
TZNAME:UTC
DTSTART:20250101T000000
END:STANDARD
END:VTIMEZONE
BEGIN:VEVENT
DTSTART;TZID=UTC:20260502T120000
DTEND;TZID=UTC:20260502T150000
DTSTAMP:20260423T021239
CREATED:20260419T140041Z
LAST-MODIFIED:20260422T190646Z
UID:10003393-1777723200-1777734000@the-e-list.com
SUMMARY:The Shops at Yale Presents: Dog Adoption
DESCRIPTION:The Robin I. Kroogman New Haven Animal Shelter\, The Friends of The New Haven Animal Shelter and North Shore Animal League America will be visiting Broadway Island in New Haven on May 2 from 12:00pm to 3:00pm with select dogs available for adoption and information regarding additional animals. Note\, those who wish to adopt must apply. \nThe Dog Adoption is a family-friendly event which is free and open to the public\, featuring fun actives and free parking. The Shops at Yale marketing team will be presenting a check for $3\,500 to Friends of The New Haven Animal Shelter from the proceeds of the third and final Appetizer & Dessert Crawl in 2026\, also taking place on May 2. \nThe event will include: \n• Live Jazz Performances by talented local musicians \n️• Complimentary Caricatures – pets & people welcome \n• Free Face Painting for all ages \n• Complimentary Kettle Corn \n• Complimentary Italian Ice \n• Free Parking at the 150 York Street Garage \nBroadway Island is located at 56 Broadway – across from Apple\, Lululemon and J.Crew. Free parking is available at the 150 York Street Garage (Chapel-York Garage) with validation at the event.
URL:https://the-e-list.com/event/dog-adoption/
LOCATION:Broadway Island\, 56 Broadway\, New Haven\, CT\, United States
ATTACH;FMTTYPE=image/webp:https://the-e-list.com/wp-content/uploads/2026/04/Dog-Adoption-Ad-640x534.jpg-e1776607236690.webp
GEO:41.3115839;-72.9317715
X-APPLE-STRUCTURED-LOCATION;VALUE=URI;X-ADDRESS=Broadway Island 56 Broadway New Haven CT United States;X-APPLE-RADIUS=500;X-TITLE=56 Broadway:geo:-72.9317715,41.3115839
END:VEVENT
END:VCALENDAR