BEGIN:VCALENDAR
VERSION:2.0
PRODID:-//The E List - ECPv6.15.20//NONSGML v1.0//EN
CALSCALE:GREGORIAN
METHOD:PUBLISH
X-ORIGINAL-URL:https://the-e-list.com
X-WR-CALDESC:Events for The E List
REFRESH-INTERVAL;VALUE=DURATION:PT1H
X-Robots-Tag:noindex
X-PUBLISHED-TTL:PT1H
BEGIN:VTIMEZONE
TZID:America/New_York
BEGIN:DAYLIGHT
TZOFFSETFROM:-0500
TZOFFSETTO:-0400
TZNAME:EDT
DTSTART:20220313T070000
END:DAYLIGHT
BEGIN:STANDARD
TZOFFSETFROM:-0400
TZOFFSETTO:-0500
TZNAME:EST
DTSTART:20221106T060000
END:STANDARD
BEGIN:DAYLIGHT
TZOFFSETFROM:-0500
TZOFFSETTO:-0400
TZNAME:EDT
DTSTART:20230312T070000
END:DAYLIGHT
BEGIN:STANDARD
TZOFFSETFROM:-0400
TZOFFSETTO:-0500
TZNAME:EST
DTSTART:20231105T060000
END:STANDARD
BEGIN:DAYLIGHT
TZOFFSETFROM:-0500
TZOFFSETTO:-0400
TZNAME:EDT
DTSTART:20240310T070000
END:DAYLIGHT
BEGIN:STANDARD
TZOFFSETFROM:-0400
TZOFFSETTO:-0500
TZNAME:EST
DTSTART:20241103T060000
END:STANDARD
END:VTIMEZONE
BEGIN:VEVENT
DTSTART;VALUE=DATE:20231210
DTEND;VALUE=DATE:20231218
DTSTAMP:20260425T204028
CREATED:20231210T100930Z
LAST-MODIFIED:20231210T100930Z
UID:10002400-1702166400-1702857599@the-e-list.com
SUMMARY:Order your Holiday Dinner from Chef Paul Barron
DESCRIPTION:Make your holiday celebration easy this year with a holiday dinner from Chef Paul Barron.\n\n\nDate to Order By: Sunday\, December 17\, 2023 \nDetails to Pick Up: Saturday\, December 23\, 2023 between 4:00pm – 6:00pm at our downtown Madison location:  837 Boston Post Road\, Madison\, CT 06443 \n​\nClick to place your order.  $295 Plus tax\, Serves 4 \nMenu \nJumbo Shrimp Cocktail\nVodka-Bloody Mary Cocktail Sauce \nBlood Orange & Roasted Red Beet Salad\nWith Frisée\, Pomegranate\,\nPistachio\, Garrotxa Goats Milk Cheese\, Mustard Vinaigrette \nSlow-Roasted Prime Tenderloin of Beef\nHen-of-the-Woods Mushroom\, Truffled Potato Dauphinoise\, French Green Beans\, Bordelaise \nValrohona Chocolate Pot de Creme\nHazelnut Praline Crumb\, Macerated Dark Cherry\, Whipped Creme Fraiche \nContact us for Custom Orders: info@chefpaulbarron.com
URL:https://the-e-list.com/event/order-your-holiday-dinner-from-chef-paul-barron/
LOCATION:Chef Paul Barron\, 837 Boston Post Road\, Madison\, CT\, 06443\, United States
ATTACH;FMTTYPE=image/jpeg:https://the-e-list.com/wp-content/uploads/2023/12/17309807-785736768242473-622775607625377893-n.jpeg
END:VEVENT
END:VCALENDAR