BEGIN:VCALENDAR
VERSION:2.0
PRODID:-//The E List - ECPv6.15.20//NONSGML v1.0//EN
CALSCALE:GREGORIAN
METHOD:PUBLISH
X-WR-CALNAME:The E List
X-ORIGINAL-URL:https://the-e-list.com
X-WR-CALDESC:Events for The E List
REFRESH-INTERVAL;VALUE=DURATION:PT1H
X-Robots-Tag:noindex
X-PUBLISHED-TTL:PT1H
BEGIN:VTIMEZONE
TZID:America/New_York
BEGIN:DAYLIGHT
TZOFFSETFROM:-0500
TZOFFSETTO:-0400
TZNAME:EDT
DTSTART:20220313T070000
END:DAYLIGHT
BEGIN:STANDARD
TZOFFSETFROM:-0400
TZOFFSETTO:-0500
TZNAME:EST
DTSTART:20221106T060000
END:STANDARD
BEGIN:DAYLIGHT
TZOFFSETFROM:-0500
TZOFFSETTO:-0400
TZNAME:EDT
DTSTART:20230312T070000
END:DAYLIGHT
BEGIN:STANDARD
TZOFFSETFROM:-0400
TZOFFSETTO:-0500
TZNAME:EST
DTSTART:20231105T060000
END:STANDARD
BEGIN:DAYLIGHT
TZOFFSETFROM:-0500
TZOFFSETTO:-0400
TZNAME:EDT
DTSTART:20240310T070000
END:DAYLIGHT
BEGIN:STANDARD
TZOFFSETFROM:-0400
TZOFFSETTO:-0500
TZNAME:EST
DTSTART:20241103T060000
END:STANDARD
END:VTIMEZONE
BEGIN:VEVENT
DTSTART;TZID=America/New_York:20230218T110000
DTEND;TZID=America/New_York:20230218T150000
DTSTAMP:20260426T012843
CREATED:20230206T120403Z
LAST-MODIFIED:20230206T120403Z
UID:10001916-1676718000-1676732400@the-e-list.com
SUMMARY:Saturday Social - Galentine's Edition!
DESCRIPTION:Saturday Social is back for February letting you shop\, socialize and sip a mocktail with your bestie! \nJoin us from 11 am to 3 pm on February 18th to snag all of the self care you can carry as well as new apparel and accessories. We are excited to host Lovage Jewelry!! Check out Erin’s selection of handmade jewelry and grab something shiny to brighten your wardrobe! \nFor more information on our Saturday Social\, Click Here. \nAlso\, visit us at: www.cinderandsalt.com \n  \ncinder + salt is an eco friendly clothing brand\, specializing in sustainable casual apparel for guys\, ladies and kiddos. All of our original designs are silk-screened by hand in our zero-waste printshop\, where we are committed to promoting an environmentally friendly product line & inspiring retail space on Main Street. \n 
URL:https://the-e-list.com/event/saturday-social-galentines-edition/
LOCATION:Cinder + Salt\, 520 Main Street\, Middletown\, CT\, 06457\, United States
ATTACH;FMTTYPE=image/png:https://the-e-list.com/wp-content/uploads/2023/02/cs-Feb-Saturday-Social-e1675790519535.png
END:VEVENT
END:VCALENDAR