BEGIN:VCALENDAR
VERSION:2.0
PRODID:-//The E List - ECPv6.15.20//NONSGML v1.0//EN
CALSCALE:GREGORIAN
METHOD:PUBLISH
X-ORIGINAL-URL:https://the-e-list.com
X-WR-CALDESC:Events for The E List
REFRESH-INTERVAL;VALUE=DURATION:PT1H
X-Robots-Tag:noindex
X-PUBLISHED-TTL:PT1H
BEGIN:VTIMEZONE
TZID:UTC
BEGIN:STANDARD
TZOFFSETFROM:+0000
TZOFFSETTO:+0000
TZNAME:UTC
DTSTART:20230101T000000
END:STANDARD
END:VTIMEZONE
BEGIN:VEVENT
DTSTART;TZID=UTC:20260322T150000
DTEND;TZID=UTC:20260322T170000
DTSTAMP:20260422T103353
CREATED:20260131T203916Z
LAST-MODIFIED:20260131T203916Z
UID:10003298-1774191600-1774198800@the-e-list.com
SUMMARY:Essex Winter Series presents the Award-winning Trio Animoso
DESCRIPTION:On March 22\, 2026 the award-winning Trio Animoso will grace the stage at Congregation Beth Shalom Rodfe Zedek in Chester\, CT for our next concert of the EWS season. This phenomenal group of young artists – Sophia Jean\, flute; Julian Seney\, viola; and Subin Lee\, harp – formed at Yale and won First Prize at the Angel Padilla Crespo International Harp Competition. Continuing this season’s weaving of America’s 250th anniversary celebration into our performances\, the Trio will delight with a program called “French Impressions\, American Echoes.” Selections include Debussy’s Sonata for Flute\, Viola\, and Harp\, as well as pieces by Rameau\, Ravel\, Bonis and others. \nThis concert will be followed by two more: The Grammy® Award-winning choral ensemble of 12 male voices\, Chanticleer\, performing “Our American Journey” on April 12 and our rescheduled January concert\, now on November 8\, 2026. We are delighted that a new date could be arranged for “Timeless Bonds and Renewed Horizons\,” featuring a stellar collaboration of violinist Ani Kavafian\, cellist Peter Wiley\, flutist Tara Helen O’Connor\, and pianist Shai Wosner. Both remaining concerts take place at Valley Regional High School. \nConcerts are on Sundays at 3 pm and all seating is general admission. Adult – $45 / Student – $5. Discounted subscriptions and Flex Passes are available as well. Click for ticket and more information or call 860-272-4572. For all our venues\, parking\, entry and seating accessibility is available. \n2026 season sponsors include ASP Trust\, BrandTech Scientific\, Clark Group\, Essex Bank & Essex Financial Services\, Essex Meadows\, Jeffrey N. Mehler CFP LLC\, Masonicare at Chester Village\, Tower Laboratories\, and WSHU. We also gratefully acknowledge the support for our mission of concerts and community outreach received in part through grant funding by ASP Trust\, Community Foundation of Middlesex County\, Connecticut Office of the Arts/DECD/NEA\, Essex Bank Community Investment Program\, and The Kitchings Family Foundation.
URL:https://the-e-list.com/event/essex-winter-series-presents-the-award-winning-trio-animoso/
LOCATION:Congregation Beth Shalom Rodfe Zedek\, 55 East Kings Highway\, Chester\, CT\, 06412\, United States
ATTACH;FMTTYPE=image/jpeg:https://the-e-list.com/wp-content/uploads/2026/01/Concert-3-650x450-for-E-List-Calendar-rgb.jpg
END:VEVENT
BEGIN:VEVENT
DTSTART;TZID=UTC:20250309T150000
DTEND;TZID=UTC:20250309T170000
DTSTAMP:20260422T103353
CREATED:20250222T192005Z
LAST-MODIFIED:20250223T221942Z
UID:10002920-1741532400-1741539600@the-e-list.com
SUMMARY:Essex Winter Series Presents the Award-winning Terra String Quartet
DESCRIPTION:Following its wonderful February jazz concert\, Essex Winter Series looks forward to the annual Fenton Brown Emerging Artists Concert\, showcasing talented young performers. On March 9\, they welcome Terra String Quartet to the stage at Congregation Beth Shalom Rodfe Zedek in Chester\, CT. This performance by these dynamic\, rising stars – Harriet Langley (violin)\, Amelia Dietrich (violin)\, Chih-Ta Chen (viola) and Audrey Chen (cello) – will delight with selections from Haydn\, Ravel and Beethoven. \nOn March 10th the Quartet will begin a four-day Community Outreach residency with Essex Winter Series\, which will take them to senior communities and schools throughout Middlesex and New London counties. These educational and entertaining sessions can also be taken advantage of at free and open-to-the public events at the Essex Library Association (March 12 at 4 pm) and\, in conjunction with the Community Music School String Ensemble\, the Essex Town Hall Auditorium (March 11 at 6 pm). \nConcert begins at 3 pm and is general admission. Adult – $45 / Student – $5. Click to purchase tickets or call 860-272-4572. For all our venues\, parking\, entry and seating accessibility is available. \nOur 2025 season is generously sponsored by ASP Trust. Concerts are sponsored by BrandTech Scientific\, Clark Group\, Essex Financial Services\, Essex Meadows\, Essex Savings Bank\, Jeffrey N. Mehler CFP LLC\, and Tower Laboratories. Masonicare at Chester Village is a piano sponsor and WSHU is the media sponsor. We also gratefully acknowledge the support for our mission of concerts and community outreach received in part through grant funding by the Community Foundation of Middlesex County\, Connecticut Office of the Arts/DECD\, Essex Community Fund\, Essex Savings Bank Community Investment Program\, and The Kitchings Family Foundation.
URL:https://the-e-list.com/event/essex-winter-series-presents-the-award-winning-terra-string-quartet/
LOCATION:Congregation Beth Shalom Rodfe Zedek\, 55 East Kings Highway\, Chester\, CT\, 06412\, United States
ATTACH;FMTTYPE=image/png:https://the-e-list.com/wp-content/uploads/2025/02/EWS-3-9-25-Concert-600x450-1-e1740251712511.png
END:VEVENT
BEGIN:VEVENT
DTSTART;TZID=UTC:20240310T150000
DTEND;TZID=UTC:20240310T170000
DTSTAMP:20260422T103353
CREATED:20240210T214914Z
LAST-MODIFIED:20240210T214949Z
UID:10002495-1710082800-1710090000@the-e-list.com
SUMMARY:Rising Star Bixby Kennedy\, Clarinet\, Comes to Essex Winter Series
DESCRIPTION:On March 10\, clarinetist Bixby Kennedy\, who often appears with the New Haven Symphony\, will grace the stage for the third EWS concert. Of this very talented emerging artist\, Joseph Dalton of the “Albany Times Union” states\, “Admired for his marvelous ringing tone\, Bixby Kennedy is one of the most versatile clarinetists of his generation.” Joining Bixby at Congregation Beth Shalom in Chester\, CT will be pianist Mika Sasaki for a program focused on the vibrant musical scene of the first half of the 20th century. \nConcerts begin at 3 pm and all seating is general admission. Click for tickets and information or visit essexwinterseries.com or call 860-272-4572. Adult – $45 / Student (with ID) – $5. For all our venues\, parking\, entry and seating accessibility is available. \nThe 2024 season of Essex Winter Series is generously sponsored by ASP Trust. Concerts are sponsored by BrandTech Scientific\, Clark Group\, Essex Financial Services\, Essex Meadows\, Essex Savings Bank\, Jeffrey N. Mehler\, CFP LLC\, and Tower Laboratories. Masonicare at Chester Village is the piano sponsor for this concert and WSHU is the season’s media sponsor. Essex Winter Series also gratefully acknowledges the support for our mission of concerts and community outreach received in part through grant funding by the Community Foundation of Middlesex County\, Connecticut Office of the Arts/DECD\, Connecticut Humanities\, Essex Community Fund\, Essex Savings Bank Community Investment Program\, and The Kitchings Family Foundation.
URL:https://the-e-list.com/event/rising-star-bixby-kennedy-clarinet-comes-to-essex-winter-series/
LOCATION:Congregation Beth Shalom Rodfe Zedek\, 55 East Kings Highway\, Chester\, CT\, 06412\, United States
ATTACH;FMTTYPE=image/png:https://the-e-list.com/wp-content/uploads/2024/02/Kennedy-Saski-Sqish-w-EWS-e1707601737711.png
END:VEVENT
END:VCALENDAR