BEGIN:VCALENDAR
VERSION:2.0
PRODID:-//The E List - ECPv6.15.20//NONSGML v1.0//EN
CALSCALE:GREGORIAN
METHOD:PUBLISH
X-ORIGINAL-URL:https://the-e-list.com
X-WR-CALDESC:Events for The E List
REFRESH-INTERVAL;VALUE=DURATION:PT1H
X-Robots-Tag:noindex
X-PUBLISHED-TTL:PT1H
BEGIN:VTIMEZONE
TZID:UTC
BEGIN:STANDARD
TZOFFSETFROM:+0000
TZOFFSETTO:+0000
TZNAME:UTC
DTSTART:20240101T000000
END:STANDARD
END:VTIMEZONE
BEGIN:VEVENT
DTSTART;VALUE=DATE:20251022
DTEND;VALUE=DATE:20251101
DTSTAMP:20260425T005651
CREATED:20251023T023046Z
LAST-MODIFIED:20251024T023544Z
UID:10003200-1761091200-1761955199@the-e-list.com
SUMMARY:Book your 2026 Mindful Adventure: The Dolomites & Venice
DESCRIPTION:Save the dates from September 29th to October 7th\, 2026 and take a Mindful Adventure to the Dolomites and Venice where you’ll take time to savor the food\, wine\, culture and people. Red Barn Yoga always gathers groups of singles and couples who are curious\, fun\, lifelong learners. One person\, after two trips\, remarked that Red Barn Yoga is her “travel family”. Yes\, you can come on your own without knowing another person\, and you will be welcomed! Fabulous guides bring you behind the scenes to the gondola repair yard\, or to the local Nonna who teaches us how to make the pasta\, or to the estate where people were hidden in WWII. And of course\, you’ll enjoy many\, many sumptuous meals and delicious wine. For this trip\, enjoy cable car rides to the tops of the mountains\, and opportunities to learn of the Dolomite and Venetian history and culture. These tours are a branch of Red Barn Yoga in Lyme and all trips have optional\, gentle yoga included. Red Barn Yoga began offering trips in 2018 and have travelled to Scotland\, Holland\, Utah and three trips to Italy.  Click for registration and informaiton. Deadline to register is October 31st. \nAbout the Trip \nThe Dolomites are a wonderful destination for anyone looking to experience the beauty of nature\, sample delicious cuisine\, and soak up the local culture and hospitality. We’ve included cable car rides up the mountains and some easy hikes with amazing views as well as a gondola ride… \nThe Dolomites in northeastern Italy are a stunning mountain range\, recognized as a UNESCO World Heritage site. Their majestic beauty\, formed from ancient coral reefs\, includes dramatic limestone cliffs\, jagged peaks\, and picturesque valleys.\nThe region offers a wide range of outdoor activities for nature enthusiasts. Charming alpine villages showcase traditional architecture and delightful cuisine. The Dolomites also have historical significance\, with remnants of World War I battles.\nWhether seeking adventure\, tranquility\, or cultural immersion\, the Dolomites provide an unforgettable experience with their captivating landscapes and cultural treasures. \nVenice is famous for its intricate network of canals\, elegant bridges\, and Renaissance and Gothic architecture. Built on more than 100 small islands in a lagoon of the Adriatic Sea\, it has no roads—only waterways navigated by gondolas and vaporettos. Known for its romantic ambiance\, art\, and history\, Venice offers a truly unique experience for travelers.
URL:https://the-e-list.com/event/mindful-adventure-the-dolomites-venice/
LOCATION:Dolomites and Venice
ATTACH;FMTTYPE=image/png:https://the-e-list.com/wp-content/uploads/2025/10/Screenshot-2025-10-22-at-7.10.24-AM-e1761186231476.png
END:VEVENT
END:VCALENDAR