BEGIN:VCALENDAR
VERSION:2.0
PRODID:-//The E List - ECPv6.15.20//NONSGML v1.0//EN
CALSCALE:GREGORIAN
METHOD:PUBLISH
X-WR-CALNAME:The E List
X-ORIGINAL-URL:https://the-e-list.com
X-WR-CALDESC:Events for The E List
REFRESH-INTERVAL;VALUE=DURATION:PT1H
X-Robots-Tag:noindex
X-PUBLISHED-TTL:PT1H
BEGIN:VTIMEZONE
TZID:UTC
BEGIN:STANDARD
TZOFFSETFROM:+0000
TZOFFSETTO:+0000
TZNAME:UTC
DTSTART:20230101T000000
END:STANDARD
END:VTIMEZONE
BEGIN:VTIMEZONE
TZID:America/New_York
BEGIN:DAYLIGHT
TZOFFSETFROM:-0500
TZOFFSETTO:-0400
TZNAME:EDT
DTSTART:20200308T070000
END:DAYLIGHT
BEGIN:STANDARD
TZOFFSETFROM:-0400
TZOFFSETTO:-0500
TZNAME:EST
DTSTART:20201101T060000
END:STANDARD
BEGIN:DAYLIGHT
TZOFFSETFROM:-0500
TZOFFSETTO:-0400
TZNAME:EDT
DTSTART:20210314T070000
END:DAYLIGHT
BEGIN:STANDARD
TZOFFSETFROM:-0400
TZOFFSETTO:-0500
TZNAME:EST
DTSTART:20211107T060000
END:STANDARD
BEGIN:DAYLIGHT
TZOFFSETFROM:-0500
TZOFFSETTO:-0400
TZNAME:EDT
DTSTART:20220313T070000
END:DAYLIGHT
BEGIN:STANDARD
TZOFFSETFROM:-0400
TZOFFSETTO:-0500
TZNAME:EST
DTSTART:20221106T060000
END:STANDARD
BEGIN:DAYLIGHT
TZOFFSETFROM:-0500
TZOFFSETTO:-0400
TZNAME:EDT
DTSTART:20230312T070000
END:DAYLIGHT
BEGIN:STANDARD
TZOFFSETFROM:-0400
TZOFFSETTO:-0500
TZNAME:EST
DTSTART:20231105T060000
END:STANDARD
BEGIN:DAYLIGHT
TZOFFSETFROM:-0500
TZOFFSETTO:-0400
TZNAME:EDT
DTSTART:20240310T070000
END:DAYLIGHT
BEGIN:STANDARD
TZOFFSETFROM:-0400
TZOFFSETTO:-0500
TZNAME:EST
DTSTART:20241103T060000
END:STANDARD
END:VTIMEZONE
BEGIN:VEVENT
DTSTART;TZID=UTC:20260321T110000
DTEND;TZID=UTC:20260321T130000
DTSTAMP:20260423T100856
CREATED:20260302T152310Z
LAST-MODIFIED:20260302T152310Z
UID:10003334-1774090800-1774098000@the-e-list.com
SUMMARY:Essex Go Bragh Irish Parade
DESCRIPTION:The Parade steps-off at 11:00 AM starting at Essex Town Hall and marching through Essex Village.\nThis beloved\, family-friendly tradition is a community favorite. Get ready for a morning filled with Irish spirit\, community pride\, and plenty of smiles. \nThe America 250 Semi-Quincentennial Committee will be the Grand Marshal of the 2026 Essex Go Bragh Parade! This honor recognizes their incredible work in planning local initiatives for America 250\, celebrating the 250th Anniversary of the United States in 2026. Their efforts highlight Essex’s rich history while bringing our community together in meaningful ways. \nParade Details\nThe Grand Marshals will lead the parade on March 21\, stepping off at 11:00 AM from Essex Town Hall\, traveling through the village to Ferry Street\, turning up Pratt Street\, and disbursing at Cross Street. Expect a lively mix of Irish dancers\, pipers and drum corps\, local nonprofits\, businesses\, students\, scouting organizations\, sports teams\, and community groups—and we’d love to add your group to the lineup! Everyone is welcome to attend or march. Wear green\, bring banners\, wave flags\, play music\, and show off your Essex pride!
URL:https://the-e-list.com/event/essex-go-bragh-irish-parade/
LOCATION:Downtown Essex\, Main St\, Essex\, CT\, United States
ATTACH;FMTTYPE=image/jpeg:https://the-e-list.com/wp-content/uploads/2026/03/Essex-Go-Bragh-e1772464953571.jpg
END:VEVENT
BEGIN:VEVENT
DTSTART;TZID=UTC:20250725T100000
DTEND;TZID=UTC:20250727T170000
DTSTAMP:20260423T100856
CREATED:20250722T170108Z
LAST-MODIFIED:20250722T170108Z
UID:10003099-1753437600-1753635600@the-e-list.com
SUMMARY:Essex Board of Trade Sidewalk Sale
DESCRIPTION:Stroll through Essex village and shop for seasonal savings from your favorite local businesses\, discovering hidden gems along the way. Participating businesses in downtown Essex will be exploding with specials and sales. Don’t miss out on the good finds at this annual sidewalk sale event!
URL:https://the-e-list.com/event/essex-board-of-trade-sidewalk-sale/
LOCATION:Downtown Essex\, Main St\, Essex\, CT\, United States
ATTACH;FMTTYPE=image/jpeg:https://the-e-list.com/wp-content/uploads/2025/07/Experience-Essex-e1753203597780.jpg
END:VEVENT
BEGIN:VEVENT
DTSTART;VALUE=DATE:20250606
DTEND;VALUE=DATE:20250610
DTSTAMP:20260423T100856
CREATED:20250527T181314Z
LAST-MODIFIED:20250527T181404Z
UID:10003034-1749168000-1749513599@the-e-list.com
SUMMARY:Connecticut Sea Music Festival 2025
DESCRIPTION:A traditional maritime folk festival will soon drop anchor in historic downtown Essex on June 6-9 ! \nThe 2025 Connecticut Sea Music Festival will feature a family-friendly weekend including a Symposium on the Music of the Sea\, free an Irish rowing boat demonstration and concerts featuring local\, regional\, and international maritime performers\, along with a family stage\, and a Sunday morning revival-style hymn sing. Click for the full weekend schedule. \nStroll Essex with ice cream in hand and hear sea chanteys and maritime music from all over the world. You might even find yourself singing along by day’s end! \nThe daytime events are free\, with donations accepted. Evening Concerts are ticketed. Click for more information and tickets. \n 
URL:https://the-e-list.com/event/connecticut-sea-music-festival-essex/
LOCATION:Downtown Essex\, Main St\, Essex\, CT\, United States
ATTACH;FMTTYPE=image/jpeg:https://the-e-list.com/wp-content/uploads/2025/05/481548701_671071445276515_2551909165439183774_n-e1748369574335.jpg
END:VEVENT
BEGIN:VEVENT
DTSTART;TZID=UTC:20250202T140000
DTEND;TZID=UTC:20250202T150000
DTSTAMP:20260423T100856
CREATED:20250127T222612Z
LAST-MODIFIED:20250127T222612Z
UID:10002902-1738504800-1738508400@the-e-list.com
SUMMARY:Essex Ed Parade
DESCRIPTION:WHO WILL BE ESSEX ED IN 2025? Find out at the Essex Ed Parade on Sunday\, February 2nd at 2 pm! \nEssex Ed will make his big reveal on Sunday\, February 2nd at 2 pm\, when he emerges from Essex Boat Works for his annual procession up Main Street in Essex Village. \nEvery year in celebration of Groundhog Day\, a community organization dresses Essex Ed – a twelve-foot paper mache version of a groundhog – in a costume that recognizes a person or special occasion. That organization and costume remain top secret until Essex Ed appears for his journey and to his place of honor at the roundabout on the top of Main Street. \nThe Essex Ed tradition was born in 1978\, thanks to resident Mary Ellen Brophy\, when out of boredom she and her friends decided to interject some fun into what was an extremely cold and unpleasant winter. Without securing town approval\, Mary Ellen referred to Essex Ed’s surprise appearance at the Essex Square roundabout on Groundhog Day as “creative vandalism – a way to get everybody outside for some silly\, winter fun.” \n47 years later\, the winter festivity continues. Essex Ed has become a bit of a “celebrity groundhog\,” attracting Groundhog Day lovers from far and wide\, who rejoice by wearing groundhog hats and banging traditional noisemakers – pots\, lids\, spoons\, and trumpets. The Griswold Inn serves popcorn and hot chocolate for parade goers\, just as it’s done since day #1! \nThe parade takes place rain\, snow\, or SHINE!
URL:https://the-e-list.com/event/essex-ed-parade/
LOCATION:Downtown Essex\, Main St\, Essex\, CT\, United States
ATTACH;FMTTYPE=image/png:https://the-e-list.com/wp-content/uploads/2025/01/Copy-of-EBOT-Essex-Ed-Parade-Flyer-2025-first-draft-e1738016753192.png
ORGANIZER;CN="Essex Board of Trade":MAILTO:message@experienceessex.com
END:VEVENT
BEGIN:VEVENT
DTSTART;VALUE=DATE:20240607
DTEND;VALUE=DATE:20240611
DTSTAMP:20260423T100856
CREATED:20240313T143643Z
LAST-MODIFIED:20240421T143643Z
UID:10002547-1717718400-1718063999@the-e-list.com
SUMMARY:CT Sea Music Festival in Essex
DESCRIPTION:The 3rd Annual CT Sea Music Festival will drop anchor in historic downtown Essex on June 7-10\, 2024. \nThis family-friendly weekend includes a Symposium on the Music of the Sea\, free daytime workshops and concerts featuring local\, regional\, and international maritime performers\, a family stage\, demonstrations of sailor skills\, sails on the Connecticut River\, a Sunday morning revival-style hymn sing\, and late night Chantey Sings in the historic Griswold Inn. Main stage evening concerts are ticketed events. Stroll Essex with ice cream in hand and hear sea chanteys and maritime music from all over the world. You might even find yourself singing along by day’s end! \nClick for more information.
URL:https://the-e-list.com/event/ct-sea-music-festival-in-essex/
LOCATION:Downtown Essex\, Main St\, Essex\, CT\, United States
ATTACH;FMTTYPE=image/jpeg:https://the-e-list.com/wp-content/uploads/2024/03/CT-Sea-Music-Festival-photo-e1710340598666.jpg
END:VEVENT
BEGIN:VEVENT
DTSTART;TZID=America/New_York:20231126T100000
DTEND;TZID=America/New_York:20231126T180000
DTSTAMP:20260423T100856
CREATED:20231116T203705Z
LAST-MODIFIED:20231116T203705Z
UID:10002373-1700992800-1701021600@the-e-list.com
SUMMARY:Connecticut River Museum's Trees in the Rigging
DESCRIPTION:Trees in the Rigging is back and bigger than ever! Join the Connecticut River Museum for a full day of festive fun! In collaboration with the Essex Historical Society and Safe Harbor Dauntless & Essex Island\, the Connecticut River Museum is thrilled that the celebration is expanding! \nStarting at 10 am\, immerse yourself in the enchanting Annual Holiday Train Show. At noon\, kickstart your holiday shopping on the North Deck\, exploring a delightful Holiday Market filled with unique and wonderful items. The little ones can join in on the fun with children’s craft activities also starting at noon. Warm up and indulge in a cup of delicious hot chocolate. As the day progresses\, at 4:30 pm\, partake in a beloved tradition – a lantern-lit carol stroll from Essex Town Hall to the Connecticut River Museum. And at 5:00pm don’t forget to marvel at the stunning light displays crafted by local boaters during the Boat Parade. There’s something for everyone to enjoy during this festive celebration. \nNovember 26\, 2023 \n10:00am-6:00pm \n10:00am – Holiday Train Show \n12:00pm- Holiday Market \n12:00- Children’s activities \n4:30pm – Parade – lantern lit carol stroll \n5:00pm- Boat Parade \n\n\n 
URL:https://the-e-list.com/event/connecticut-river-museums-trees-in-the-rigging/
LOCATION:Downtown Essex\, Main St\, Essex\, CT\, United States
ATTACH;FMTTYPE=image/png:https://the-e-list.com/wp-content/uploads/2023/11/TIR.png
END:VEVENT
BEGIN:VEVENT
DTSTART;TZID=America/New_York:20221116T170000
DTEND;TZID=America/New_York:20221116T203000
DTSTAMP:20260423T100856
CREATED:20221026T122539Z
LAST-MODIFIED:20221026T122539Z
UID:10001952-1668618000-1668630600@the-e-list.com
SUMMARY:Girls’ Night Out in Essex
DESCRIPTION:We are THRILLED to announce a Girls’ Night Out in Essex on November 16th\, 2022.  Meet The E List team at The Griswold Inn Wine Bar between 5 pm and 6:30 pm for 1/2 price wine and to pick up your sticker to qualify for discounts. Then head out to shop the boutiques of Essex and take 20% off almost everything (some exclusions apply) at participating boutiques. Get a head start on the holidays or find some goodies for yourself! \nThe Wine Bar at The Griswold Inn at 36 Main Street: Meet us here between 5 and 6:30 for 1/2 price wine and to pick up your sticker to qualify for discounts. The Wine Bar will be open for dinner. Reservations are a must: 860.767.1776 \nAlso\, Dockside at Dauntless is participating for dinner and drinks! 37 Pratt Street. \nChequer Interiors\, 19A Main Street: a full-service interior design studio with projects throughout New England\, New York\, and Florida. Our Essex retail shop offers a beautifully curated collection of antique\, vintage\, and new finds for the well-appointed home. Home inspiration\, gifts\, and accessories await your visit! \nCortland Park\, 23 B Main Street: Ladies’ apparel\, shoes\, and accessories for a classic\, sophisticated lifestyle with a contemporary edge.  Curating quality classic and impossibly fun styles of the moment. … \nEmmy’s on Main\, 45 Main Street: An eclectic array of women’s clothing\, artisan jewelry\, locally made candles\, pottery and nautical items as well as Essex attire and souvenirs. \nFlow Essex\, 2 Nott Lane is the Shoreline’s newest award-winning boutique fitness studio. The airy\, modern studio exudes an essence of luxury and small class sizes ensure a personalized experience for all members. Visit Flow Essex on Girl’s Night Out to meet their top tier instructors and take advantage of class package discounts. \nGoods & Curiosities ~ The Griswold Inn Store\, 47 Main Street: An eclectic mix of products inspired by The Inn and New England – from their Early American and maritime heritage to Connecticut lifestyle and entertaining today. Traditional\, contemporary\, whimsical – Goods & Curiosities. \nHaystacks\, 21 Main Street: Haystacks designs and creates original Haystacks Brand clothing and accessories in Suttons Bay\, Michigan. Several times a year\, fresh prints and styles emerge\, offering something new and unique. Haystacks is most famous for stylish Bias Skirts and comfy Energy Pants. Comfortable\, colorful\, and packable\, that’s what Haystacks is all about! \nJ. Alden Clothiers for Women & Men\, 17 Main Street:  Style\, selection\, and spirit of discovery have made J. Alden a boutique not to be missed. \nJ.McLaughlin\, 3 Main Street: Enjoy 20% off of all purchases for E-list shoppers. J.McLaughlin was founded in 1977 by brothers Jay and Kevin with a mission to create a new American sportswear brand that offers two key components: classic clothes with current relevance and a retail environment with a neighborhood feel. \nOne North Main\, 1 Main Street: One North Main is celebrating spring with color\, texture\, and an unbelievable selection of accessories. Store owner Deb Thompson and her professional staff are experts at helping you look your very best. \nPough Interiors\, 8 Main Street: Come visit the shop in their fresh new location! Whether you are looking to freshen up your room with a few new accessories or starting with a blank canvas and need the assistance of our interior decorating services\, we are here to help. Pough Interiors is committed to offering exceptional value while maintaining great style and superior customer service. \nThe RiverLane\, 7 Main Street: Visit the newest addition to the charming Essex retail community! The RiverLane is your easy-to-shop oasis for genuine retail therapy where you can find over 50 beloved brands in one destination experience. \nWeekend Kitchen\, 16 Main Street: Weekend Kitchen is teaming up with Chef Ani Robaina of Ani’s Table for an evening of food fun! Weekend Kitchen is an eclectic kitchen shop that incorporates a fun mix of both new and vintage items for your home. Chef Ani Robaina will provide our refreshments and be selling her famous creme brûlées from her Brûlée bike! \n\nWe are grateful to Essex Board of Trade for sponsoring this event. 
URL:https://the-e-list.com/event/girls-night-out-in-essex/
LOCATION:Downtown Essex\, Main St\, Essex\, CT\, United States
ATTACH;FMTTYPE=image/jpeg:https://the-e-list.com/wp-content/uploads/2022/10/GNO_EList970-e1666802842684.jpg
END:VEVENT
BEGIN:VEVENT
DTSTART;VALUE=DATE:20210901
DTEND;VALUE=DATE:20211001
DTSTAMP:20260423T100856
CREATED:20210615T094440Z
LAST-MODIFIED:20210615T094440Z
UID:10000335-1630454400-1633046399@the-e-list.com
SUMMARY:Alfresco Thursdays 2021
DESCRIPTION:Essex Board of Trade (EBOT) is excited to launch its third annual summer of Alfresco Thursdays weekly\, July 1 – September 30\, 2021. Dates for this 14-week event are as follows:  \n\nJuly 1\, 8\, 15\, 22\, 29 \nAugust 5\, 12\, 19\, 26 \nSeptember 2\, 9\, 16 (Yom Kippur)\, 23\, 30 \n\nEssex Village will once again be hustling and bustling with the robust excitement and electrifying energy of Alfresco Thursdays\, celebrating the summer of 2021 in our picturesque\, river’s edge\, small town.  \nWith welcoming events planned for the upcoming 14-weeks of beautiful weather\, Essex  will be celebrating the freedom of Covid-19 restrictions being lifted allowing the merchants\, community members and visitors to embrace the good times\, partake in the fun\, support local and enjoy all that Essex has to offer with live music\, retail open to 8 p.m.\, specialty menus\, sip and shops\, trunk shows and more. Each Thursday\, throughout the summer\, will be filled with its own unique happenings\, including but not limited to the following:  \n\nThe Connecticut River Museum’s weekly “Thursdays on the Dock” live concert series\, starts July 8\nEssex Park & Recreation’s weekly “Yoga in the Park” from 5:30 to 6:30 p.m. at the Essex Park\nOlive Oyl’s will feature its weekly Dinner & Live Music series \nOutdoor dining will be offered on restaurant patios and docks including the Griswold Inn\, Carlson’s Landing\, Siren\, etc. \nShops & Galleries will be open until 8pm!!! \n\nFor updates and more information on Alfresco Thursdays\, please visit http://essexct.com\, or join us on Facebook and Instragram at ExperienceEssex. \nVisit the website.
URL:https://the-e-list.com/event/alfresco-thursdays-2021/
LOCATION:Downtown Essex\, Main St\, Essex\, CT\, United States
ATTACH;FMTTYPE=image/jpeg:https://the-e-list.com/wp-content/uploads/2021/06/EBOT_Alfresco_InstagramFacebook_2021-e1623862722317.jpg
END:VEVENT
END:VCALENDAR