BEGIN:VCALENDAR
VERSION:2.0
PRODID:-//The E List - ECPv6.15.20//NONSGML v1.0//EN
CALSCALE:GREGORIAN
METHOD:PUBLISH
X-WR-CALNAME:The E List
X-ORIGINAL-URL:https://the-e-list.com
X-WR-CALDESC:Events for The E List
REFRESH-INTERVAL;VALUE=DURATION:PT1H
X-Robots-Tag:noindex
X-PUBLISHED-TTL:PT1H
BEGIN:VTIMEZONE
TZID:UTC
BEGIN:STANDARD
TZOFFSETFROM:+0000
TZOFFSETTO:+0000
TZNAME:UTC
DTSTART:20240101T000000
END:STANDARD
END:VTIMEZONE
BEGIN:VTIMEZONE
TZID:UTC
BEGIN:STANDARD
TZOFFSETFROM:+0000
TZOFFSETTO:+0000
TZNAME:UTC
DTSTART:20240101T000000
END:STANDARD
END:VTIMEZONE
BEGIN:VEVENT
DTSTART;TZID=UTC:20251120T163000
DTEND;TZID=UTC:20251120T203000
DTSTAMP:20260423T064936
CREATED:20251024T023920Z
LAST-MODIFIED:20251028T022456Z
UID:10003202-1763656200-1763670600@the-e-list.com
SUMMARY:Flights of Fancy: Holiday Edition
DESCRIPTION:Downtown NHV presents New Haven’s premier shopping\, wine and food crawl – Flights of Fancy! Calling all of CT’s fashionistas\, amateur sommeliers\, and foodies to kick off the holiday season\, enjoying 20+ sipping\, tasting and shopping stops\, souvenir wine glasses and event bags\, shopping discounts and promotions\, raffle prizes\, giveaways and more! \nPurchase tickets online.
URL:https://the-e-list.com/event/flights-of-fancy-holiday-edition/
LOCATION:Downtown New Haven\, New Haven\, CT\, 06501\, United States
ATTACH;FMTTYPE=image/png:https://the-e-list.com/wp-content/uploads/2025/10/FoF-Nov-2025-banner-650-x-400-px-e1761273478200.png
END:VEVENT
BEGIN:VEVENT
DTSTART;VALUE=DATE:20251102
DTEND;VALUE=DATE:20251116
DTSTAMP:20260423T064936
CREATED:20241007T234806Z
LAST-MODIFIED:20251103T170158Z
UID:10002780-1762041600-1763251199@the-e-list.com
SUMMARY:New Haven Restaurant Week
DESCRIPTION:Get ready for Connecticut’s most anticipated dining event\, New Haven Restaurant Week\, November 2-15. Explore the vibrant Elm City and savor dishes from the best restaurants of New Haven’s culinary scene! City-Wide Dining Deals. 23 Restaurants. 8 Neighborhoods. \nReservations are highly recommend\, so book your tables early! \nClick here for the list of participating restaurants and to make reservations.
URL:https://the-e-list.com/event/new-haven-restaurant-week-5/
LOCATION:Downtown New Haven\, New Haven\, CT\, 06501\, United States
ATTACH;FMTTYPE=image/jpeg:https://the-e-list.com/wp-content/uploads/2024/10/Unknown-1-e1761619896677.jpeg
END:VEVENT
END:VCALENDAR