BEGIN:VCALENDAR
VERSION:2.0
PRODID:-//The E List - ECPv6.15.20//NONSGML v1.0//EN
CALSCALE:GREGORIAN
METHOD:PUBLISH
X-WR-CALNAME:The E List
X-ORIGINAL-URL:https://the-e-list.com
X-WR-CALDESC:Events for The E List
REFRESH-INTERVAL;VALUE=DURATION:PT1H
X-Robots-Tag:noindex
X-PUBLISHED-TTL:PT1H
BEGIN:VTIMEZONE
TZID:UTC
BEGIN:STANDARD
TZOFFSETFROM:+0000
TZOFFSETTO:+0000
TZNAME:UTC
DTSTART:20240101T000000
END:STANDARD
END:VTIMEZONE
BEGIN:VEVENT
DTSTART;TZID=UTC:20250712T120000
DTEND;TZID=UTC:20250712T213000
DTSTAMP:20260423T182604
CREATED:20250616T172446Z
LAST-MODIFIED:20250623T205037Z
UID:10003053-1752321600-1752355800@the-e-list.com
SUMMARY:Celebrate New London & Mashantucket Pequot Fireworks Extravaganza
DESCRIPTION:Bring the whole family for great music\, food\, and fun at Celebrate New London on Saturday\, July 12th! The festival features two stages\, local artisans\, over a dozen food trucks\, and exhibitors in downtown and along the waterfront. Our marquee attraction is The Mashantucket Pequot Fireworks Extravaganza! Southern New England’s largest fireworks show is The Mashantucket Pequot Fireworks Extravaganza in New London on Saturday\, July 12th at 9pm. Tune in to Big 100.9 for music synchronization to the fireworks and enjoy the complete audio visual experience.
URL:https://the-e-list.com/event/celebrate-new-london-mashantucket-pequot-thames-river-fireworks-extravaganza/
LOCATION:Downtown New London\, New London \, CT\, 06320\, United States
ATTACH;FMTTYPE=image/png:https://the-e-list.com/wp-content/uploads/2025/06/Screenshot-2025-06-10-at-12.51.00 PM-e1750094399310.png
END:VEVENT
END:VCALENDAR