BEGIN:VCALENDAR
VERSION:2.0
PRODID:-//The E List - ECPv6.15.20//NONSGML v1.0//EN
CALSCALE:GREGORIAN
METHOD:PUBLISH
X-ORIGINAL-URL:https://the-e-list.com
X-WR-CALDESC:Events for The E List
REFRESH-INTERVAL;VALUE=DURATION:PT1H
X-Robots-Tag:noindex
X-PUBLISHED-TTL:PT1H
BEGIN:VTIMEZONE
TZID:UTC
BEGIN:STANDARD
TZOFFSETFROM:+0000
TZOFFSETTO:+0000
TZNAME:UTC
DTSTART:20230101T000000
END:STANDARD
END:VTIMEZONE
BEGIN:VEVENT
DTSTART;TZID=UTC:20240214T170000
DTEND;TZID=UTC:20240214T203000
DTSTAMP:20260425T153408
CREATED:20240124T190043Z
LAST-MODIFIED:20240124T190258Z
UID:10002474-1707930000-1707942600@the-e-list.com
SUMMARY:Celebrate Valentine's Day at Grano Arso
DESCRIPTION:Valentine’s Day is just around the corner! Show your love with Italian food at Grano Arso. \n$95 per guest. Wine pairing will be offered for an additional $45 per person\, so don’t forget to inform your server. Please note pricing excludes\, tax\, gratuity\, and beverages consumed. \nClick to make your reservations!
URL:https://the-e-list.com/event/celebrate-valentines-day-at-grano-arso/
LOCATION:Grano Arso Restaurant\, 6 Main Street\, CT\, United States
ATTACH;FMTTYPE=image/jpeg:https://the-e-list.com/wp-content/uploads/2024/01/V-day-2024-1-e1706122832126.jpg
GEO:41.4098202;-73.3056807
X-APPLE-STRUCTURED-LOCATION;VALUE=URI;X-ADDRESS=Grano Arso Restaurant 6 Main Street CT United States;X-APPLE-RADIUS=500;X-TITLE=6 Main Street:geo:-73.3056807,41.4098202
END:VEVENT
END:VCALENDAR