BEGIN:VCALENDAR
VERSION:2.0
PRODID:-//The E List - ECPv6.15.20//NONSGML v1.0//EN
CALSCALE:GREGORIAN
METHOD:PUBLISH
X-ORIGINAL-URL:https://the-e-list.com
X-WR-CALDESC:Events for The E List
REFRESH-INTERVAL;VALUE=DURATION:PT1H
X-Robots-Tag:noindex
X-PUBLISHED-TTL:PT1H
BEGIN:VTIMEZONE
TZID:UTC
BEGIN:STANDARD
TZOFFSETFROM:+0000
TZOFFSETTO:+0000
TZNAME:UTC
DTSTART:20240101T000000
END:STANDARD
END:VTIMEZONE
BEGIN:VEVENT
DTSTART;TZID=UTC:20250215T170000
DTEND;TZID=UTC:20250216T150000
DTSTAMP:20260422T084201
CREATED:20250104T160711Z
LAST-MODIFIED:20250104T160711Z
UID:10002848-1739638800-1739718000@the-e-list.com
SUMMARY:Musical Masterworks features early music ensemble\, Ruckus
DESCRIPTION:Musical Masterworks is pleased to announce its first concert weekend of the new year\, taking place on February 15th and 16th at the First Congregational Church of Old Lyme. \nIn this weekend’s concerts\, Musical Masterworks will turn to early music inspirations with the celebrated early music ensemble\, Ruckus. The entire program is based on works by J.S. Bach\, realized and reimagined by flutist Emi Ferguson and Ruckus. Ferguson first captivated our audiences during her Musical Masterworks debut last season alongside Caleb Hudson. \nArtistic Director and violinist Tessa Lark\, will join the ensemble\, and expressed her anticipation for the upcoming performances: \n“Ruckus is a remarkable ensemble that represents a unique phenomenon—artists who are equally rooted in early music traditions and modern sensibilities. They excel at curating compelling programs\, and I am thrilled to help them reimagine these extraordinary works.” \nThe featured performers include an all-star lineup of musicians\, combining the talents of:\n• Emi Ferguson (Baroque flute)\n• Clay Zeller-Townson (bassoon)\n• Caitlyn Koester (keyboards)\n• Doug Balliett (Baroque bass)\n• Coleman Itzkoff (Baroque cello)\n• Paul Holmes Morton (Baroque guitars)\n• Adam Cockerham (Baroque guitars)\n• Tessa Lark (violin) \nMusical Masterworks 34th season runs from October 2024 – April 2025 at the First Congregational Church of Old Lyme at 4 Lyme Street. To purchase mini-subscriptions ($115 each)\, individual tickets ($45 each)\, or student tickets ($5 each). \nClick to purchase tickets.
URL:https://the-e-list.com/event/musical-masterworks-features-early-music-ensemble-ruckus/
LOCATION:First Congregational Church of Old Lyme\, 2 Ferry Road\, Old Lyme\, CT\, 06371\, United States
ATTACH;FMTTYPE=image/jpeg:https://the-e-list.com/wp-content/uploads/2025/01/Feb-2025-concert-e1736006634358.jpg
END:VEVENT
END:VCALENDAR