BEGIN:VCALENDAR
VERSION:2.0
PRODID:-//The E List - ECPv6.15.20//NONSGML v1.0//EN
CALSCALE:GREGORIAN
METHOD:PUBLISH
X-ORIGINAL-URL:https://the-e-list.com
X-WR-CALDESC:Events for The E List
REFRESH-INTERVAL;VALUE=DURATION:PT1H
X-Robots-Tag:noindex
X-PUBLISHED-TTL:PT1H
BEGIN:VTIMEZONE
TZID:UTC
BEGIN:STANDARD
TZOFFSETFROM:+0000
TZOFFSETTO:+0000
TZNAME:UTC
DTSTART:20230101T000000
END:STANDARD
END:VTIMEZONE
BEGIN:VEVENT
DTSTART;TZID=UTC:20260211T160000
DTEND;TZID=UTC:20260211T200000
DTSTAMP:20260425T133457
CREATED:20260202T211608Z
LAST-MODIFIED:20260202T211608Z
UID:10003303-1770825600-1770840000@the-e-list.com
SUMMARY:Flutterby Valentine’s Party
DESCRIPTION:You’re Invited!!\nJoin us for a Flutterby Valentine’s Party\nWednesday\, February 11th | 4–8pm\n\n\n Live acoustic music\n Chocolate martinis and Light Bites by Star Gourmet\n Valentine’s favorites throughout the store!\n\n\nCome by\, sip something sweet\, and celebrate the season with us\, we can’t wait to see you all!\n\n\nFind out more!
URL:https://the-e-list.com/event/flutterby-valentines-party/
LOCATION:Flutterby\, 55 Whitfield Street\, Guilford\, CT\, United States
ATTACH;FMTTYPE=image/png:https://the-e-list.com/wp-content/uploads/2026/02/flutter_event.png
END:VEVENT
BEGIN:VEVENT
DTSTART;TZID=UTC:20250206T170000
DTEND;TZID=UTC:20250206T190000
DTSTAMP:20260425T133457
CREATED:20250128T181739Z
LAST-MODIFIED:20250128T183427Z
UID:10002903-1738861200-1738868400@the-e-list.com
SUMMARY:Galentine's Fun at Flutterby
DESCRIPTION:Join us on Thursday\, February 6 from 5 to 7 PM for our Valentines party! Live acoustic music by the amazing Arlene Wow and enjoy our famous chocolate martini! Bring your Galentine‘s and shop for those special people!
URL:https://the-e-list.com/event/galentines-fun-at-flutterby/
LOCATION:Flutterby\, 55 Whitfield Street\, Guilford\, CT\, United States
ATTACH;FMTTYPE=image/jpeg:https://the-e-list.com/wp-content/uploads/2025/01/IMG_0290-e1738088042311.jpg
END:VEVENT
BEGIN:VEVENT
DTSTART;TZID=UTC:20240427T150000
DTEND;TZID=UTC:20240427T180000
DTSTAMP:20260425T133457
CREATED:20240408T113855Z
LAST-MODIFIED:20240408T113855Z
UID:10002570-1714230000-1714240800@the-e-list.com
SUMMARY:Celebrate Flutterby's 25th Anniversary
DESCRIPTION:With heartfelt thanks to our amazing customers\, Flutterby is turning 25! Please celebrate with us on Sat April 27th 3-6pm! Come enjoy live music from The Grateful Friends\, hot dogs and beer\, face painting and balloon twisting for adults and kids. We are honored to call the Guilford Green our home.
URL:https://the-e-list.com/event/celebrate-flutterbys-25th-anniversary/
LOCATION:Flutterby\, 55 Whitfield Street\, Guilford\, CT\, United States
ATTACH;FMTTYPE=image/png:https://the-e-list.com/wp-content/uploads/2024/04/flutterby_event.png
END:VEVENT
END:VCALENDAR