BEGIN:VCALENDAR
VERSION:2.0
PRODID:-//The E List - ECPv6.15.20//NONSGML v1.0//EN
CALSCALE:GREGORIAN
METHOD:PUBLISH
X-WR-CALNAME:The E List
X-ORIGINAL-URL:https://the-e-list.com
X-WR-CALDESC:Events for The E List
REFRESH-INTERVAL;VALUE=DURATION:PT1H
X-Robots-Tag:noindex
X-PUBLISHED-TTL:PT1H
BEGIN:VTIMEZONE
TZID:UTC
BEGIN:STANDARD
TZOFFSETFROM:+0000
TZOFFSETTO:+0000
TZNAME:UTC
DTSTART:20240101T000000
END:STANDARD
END:VTIMEZONE
BEGIN:VEVENT
DTSTART;TZID=UTC:20251203T150000
DTEND;TZID=UTC:20251203T180000
DTSTAMP:20260423T232723
CREATED:20251124T181813Z
LAST-MODIFIED:20251124T182101Z
UID:10003256-1764774000-1764784800@the-e-list.com
SUMMARY:Santa's Coming To Town! - An Afternoon with St. Nick
DESCRIPTION:Bring the family and capture the magic of the season! Santa Claus is stopping by Gentlemen’s Social for a cozy afternoon of smiles\, photos\, and holiday cheer. Kids can share their wish lists\, snap a festive portrait\, and enjoy a warm welcoming visit with St. Nick. Photos with Santa will be expertly provided by the fine folks at Rise Visual Media\, with a portion of proceeds from the event going to the Dan Cosgrove Animal Shelter. ** Santa says your furry friends are welcome too! **
URL:https://the-e-list.com/event/santas-coming-to-town-an-afternoon-with-st-nick/
LOCATION:Gentleman’s Social\, 63 Whitfield Street\, Guilford\, CT
ATTACH;FMTTYPE=image/jpeg:https://the-e-list.com/wp-content/uploads/2025/11/santa-holiday-event-2025-e1764008289488.jpg
END:VEVENT
END:VCALENDAR