BEGIN:VCALENDAR
VERSION:2.0
PRODID:-//The E List - ECPv6.15.20//NONSGML v1.0//EN
CALSCALE:GREGORIAN
METHOD:PUBLISH
X-WR-CALNAME:The E List
X-ORIGINAL-URL:https://the-e-list.com
X-WR-CALDESC:Events for The E List
REFRESH-INTERVAL;VALUE=DURATION:PT1H
X-Robots-Tag:noindex
X-PUBLISHED-TTL:PT1H
BEGIN:VTIMEZONE
TZID:UTC
BEGIN:STANDARD
TZOFFSETFROM:+0000
TZOFFSETTO:+0000
TZNAME:UTC
DTSTART:20240101T000000
END:STANDARD
END:VTIMEZONE
BEGIN:VEVENT
DTSTART;TZID=UTC:20250825T190000
DTEND;TZID=UTC:20250825T203000
DTSTAMP:20260425T161834
CREATED:20250724T115920Z
LAST-MODIFIED:20250818T161538Z
UID:10003103-1756148400-1756153800@the-e-list.com
SUMMARY:Auditions: Con Brio Choral Society
DESCRIPTION:Con Brio Choral Society\, led by their new Music Director\, Dr. Chris Shepard\, will hold auditions on Monday\, Aug. 25\, at Grace Episcopal Church\, 336 Main St.\, Old Saybrook from 7:00-8:30 pm. Call 860-575-1533 to schedule a time. Con Brio rehearses on Mondays from 7-9 pm starting on Sept. 8. Click for more information.
URL:https://the-e-list.com/event/auditions-con-brio-choral-society-2/
LOCATION:Grace Episcopal Church\, 336 Main Street\, Old Saybrook\, CT
ATTACH;FMTTYPE=image/jpeg:https://the-e-list.com/wp-content/uploads/2025/07/Audition-Ad-E-List-scaled-e1754388301312.jpg
END:VEVENT
END:VCALENDAR