BEGIN:VCALENDAR
VERSION:2.0
PRODID:-//The E List - ECPv6.15.20//NONSGML v1.0//EN
CALSCALE:GREGORIAN
METHOD:PUBLISH
X-ORIGINAL-URL:https://the-e-list.com
X-WR-CALDESC:Events for The E List
REFRESH-INTERVAL;VALUE=DURATION:PT1H
X-Robots-Tag:noindex
X-PUBLISHED-TTL:PT1H
BEGIN:VTIMEZONE
TZID:UTC
BEGIN:STANDARD
TZOFFSETFROM:+0000
TZOFFSETTO:+0000
TZNAME:UTC
DTSTART:20240101T000000
END:STANDARD
END:VTIMEZONE
BEGIN:VTIMEZONE
TZID:UTC
BEGIN:STANDARD
TZOFFSETFROM:+0000
TZOFFSETTO:+0000
TZNAME:UTC
DTSTART:20230101T000000
END:STANDARD
END:VTIMEZONE
BEGIN:VEVENT
DTSTART;TZID=UTC:20250926T173000
DTEND;TZID=UTC:20250926T210000
DTSTAMP:20260424T234203
CREATED:20250909T175426Z
LAST-MODIFIED:20250909T175426Z
UID:10003151-1758907800-1758920400@the-e-list.com
SUMMARY:Guilford Meals on Wheels Fundraiser - Darling Diva Bingo
DESCRIPTION:Join Guilford Interfaith Volunteers for fun fundraiser to support Guilford Meals on Wheels Program.  Get ready for an outrageously fun night of Drag Queen Bingo. The Darling Divas will entertain you with DAZZLING performances during this night’s 10 bingo games. \nTime: Doors open at 5:30 PM\, Festivities start at 6:30 PM\nTickets: $40 – Call the MOW office at 203-453-8359 to reserve your seat or pay at the door. \nCash Bar & Desserts available for purchase (BYO non-alcoholic beverages/snacks also welcome). \nALL PROCEEDS BENEFIT GUILFORD MEALS ON WHEELS \nNOTE: This is an 18+ event. No children allowed.
URL:https://the-e-list.com/event/guilford-meals-on-wheels-fundraiser-darling-diva-bingo/
LOCATION:Guilford VFW\, 104 Mill Road\, Guilford\, CT\, 06437\, United States
ATTACH;FMTTYPE=image/jpeg:https://the-e-list.com/wp-content/uploads/2025/09/2025-flyer-landscape-e1757440416137.jpg
END:VEVENT
BEGIN:VEVENT
DTSTART;TZID=UTC:20240927T053000
DTEND;TZID=UTC:20240927T200000
DTSTAMP:20260424T234203
CREATED:20240917T161031Z
LAST-MODIFIED:20240917T161031Z
UID:10002738-1727415000-1727467200@the-e-list.com
SUMMARY:Meal on Wheels Fundraiser - Darling Diva Bingo
DESCRIPTION:Join us for an outrageously fun night of Drag Queen Bingo. The Darling Divas will entertain you with Dazzling performances during the night’s 10 bingo games. \nLocation: VFW Post Hall – 104 Mill Road in Guilford \nDoors open at 5:30PM\, Festivities start at 6:30PM Tickets: $30 in advance (call the MOW office at 203-453-8359) or $35 at the night of the event. \nCash Bar & desserts available for purchase. (BYO non-alcoholic beverage/snacks also welcome) ALL PROCEEDS BENEFIT GUILFORD MEALS ON WHEELS \nNOTE; This is an 18+ event. No children allowed \n 
URL:https://the-e-list.com/event/meal-on-wheels-fundraiser-darling-diva-bingo/
LOCATION:Guilford VFW\, 104 Mill Road\, Guilford\, CT\, 06437\, United States
ATTACH;FMTTYPE=image/png:https://the-e-list.com/wp-content/uploads/2024/09/Screenshot-2024-09-17-at-12.09.37 PM-e1726589423851.png
END:VEVENT
END:VCALENDAR