BEGIN:VCALENDAR
VERSION:2.0
PRODID:-//The E List - ECPv6.15.20//NONSGML v1.0//EN
CALSCALE:GREGORIAN
METHOD:PUBLISH
X-ORIGINAL-URL:https://the-e-list.com
X-WR-CALDESC:Events for The E List
REFRESH-INTERVAL;VALUE=DURATION:PT1H
X-Robots-Tag:noindex
X-PUBLISHED-TTL:PT1H
BEGIN:VTIMEZONE
TZID:UTC
BEGIN:STANDARD
TZOFFSETFROM:+0000
TZOFFSETTO:+0000
TZNAME:UTC
DTSTART:20240101T000000
END:STANDARD
END:VTIMEZONE
BEGIN:VEVENT
DTSTART;TZID=UTC:20251011T100000
DTEND;TZID=UTC:20251012T160000
DTSTAMP:20260423T210029
CREATED:20250924T151400Z
LAST-MODIFIED:20250924T151440Z
UID:10003169-1760176800-1760284800@the-e-list.com
SUMMARY:Connecticut River Valley Antiques Show and Historic Preservation Fair
DESCRIPTION:The Connecticut River Valley Antiques Show and Historic Preservation Fair returns for a second year under the stewardship of the Haddam Historical Society and Goosefare Antiques & Promotions. New location but same quality dealers and superb merchandise\, as well as experts in the historic house preservation field. \nThe show will feature 30 plus of New England’s finest antiques dealers offering a wide variety of antiques and art that will include furniture\, decorative and folk art\, ceramics\, and so much more. Visitors will be able to explore the stories\, craftmanship and beauty of one-of-a-kind pieces and learn from our knowledgeable and distinguished dealers. \nThe Historic Preservation Fair includes programming aimed at owners of antique homes with exhibits and informative presentations on how to restore\, preserve\, and curate historic properties. \nSaturday\, October 11\, 2025 – 10 am to 5 pm\nSunday\, October 12\, 2025 – 11 am to 4 pm\nHaddam Killingworth Intermediate/Middle School\n451 Route 81\, Killingworth\, Ct 06419
URL:https://the-e-list.com/event/connecticut-river-valley-antiques-show-and-historic-preservation-fair/
LOCATION:Haddam Killingworth Middle School\, 451 Route 81\, Killingworth\, CT\, 06419\, United States
ATTACH;FMTTYPE=image/jpeg:https://the-e-list.com/wp-content/uploads/2025/09/elist-antique-e1758726739113.jpg
ORGANIZER;CN="Haddam Historical Society/Thankful Arnold House":MAILTO:contact@haddamhistory.org
END:VEVENT
END:VCALENDAR