BEGIN:VCALENDAR
VERSION:2.0
PRODID:-//The E List - ECPv6.15.20//NONSGML v1.0//EN
CALSCALE:GREGORIAN
METHOD:PUBLISH
X-ORIGINAL-URL:https://the-e-list.com
X-WR-CALDESC:Events for The E List
REFRESH-INTERVAL;VALUE=DURATION:PT1H
X-Robots-Tag:noindex
X-PUBLISHED-TTL:PT1H
BEGIN:VTIMEZONE
TZID:UTC
BEGIN:STANDARD
TZOFFSETFROM:+0000
TZOFFSETTO:+0000
TZNAME:UTC
DTSTART:20250101T000000
END:STANDARD
END:VTIMEZONE
BEGIN:VEVENT
DTSTART;TZID=UTC:20260425T190000
DTEND;TZID=UTC:20260425T213000
DTSTAMP:20260423T074148
CREATED:20260408T184632Z
LAST-MODIFIED:20260408T184913Z
UID:10003379-1777143600-1777152600@the-e-list.com
SUMMARY:April in Paris at Hadlyme Hall
DESCRIPTION:David Alexandre Winter\, European Superstar\, Sold Over 26 Million Records \nSings in French (with Subtitles) and English \n90 Minutes of French Delight in a Show Entitled: “April in Paris” \nDon’t Miss! \nTickets only available online.
URL:https://the-e-list.com/event/april-in-paris-at-hadlyme-hall/
LOCATION:Hadlyme Public Hall\, 63 Ferry Road\, Lyme\, CT\, 06371\, United States
ATTACH;FMTTYPE=image/jpeg:https://the-e-list.com/wp-content/uploads/2026/04/TICKET-2-scaled-e1775673738502.jpg
END:VEVENT
END:VCALENDAR