BEGIN:VCALENDAR
VERSION:2.0
PRODID:-//The E List - ECPv6.15.20//NONSGML v1.0//EN
CALSCALE:GREGORIAN
METHOD:PUBLISH
X-ORIGINAL-URL:https://the-e-list.com
X-WR-CALDESC:Events for The E List
REFRESH-INTERVAL;VALUE=DURATION:PT1H
X-Robots-Tag:noindex
X-PUBLISHED-TTL:PT1H
BEGIN:VTIMEZONE
TZID:UTC
BEGIN:STANDARD
TZOFFSETFROM:+0000
TZOFFSETTO:+0000
TZNAME:UTC
DTSTART:20250101T000000
END:STANDARD
END:VTIMEZONE
BEGIN:VEVENT
DTSTART;VALUE=DATE:20260322
DTEND;VALUE=DATE:20260323
DTSTAMP:20260420T083614
CREATED:20260302T151433Z
LAST-MODIFIED:20260304T141837Z
UID:10003333-1774137600-1774223999@the-e-list.com
SUMMARY:Mystic Irish Parade
DESCRIPTION:Go green in Mystic. Don’t miss the Mystic Irish Parade and celebration of Celtic & Gaelic customs and traditions. Arrive early to grab your spot before the parade route is closed to traffic. Keep the celebration going and lace up for the Mystic Irish 5K the next day. Celebrate\, run\, and cheer alongside community dignitaries and supporters in true Irish spirit.
URL:https://the-e-list.com/event/mystic-irish-parade/
LOCATION:Historic Downtown Mystic\, CT\, Mystic\, CT\, United States
ATTACH;FMTTYPE=image/jpeg:https://the-e-list.com/wp-content/uploads/2026/03/Annual_Mystic_Irish_Parade.jpg
END:VEVENT
END:VCALENDAR