BEGIN:VCALENDAR
VERSION:2.0
PRODID:-//The E List - ECPv6.15.20//NONSGML v1.0//EN
CALSCALE:GREGORIAN
METHOD:PUBLISH
X-WR-CALNAME:The E List
X-ORIGINAL-URL:https://the-e-list.com
X-WR-CALDESC:Events for The E List
REFRESH-INTERVAL;VALUE=DURATION:PT1H
X-Robots-Tag:noindex
X-PUBLISHED-TTL:PT1H
BEGIN:VTIMEZONE
TZID:UTC
BEGIN:STANDARD
TZOFFSETFROM:+0000
TZOFFSETTO:+0000
TZNAME:UTC
DTSTART:20230101T000000
END:STANDARD
END:VTIMEZONE
BEGIN:VTIMEZONE
TZID:America/New_York
BEGIN:DAYLIGHT
TZOFFSETFROM:-0500
TZOFFSETTO:-0400
TZNAME:EDT
DTSTART:20220313T070000
END:DAYLIGHT
BEGIN:STANDARD
TZOFFSETFROM:-0400
TZOFFSETTO:-0500
TZNAME:EST
DTSTART:20221106T060000
END:STANDARD
BEGIN:DAYLIGHT
TZOFFSETFROM:-0500
TZOFFSETTO:-0400
TZNAME:EDT
DTSTART:20230312T070000
END:DAYLIGHT
BEGIN:STANDARD
TZOFFSETFROM:-0400
TZOFFSETTO:-0500
TZNAME:EST
DTSTART:20231105T060000
END:STANDARD
BEGIN:DAYLIGHT
TZOFFSETFROM:-0500
TZOFFSETTO:-0400
TZNAME:EDT
DTSTART:20240310T070000
END:DAYLIGHT
BEGIN:STANDARD
TZOFFSETFROM:-0400
TZOFFSETTO:-0500
TZNAME:EST
DTSTART:20241103T060000
END:STANDARD
END:VTIMEZONE
BEGIN:VEVENT
DTSTART;TZID=UTC:20240421T100000
DTEND;TZID=UTC:20240421T160000
DTSTAMP:20260420T085357
CREATED:20240408T181604Z
LAST-MODIFIED:20240409T151103Z
UID:10002571-1713693600-1713715200@the-e-list.com
SUMMARY:Day of Discovery at House of the Triple Moon
DESCRIPTION:Ready for a day of discovery? \nYour day will be filled with four classes\, activities brimming with good vibes\, meditation\, manifesting & intention setting. You’ll hold space for each other in the enchanted shop at House of the Triple Moon\, that will be open just for the classes. Class topics will include; Oracle Cards\, Tarot Cards\, Numerology & Birth Charts. Lunch and snacks will be served\, an exclusive discount and they will have some surprises up their sleeves! \nClick for more information. \nThe shop is buzzing with excitement!
URL:https://the-e-list.com/event/day-of-discovery-at-house-of-the-triple-moon/
LOCATION:House of the Triple Moon\, 1 N Main Street\, Unit 4\, Essex\, CT\, 06426\, United States
ATTACH;FMTTYPE=image/png:https://the-e-list.com/wp-content/uploads/2024/04/day-of-discovery-e1712600111505.png
END:VEVENT
BEGIN:VEVENT
DTSTART;TZID=UTC:20240229T190000
DTEND;TZID=UTC:20240229T200000
DTSTAMP:20260420T085357
CREATED:20240212T004545Z
LAST-MODIFIED:20240212T192919Z
UID:10002497-1709233200-1709236800@the-e-list.com
SUMMARY:Protect Your Energy with House of the Triple Moon
DESCRIPTION:Shielding is a way to create an energy barrier around yourself that other people’s energy cannot penetrate. House of the Triple Moon is offering a workshop to discuss ways to protect your energy\, while you are there\, you will create an oil for to take home. \nOther upcoming events:\nWednesday\, Feb 14 – Self-Love through Venus’s Rosy Lens with Margaret McNellis\nThursday\, Feb 15 – Prosperity Magick\nSaturday\, Feb 17 – Past Life Recall Group Workshop with Mary Ellen Wilson\, CHt\nClick for more information.
URL:https://the-e-list.com/event/protect-your-energy-with-house-of-the-triple-moon/
LOCATION:House of the Triple Moon\, 1 N Main Street\, Unit 4\, Essex\, CT\, 06426\, United States
ATTACH;FMTTYPE=image/jpeg:https://the-e-list.com/wp-content/uploads/2024/02/IMG_0407.jpeg
END:VEVENT
BEGIN:VEVENT
DTSTART;TZID=America/New_York:20231211T170000
DTEND;TZID=America/New_York:20231211T180000
DTSTAMP:20260420T085357
CREATED:20231130T191359Z
LAST-MODIFIED:20231130T191359Z
UID:10002396-1702314000-1702317600@the-e-list.com
SUMMARY:New Moon Circle at House of the Triple Moon
DESCRIPTION:Ready to manifest for the December moon cycle? The new moon is a great time to manifest your intentions for the month. Join House of the Triple Moon on December 11th from 5:00 – 6:00 pm as they hold space\, meditate\, journal and manifest during the powerful phase of the moon. Please bring a journal and something to write with. \nClick to register and check out our other workshops: \n12/9- Yule Blessings Ornament\n12/16 – Make a Yule Log\n12/29 – 2024 Vision Board
URL:https://the-e-list.com/event/new-moon-circle-at-house-of-the-triple-moon/
LOCATION:House of the Triple Moon\, 1 N Main Street\, Unit 4\, Essex\, CT\, 06426\, United States
ATTACH;FMTTYPE=image/png:https://the-e-list.com/wp-content/uploads/2023/11/new-moon-e1701389551290.png
END:VEVENT
BEGIN:VEVENT
DTSTART;TZID=America/New_York:20231116T170000
DTEND;TZID=America/New_York:20231116T180000
DTSTAMP:20260420T085357
CREATED:20231103T151245Z
LAST-MODIFIED:20231103T151245Z
UID:10000921-1700154000-1700157600@the-e-list.com
SUMMARY:"Welcome to the Craft" offered by House of the Triple Moon
DESCRIPTION:House of the Triple Moon in Essex will be offering a beginner Witchcraft Class for Adult Practitioners & Magick-Curious Folk: “Welcome to the Craft”. \nWhat does it mean to be a Witch? How do you know if you are one? Is this scary? If your interested but have questions\, all this and more will be discussed when you join Margaret & Victoria at House of the Triple Moon on Thursday\, November 16 from 5:00pm – 6:00pm where you’ll have a chance to meet to chat about the Craft.  Make sure to bring your note-taking materials.
URL:https://the-e-list.com/event/welcome-to-the-craft-offered-by-house-of-the-triple-moon/
LOCATION:House of the Triple Moon\, 1 N Main Street\, Unit 4\, Essex\, CT\, 06426\, United States
ATTACH;FMTTYPE=image/png:https://the-e-list.com/wp-content/uploads/2023/10/Untitled-design-7-e1699038690253.png
END:VEVENT
END:VCALENDAR