BEGIN:VCALENDAR
VERSION:2.0
PRODID:-//The E List - ECPv6.15.20//NONSGML v1.0//EN
CALSCALE:GREGORIAN
METHOD:PUBLISH
X-WR-CALNAME:The E List
X-ORIGINAL-URL:https://the-e-list.com
X-WR-CALDESC:Events for The E List
REFRESH-INTERVAL;VALUE=DURATION:PT1H
X-Robots-Tag:noindex
X-PUBLISHED-TTL:PT1H
BEGIN:VTIMEZONE
TZID:UTC
BEGIN:STANDARD
TZOFFSETFROM:+0000
TZOFFSETTO:+0000
TZNAME:UTC
DTSTART:20230101T000000
END:STANDARD
END:VTIMEZONE
BEGIN:VTIMEZONE
TZID:UTC
BEGIN:STANDARD
TZOFFSETFROM:+0000
TZOFFSETTO:+0000
TZNAME:UTC
DTSTART:20240101T000000
END:STANDARD
END:VTIMEZONE
BEGIN:VTIMEZONE
TZID:America/New_York
BEGIN:DAYLIGHT
TZOFFSETFROM:-0500
TZOFFSETTO:-0400
TZNAME:EDT
DTSTART:20200308T070000
END:DAYLIGHT
BEGIN:STANDARD
TZOFFSETFROM:-0400
TZOFFSETTO:-0500
TZNAME:EST
DTSTART:20201101T060000
END:STANDARD
BEGIN:DAYLIGHT
TZOFFSETFROM:-0500
TZOFFSETTO:-0400
TZNAME:EDT
DTSTART:20210314T070000
END:DAYLIGHT
BEGIN:STANDARD
TZOFFSETFROM:-0400
TZOFFSETTO:-0500
TZNAME:EST
DTSTART:20211107T060000
END:STANDARD
BEGIN:DAYLIGHT
TZOFFSETFROM:-0500
TZOFFSETTO:-0400
TZNAME:EDT
DTSTART:20220313T070000
END:DAYLIGHT
BEGIN:STANDARD
TZOFFSETFROM:-0400
TZOFFSETTO:-0500
TZNAME:EST
DTSTART:20221106T060000
END:STANDARD
BEGIN:DAYLIGHT
TZOFFSETFROM:-0500
TZOFFSETTO:-0400
TZNAME:EDT
DTSTART:20230312T070000
END:DAYLIGHT
BEGIN:STANDARD
TZOFFSETFROM:-0400
TZOFFSETTO:-0500
TZNAME:EST
DTSTART:20231105T060000
END:STANDARD
END:VTIMEZONE
BEGIN:VEVENT
DTSTART;TZID=UTC:20250907T140000
DTEND;TZID=UTC:20250907T170000
DTSTAMP:20260423T092717
CREATED:20250827T230248Z
LAST-MODIFIED:20250828T000336Z
UID:10003135-1757253600-1757264400@the-e-list.com
SUMMARY:September Open Studios at I-Park
DESCRIPTION:Pictured Above: Landscapes; Emily Gui\, Lena Goldberg. Photo: Christina Goldberg \nI-Park is alive with creative energy as we celebrate our 25th season of artists-in-residence programming—and you’re invited to be part of it! \nJoin us for Open Studios on Sunday\, September 7\, 2025\, from 2:00 to 5:00 pm\, and experience the artistic spirit of I-Park. \nStep inside the private studios of our seven current artists-in-residence\, working across music composition\, visual art\, interdisciplinary practice and creative writing. From 2:00 to 3:30 pm\, the artists will be on hand in their studios to share their latest work and creative process. Then\, from 3:30 to 4:00 pm\, join us for select presentations\, followed by light refreshments in our newly renovated Common Area. \nCome curious—and leave inspired! \nMeet our Artists! \nAugust/September 2025 Artists: \nTheo Chandler\, Music Composition \nLydi Conklin\, Creative Writing \nEli Greenhoe\, Music Composition \nRanger Liu\, Interdisciplinary Practice \nMaxim Loskutoff\, Creative Writing \nWeihui Lu\, Visual Arts \nSichong Xie\, Interdisciplinary Practice \nOpen Studios is being funded in part through grants from the Dominion Energy Charitable Foundation and the Community Foundation of Middlesex County/ GSB Grant Making Fund and the Whelen Family Fund. \nDue to the fragility of the artworks and the natural features at I-Park\, pets are not permitted on the I-Park grounds. \nImportant: Please note that only part of our campus is wheelchair accessible at this time. If you would like more info on accessibility\, please contact Joanne at 860-873-2468. \nTickets are FREE. However\, free-will donations to the non-profit I-Park Foundation are much appreciated. \nImportant: You will be agreeing to our Visitor Code of Conduct and Photo Release when you register for this event. \nSeptember Open Studios\, Sunday\, September 7 from 2:00 pm to 5:00 pm \nTickets are free\, Donations for adults are welcome. Purchase Tickets Here. \nHead to I-Park on Saturday\, September 13 for Memory Reconsidered Reprise\, an experimental outdoor exhibition exploring the intersections of art\, nature\, memory\, and memorialization set within a lush woodland setting. Learn More Here.
URL:https://the-e-list.com/event/where-art-meets-reflection-september-at-i-park/
LOCATION:I-Park Foundation\, 428 Hopyard Road\, East Haddam\, CT\, 06423
ATTACH;FMTTYPE=image/jpeg:https://the-e-list.com/wp-content/uploads/2025/08/Landscapes-Emily-Gui-Lena-Goldberg-photo-by-Christina-GoldbergLENA-0984-scaled-e1756339407256.jpg
END:VEVENT
BEGIN:VEVENT
DTSTART;TZID=UTC:20250629T140000
DTEND;TZID=UTC:20250629T170000
DTSTAMP:20260423T092717
CREATED:20250623T231425Z
LAST-MODIFIED:20250625T233725Z
UID:10003066-1751205600-1751216400@the-e-list.com
SUMMARY:Open Studios at I-Park
DESCRIPTION:Floating Living Room\, Iteration #4\, Ted Efremoff\, photo by Christina Goldberg \n  \nI-Park is buzzing with energy as it rolls out its 25th season of artists-in-residence programming! \nJoin them on Sunday\, June 29 for Open Studios. Take the opportunity to meet and interact with artists working in various creative disciplines. Check out their studios\, ask questions and gain insights into their artistic journeys. This particular event will feature four brand new site responsive artworks out on the land! \nThe studio crawl segment runs from 2:00 to 4:00 pm. In order not to miss the celebratory public launch of Ted Efremoff’s Floating Living Room as well as the other 3 art installations on the land – please try to arrive at 2:00. \nThen grab a beverage and snack afterwards. \nOpen Studios is an I-Park community engagement event – inspiring for all ages. \nJune 2025 Artists: \nStephanie Beck\, Visual Arts \nDavid Crowell\, Music Composition \nIan Dippo\, Landscape Design \nTed Efremoff\, Interdisciplinary Practice \nMargaret Gerhart\, Interdisciplinary Practice \nElise Morris\, Music Composition \nFoon Sham\, Visual Arts \nSarah Wang\, Creative Writing \nDue to the fragility of the artworks and the natural features at I-Park\, pets are not permitted on the I-Park grounds. \nImportant: Please note that only part of our campus is wheelchair accessible at this time. If you would like more info on accessibility\, please contact Joanne at 860-873-2468. \nTickets are FREE. However\, free-will donations to the non-profit I-Park Foundation are much appreciated. \nImportant: You will be agreeing to our Visitor Code of Conduct and Photo Release when you register for Open Studios.
URL:https://the-e-list.com/event/open-studios/
LOCATION:I-Park Foundation\, 428 Hopyard Road\, East Haddam\, CT\, 06423
ATTACH;FMTTYPE=image/jpeg:https://the-e-list.com/wp-content/uploads/2025/06/TED-5-scaled-e1750720374662.jpeg
END:VEVENT
BEGIN:VEVENT
DTSTART;TZID=UTC:20240922T140000
DTEND;TZID=UTC:20240922T170000
DTSTAMP:20260423T092717
CREATED:20240918T153427Z
LAST-MODIFIED:20240918T174012Z
UID:10002744-1727013600-1727024400@the-e-list.com
SUMMARY:September Open Studios at I-Park
DESCRIPTION:An Open Studios event at I-Park is a unique opportunity to take a look behind the scenes at this open-air\, private studio incubator where six artists have been living together and inspiring one another for a month. Artists will be in their studios from 2 pm – 4 pm. You’re welcome to observe their artistic process and engage them in conversion. After 4:00\, you’re invited to check out our newly renovated Common Area and join us for a light reception. \nFree and Open to the Public\, reserve your spot. \n 
URL:https://the-e-list.com/event/september-open-studios-at-i-park-2/
LOCATION:I-Park Foundation\, 428 Hopyard Road\, East Haddam\, CT\, 06423
ATTACH;FMTTYPE=image/jpeg:https://the-e-list.com/wp-content/uploads/2024/09/IMG_20240917_154713-e1726673619432.jpg
END:VEVENT
BEGIN:VEVENT
DTSTART;TZID=UTC:20240804T140000
DTEND;TZID=UTC:20240804T170000
DTSTAMP:20260423T092717
CREATED:20240725T021526Z
LAST-MODIFIED:20240725T021604Z
UID:10002687-1722780000-1722790800@the-e-list.com
SUMMARY:August Open Studios at I-Park
DESCRIPTION:Photo Credit: Kathryn Kelley\, Grasping at the sky\, 2024\, Photo by I-Park \nI-Park\, an international\, multi-disciplinary artists’ colony set within a 450-acre nature preserve in East Haddam will welcome the public to Open Studios on Sunday\, August 4 from 2:00 to 5:00 pm. See what develops over the course of one month. An I-Park residency is an unconditional gift of time\, space and fellowship. Because of the high stature of the selected artists\, they are free to work on virtually anything they choose. The four-week time frame allows for research\, experimentation and risk taking. They are inspired by their natural surroundings and one another. Open Studios visitors are encouraged to meet the artists in their studios and engage them in conversation: about their motivation\, creative process and their lives as artists. \nOur July residency session consists of seven artists: Visual Artists Elizabeth Di Donna\, Keren Anavy and Shilpa Joglekar; Composers Gautier Abadie and James Nyoraku Schlefer; Moving Image Artist Gina Kamentsky and Creative Writer Tsering Lama. There are three non-U.S. artists – from Canada\, France and India. Several of the artists are working on site-responsive works. There will be at least four new installations to visit after the studio crawl\, including one by Christine M. Schröder from our June session. \nThis is an Open Studios event you don’t want to miss. The studio crawl runs from 2:00 to 4:00 pm followed by a light reception in the Common Area and nearby courtyard. \nThe event is free and family friendly. Art\, nature and music lovers of all ages are welcome. Click for tickets or call 860-873-2468. \n 
URL:https://the-e-list.com/event/august-open-studios-at-i-park-2/
LOCATION:I-Park Foundation\, 428 Hopyard Road\, East Haddam\, CT\, 06423
ATTACH;FMTTYPE=image/jpeg:https://the-e-list.com/wp-content/uploads/2024/07/2024-Kathryn-Kelley-Grasping-at-the-sky-1-e1721873403100.jpg
END:VEVENT
BEGIN:VEVENT
DTSTART;TZID=UTC:20240302T140000
DTEND;TZID=UTC:20240302T170000
DTSTAMP:20260423T092717
CREATED:20240220T104302Z
LAST-MODIFIED:20240220T104939Z
UID:10002511-1709388000-1709398800@the-e-list.com
SUMMARY:I-Park Presents: Dialogues - Olga Kirpicheva Piano Recital Benefit
DESCRIPTION:Come and enjoy an unforgettable afternoon of piano music at I-Park. \nOn Saturday\, March 2\, 2024\, at 2:00 PM (EST)\, pianist Olga Kirpicheva will share her extraordinary skills and passion for music. A French pianist of Russian origin\, based in Abu Dhabi since 2022\, Olga is among the most promising young pianists of her generation. \nThis event\, a benefit to raise funds to acquire a grand piano for I-Park’s composers-in-residence\, was conceived by Connecticut based composer and I-Park fellow\, Polina Nazaykinskaya. The program titled Dialogues is based on Kirpicheva’s recent recording of the same name\, a tribute to Sergei Rachmaninov through the interpretation of emblematic works by the Russian composer and contemporary creations by Polina Nazaykinskaya. \nDon’t miss this opportunity to witness a remarkable pianist in action. Whether you are a classical music enthusiast or simply appreciate the power of live performances\, this event is for you. \nGet tickets (free) at: https://www.eventbrite.com/e/837763742907?aff=oddtdtcreator
URL:https://the-e-list.com/event/i-park-presents-dialogues-olga-kirpicheva-piano-recital-benefit/
LOCATION:I-Park Foundation\, 428 Hopyard Road\, East Haddam\, CT\, 06423
ATTACH;FMTTYPE=image/png:https://the-e-list.com/wp-content/uploads/2024/02/Olga_piano_HD-1.png
ORGANIZER;CN="I-Park Foundation":MAILTO:info@i-park.org
END:VEVENT
BEGIN:VEVENT
DTSTART;TZID=America/New_York:20221009T140000
DTEND;TZID=America/New_York:20221009T173000
DTSTAMP:20260423T092717
CREATED:20220930T121044Z
LAST-MODIFIED:20220930T121044Z
UID:10001922-1665324000-1665336600@the-e-list.com
SUMMARY:I-Park October Open Studios
DESCRIPTION:I-Park is pleased to welcome the public to its final Open Studios of 2022\, on Sunday\, October 9 from 2:00 to 5:30 pm. \nSpend your Sunday afternoon enjoying art\, music\, nature and conversation. You will get to meet the 8 artists who have been in residence with us this September and October. \n2022 September-October Artists-in-Residence \n‘Pemi Aguda\, Creative Writing \nMarilla Cubberley\, Visual Arts \nMaria Michails\, Visual Arts \nNorm Paris\, Visual Arts \nUdi Perlman\, Music Composition \nBryce Peterson\, Visual Arts \nJeremy Rourke\, Moving Image \nMatty Witney\, Music Composition \nThe artists will be in their studios from 2:00 to 3:30 pm and will be happy to share glimpses into their creative process – as well as some of the works they’ve developed during their time at I-Park. Select presentations will begin at 3:30 pm followed by wine\, lemonade and refreshments. \nThis is a family-friendly FREE public event. Due to the fragility of the artworks and the natural features at I-Park\, pets are not permitted on the I-Park grounds. \nImportant: Please note that only part of our campus is wheelchair accessible at this time. If you would like more info on accessibility\, please contact Joanne at 860-873-2468. \nArt and music lovers of all ages are welcome\, however reservations in advance are REQUIRED. For additional information\, write events@i-park.org or call 860-873-2468. \nImportant: You will be agreeing to our Visitor Code of Conduct and Photo Release when you register for Open Studios. \nWe look forward to seeing old friends and meeting new ones! \nGet tickets here.  \n  \n 
URL:https://the-e-list.com/event/i-park-october-open-studios/
LOCATION:I-Park Foundation\, 428 Hopyard Road\, East Haddam\, CT\, 06423
END:VEVENT
BEGIN:VEVENT
DTSTART;TZID=America/New_York:20211209T080000
DTEND;TZID=America/New_York:20211221T200000
DTSTAMP:20260423T092717
CREATED:20211214T085118Z
LAST-MODIFIED:20211214T085118Z
UID:10001765-1639036800-1640116800@the-e-list.com
SUMMARY:I-Park's 2021 Year End Appeal + Auction
DESCRIPTION:As we approach the holiday season and the close of our 20th Anniversary year\, we would like to thank you for your enthusiasm and support. \nYou may have been among the over twelve hundred art and nature lovers who came to I-Park this season to – walk the trails\, give up some of your time at one of our volunteers’ days or explore the new artworks created for our Environmental Art Biennale. Or perhaps you made a financial contribution\, bought a ticket to our experimental Music Along the Trails fundraiser or partnered with I-Park to expand our community outreach initiatives. Your support was also responsible for our capacity to provide 38 fully-funded artists’ residencies this year! \nTo all\, we express our gratitude. Your involvement has encouraged us and your impact was profound. \nLooking to the future\, we are hopeful that you will continue to support our mission of nurturing the creative process while sensitively sharing the outcomes of this creativity with the community. Your participation in our Year-End Appeal + Auction will allow us to continue and enhance this tradition. \nThe Year End Appeal + Online Auction\, features five major I-Park experiences and several trail sponsorships. You can also browse our Fund-a-Need offerings. We expect that one or more of these needs will resonate with you – and there’s a wide range of giving levels. To register for the auction\, text ipark to 243725 or click on the Online Auction link on our homepage: www.i-park.org or visit the auction directly\, here. Please note that the auction is open now and closes at 8 pm on December 21. If you have questions on the auction\, call 860-873-2468 or write events@i-park.org. \nOn behalf of the board of directors\, the staff and the artists I-Park has been honored to host\, best wishes for a happy ending to 2021 and for a healthy\, fulfilling new year.
URL:https://the-e-list.com/event/i-parks-2021-year-end-appeal-auction/
LOCATION:I-Park Foundation\, 428 Hopyard Road\, East Haddam\, CT\, 06423
END:VEVENT
BEGIN:VEVENT
DTSTART;VALUE=DATE:20210826
DTEND;VALUE=DATE:20210829
DTSTAMP:20260423T092717
CREATED:20210816T101929Z
LAST-MODIFIED:20210816T101929Z
UID:10000698-1629936000-1630195199@the-e-list.com
SUMMARY:Celebrate I-Park Foundation's 20th Anniversary with August Special Events
DESCRIPTION:Head to I-Park for a series of special events in celebration of 20 years of incredible art created in and for the environment in East Haddam.\n  \nThursday\, August 26\, 5:00 to 7:00 pm (ticketed event:) \nAn Evening Walk with Mie Preckler   \nThis intimate event will feature a wine and cheese reception and a guided trail walk along Mie’s Trail with Belgian/American artist Mie Preckler\, currently living in Oakland\, CA. \n  \nFriday\, August 27\, 8:30 am to 1:30 pm (complimentary lunch provided) \nVolunteers Day \nMany hands make light work so join us for a work party followed by a complimentary luncheon. \n  \nFriday\, August 27\, 5:00 to 7:00 pm (ticketed event) \nFounder’s Guided Trail Walk: The First Twenty Years \nThis intimate event\, to benefit the non-profit I-Park Foundation\, will feature a visit to our archives room and a walk along our unique system of art/nature trails. Ralph will offer insights into I-Park’s evolution from concept to master plan to execution\, or jumping off the cliff as we think of it. \n  \nSaturday\, August 28\, 9:00 am to 1:30 pm (free public event) \nOpen Trails: Saturday in the Park + Birdwatching + Plein Air Paint Out \nEnjoy art/nature trails at I-Park’s Open Trails: Visitors can bring a picnic lunch\, bird-watch\, sketch\, paint or just be! \n  \nSaturday\, August 28\, 5:00 to 7:00 pm (ticketed event) \nFounder’s Guided Trail Walk: The First Twenty Years \nThis intimate event\, to benefit the non-profit I-Park Foundation\, will feature a visit to our archives room and a walk along our unique system of art/nature trails. Ralph will offer insights into I-Park’s evolution from concept to master plan to execution\, or jumping off the cliff as we think of it. \n  \nVisit Park International Artist-in-Residence Program | I-Park Foundation\, Inc. \nIf you have questions on any of our events\, please contact us at events@i-park.org or 860-306-0636.
URL:https://the-e-list.com/event/celebrate-i-park-foundations-20th-anniversary-with-august-special-events/
LOCATION:I-Park Foundation\, 428 Hopyard Road\, East Haddam\, CT\, 06423
ATTACH;FMTTYPE=image/jpeg:https://the-e-list.com/wp-content/uploads/2021/08/20th-Anniversary-Poster-for-Events-Magazine-Q3-2021-e1629142725975.jpg
END:VEVENT
BEGIN:VEVENT
DTSTART;TZID=America/New_York:20210501T100000
DTEND;TZID=America/New_York:20210501T120000
DTSTAMP:20260423T092717
CREATED:20210331T114404Z
LAST-MODIFIED:20210331T114404Z
UID:10000045-1619863200-1619870400@the-e-list.com
SUMMARY:A Women's Health and Wellness Hike at I-Park
DESCRIPTION:Star Studio is hosting a women’s health and wellness hike at I-Park on Saturday\, May 1st from 10:00 am to 12:00 pm. Come and meet new friends\, hear about health and wellness tips\, learn about I-Park and enjoy a guided hike on the gorgeous Chill Hill Trail followed by a light boxed lunch generously donated by Two Wrasslin’ Cats. This is a wonderful opportunity for women of all ages and all fitness levels. While there are a few steep inclines\, the trail is gentle in most areas and takes about an hour and a half. With Mother’s Day right around the corner\, this experience would make a unique gift for moms\, daughters\, aunts\, sisters and BFF’s. All ticket proceeds will benefit the artists\, 65% of whom are women\, who participate in I-Park’s artists-in-residence programs. You will have a screen-free\, fresh-air outdoor experience and your gift will be helping future women artists.\n\n\n\n\n\n\n\nIn order to comply with State of Connecticut COVID-19 guidelines\, space is limited and tickets in advance are REQUIRED. For additional information\, write to events@i-park.org or call 860-306-0636. \nPurchase tickets here. \nIn accordance with the State of Connecticut Reopening Guidelines\, the Women’s Health and Wellness Hike will practice social distancing procedures during check-in and throughout the event to ensure our participants’ safety. Visitors are encouraged to wear a mask if they are not able to maintain 6 feet of distance from other hikers – however\, face masks will not be required while hiking on our trails. I-Park is dedicated to everyone’s personal health and is eager to welcome the public for a safe\, relaxing morning of walking and hiking! \nDue to the fragility of the artwork and the natural features at I-Park\, pets are not permitted on the I-Park grounds. \nImportant: You will be agreeing to I-Park’s Visitor Code of Conduct and Photo Release – and Star Studio\, LLC’s waiver. \nWe look forward to seeing you on May 1st! \nLearn more about I-Park here. \nVisit Star Studio here.
URL:https://the-e-list.com/event/a-womens-health-and-wellness-hike-at-i-park/
LOCATION:I-Park Foundation\, 428 Hopyard Road\, East Haddam\, CT\, 06423
ATTACH;FMTTYPE=image/jpeg:https://the-e-list.com/wp-content/uploads/2021/03/landscape-artist-andrea-cukier-and-others-on-mies-trail-open-studios-ct-open-trails-day-6.8-113-scaled-e1617281598177.jpg
END:VEVENT
END:VCALENDAR