BEGIN:VCALENDAR
VERSION:2.0
PRODID:-//The E List - ECPv6.15.20//NONSGML v1.0//EN
CALSCALE:GREGORIAN
METHOD:PUBLISH
X-WR-CALNAME:The E List
X-ORIGINAL-URL:https://the-e-list.com
X-WR-CALDESC:Events for The E List
REFRESH-INTERVAL;VALUE=DURATION:PT1H
X-Robots-Tag:noindex
X-PUBLISHED-TTL:PT1H
BEGIN:VTIMEZONE
TZID:America/New_York
BEGIN:DAYLIGHT
TZOFFSETFROM:-0500
TZOFFSETTO:-0400
TZNAME:EDT
DTSTART:20210314T070000
END:DAYLIGHT
BEGIN:STANDARD
TZOFFSETFROM:-0400
TZOFFSETTO:-0500
TZNAME:EST
DTSTART:20211107T060000
END:STANDARD
BEGIN:DAYLIGHT
TZOFFSETFROM:-0500
TZOFFSETTO:-0400
TZNAME:EDT
DTSTART:20220313T070000
END:DAYLIGHT
BEGIN:STANDARD
TZOFFSETFROM:-0400
TZOFFSETTO:-0500
TZNAME:EST
DTSTART:20221106T060000
END:STANDARD
BEGIN:DAYLIGHT
TZOFFSETFROM:-0500
TZOFFSETTO:-0400
TZNAME:EDT
DTSTART:20230312T070000
END:DAYLIGHT
BEGIN:STANDARD
TZOFFSETFROM:-0400
TZOFFSETTO:-0500
TZNAME:EST
DTSTART:20231105T060000
END:STANDARD
BEGIN:DAYLIGHT
TZOFFSETFROM:-0500
TZOFFSETTO:-0400
TZNAME:EDT
DTSTART:20240310T070000
END:DAYLIGHT
BEGIN:STANDARD
TZOFFSETFROM:-0400
TZOFFSETTO:-0500
TZNAME:EST
DTSTART:20241103T060000
END:STANDARD
END:VTIMEZONE
BEGIN:VEVENT
DTSTART;TZID=America/New_York:20230911T190000
DTEND;TZID=America/New_York:20230911T210000
DTSTAMP:20260425T134206
CREATED:20230815T210749Z
LAST-MODIFIED:20230815T210749Z
UID:10002241-1694458800-1694466000@the-e-list.com
SUMMARY:Sign up to sing with Cappella Cantorum Masterworks Chorus!
DESCRIPTION:Looking for something fun to do this fall? \nSign up to sing with Cappella Cantorum Masterworks Chorus! Registration will take place Monday\, September 11\, 7pm\, at John Winthrop Middle School (1 Winthrop Rd\, Deep River)\, with the first rehearsal immediately following. Rehearsals are generally held on Mondays from 7-9pm at the same location. \nMusic selections for the Fall semester include Magnificat (composed by John Rutter) and The Many Moods of Christmas (arranged by Robert Shaw). Scores may be purchased in advance on this website or in person on registration night (or bring your own if you already have them). \nBoth pieces will be performed at the Winter Concert on Sunday\, December 3\, 2023\, in the auditorium of John Winthrop Middle School (subject to change based on availability). The Masterworks Chorus and Cappella Orchestra will be conducted by Simon Holt\, Music Director of Cappella Cantorum and the First Congregational Church of Old Lyme\, as well as the Founder and Artistic Director of Salt Marsh Opera. \nAll singers ages 13 and up are welcome; no auditions required. Registration and music fees are waived for students 18 & under. Click here to pre-register and order music scores. If you’d like to get a jump-start on learning\, you can even arrange to pick up your scores before rehearsals start. Send an email to Carol Cherry at info@cappellacantorum.org or call 860-532-0454 with any questions or to arrange for early music pickup.  
URL:https://the-e-list.com/event/sign-up-to-sing-with-cappella-cantorum-masterworks-chorus/
LOCATION:John Winthrop Middle School\, 1 Winthrop Road\, Deep River\, CT\, 06417\, United States
ATTACH;FMTTYPE=image/jpeg:https://the-e-list.com/wp-content/uploads/2023/08/Cap-Cant.jpg
END:VEVENT
BEGIN:VEVENT
DTSTART;TZID=America/New_York:20230312T150000
DTEND;TZID=America/New_York:20230312T170000
DTSTAMP:20260425T134206
CREATED:20230111T094517Z
LAST-MODIFIED:20230111T094517Z
UID:10002020-1678633200-1678640400@the-e-list.com
SUMMARY:Essex Winter Series – Project: Music Heals Us String Trio with Pianist Mihae Lee
DESCRIPTION:Gaining press worldwide for their efforts in bringing music to marginalized populations and isolated Covid patients\, Project: Music Heals Us String Trio will grace the EWS stage on March 12\, 2023. The ambassador group of Andre Janss (cello)\, Stephanie Zyzak (violin)\, and Brian Hong (violin and viola) will delight with selections from Schubert\, Dohnanyi\, and Dvorák\, with EWS Artistic Director and pianist Mihae Lee joining the trio for the latter piece. \nThe season closes on April 23 with the Grammy Award-winning choral group\, Chanticleer – “an orchestra of voices.” \nConcerts begin at 3 pm and are general admission. For tickets visit essexwinterseries.com or call 860-272-4572. If necessary for audience\, artists and staff\, following Covid health guidelines may be required. \nThis season is generously sponsored by Clark Group\, Essex Meadows\, Essex Savings Bank\, Jeffrey N. Mehler CFP LLC\, Tower Laboratories\, BrandTech Scientific\, Masonicare at Chester Village\, and WSHU Radio.
URL:https://the-e-list.com/event/essex-winter-series-project-music-heals-us/
LOCATION:John Winthrop Middle School\, 1 Winthrop Road\, Deep River\, CT\, 06417\, United States
ATTACH;FMTTYPE=image/jpeg:https://the-e-list.com/wp-content/uploads/2023/01/2023-PMHU-Trio-EWS-Mihae-Square-cmyk-e1673448187387.jpg
END:VEVENT
BEGIN:VEVENT
DTSTART;TZID=America/New_York:20230226T150000
DTEND;TZID=America/New_York:20230226T170000
DTSTAMP:20260425T134206
CREATED:20230111T092824Z
LAST-MODIFIED:20230111T092824Z
UID:10001999-1677423600-1677430800@the-e-list.com
SUMMARY:Essex Winter Series: Jeff Barnhart & His Hot Jazz Collective
DESCRIPTION:The second concert of the 46th Essex Winter Series season features the quite lively Jeff Barnhart & His Hot Jazz Collective on February 26. This gathering of seven world-class musicians includes fan favorites Vince Giordano\, Jim Fryer and EWS Jazz Advisor\, Jeff Barnhart. Look forward to a delightful\, spontaneous celebration of early jazz from the 1920s to 1940s. \nThis concert is followed by Project: Music Heals Us String Trio with pianist Mihae Lee on March 12 and the season closing on April 23 with the Grammy Award-winning choral group\, Chanticleer. \nAll concerts begin at 3 pm and are general admission. For tickets visit essexwinterseries.com or call 860-272-4572. As a precaution and if necessary for our audience\, artists and staff\, following Covid health guidelines may be required. \nThis season is generously sponsored by Clark Group\, Essex Meadows\, Essex Savings Bank\, Jeffrey N. Mehler CFP LLC\, Tower Laboratories\, BrandTech Scientific\, Masonicare at Chester Village\, and WSHU Radio.
URL:https://the-e-list.com/event/essex-winter-series/
LOCATION:John Winthrop Middle School\, 1 Winthrop Road\, Deep River\, CT\, 06417\, United States
ATTACH;FMTTYPE=image/jpeg:https://the-e-list.com/wp-content/uploads/2023/01/Jazz-2023-Montage-Sq-e1673447252969.jpg
END:VEVENT
BEGIN:VEVENT
DTSTART;TZID=America/New_York:20221204T150000
DTEND;TZID=America/New_York:20221204T170000
DTSTAMP:20260425T134206
CREATED:20221103T100611Z
LAST-MODIFIED:20221103T100611Z
UID:10001966-1670166000-1670173200@the-e-list.com
SUMMARY:Vivaldi’s Gloria and Other Holiday Favorites
DESCRIPTION:Cappella Cantorum Masterworks Chorus\, under the direction of Simon Holt and accompanied by the The Cappella Cantorum Professional Orchestra and soloists\, will perform Antonio Vivaldi’s magnificent Gloria\, along with several other holiday music selections\, including:\n*Fantasia on Christmas Carols (Vaughan Williams)\n*O Magnum Mysterium (Lauridsen)\n*Have Yourself a Merry Little Christmas (arr. Hayes) \nCappella Cantorum is the premiere non-auditioned community choral group of the Connecticut Shoreline and Lower CT River Valley. Cappella’s 52 year history includes local and international performances as well as performing 6 times at Carnegie Hall. Cappella Cantorum’s primary purpose is to give singers of all ages the opportunity to learn\, perform and share great choral music. In addition to twice yearly concerts\, the group promotes music education and appreciation through summer singing programs\, vocal training workshops\, Messiah Sing & Listen events\, and other events open to the public. \n\nWhether you’re interested in singing or listening to beautiful music\, and for more information\, please visit our website\,  cappellacantorum.org \n 
URL:https://the-e-list.com/event/vivaldis-gloria-and-holiday-favorites/
LOCATION:John Winthrop Middle School\, 1 Winthrop Road\, Deep River\, CT\, 06417\, United States
ATTACH;FMTTYPE=image/jpeg:https://the-e-list.com/wp-content/uploads/2022/11/Winter2022MTPAd_Proo525x5f-1-1-1-e1667830414458.jpg
END:VEVENT
END:VCALENDAR