BEGIN:VCALENDAR
VERSION:2.0
PRODID:-//The E List - ECPv6.15.20//NONSGML v1.0//EN
CALSCALE:GREGORIAN
METHOD:PUBLISH
X-ORIGINAL-URL:https://the-e-list.com
X-WR-CALDESC:Events for The E List
REFRESH-INTERVAL;VALUE=DURATION:PT1H
X-Robots-Tag:noindex
X-PUBLISHED-TTL:PT1H
BEGIN:VTIMEZONE
TZID:UTC
BEGIN:STANDARD
TZOFFSETFROM:+0000
TZOFFSETTO:+0000
TZNAME:UTC
DTSTART:20250101T000000
END:STANDARD
END:VTIMEZONE
BEGIN:VEVENT
DTSTART;TZID=UTC:20260502T090000
DTEND;TZID=UTC:20260502T110000
DTSTAMP:20260423T040035
CREATED:20260419T133814Z
LAST-MODIFIED:20260419T133823Z
UID:10003392-1777712400-1777719600@the-e-list.com
SUMMARY:Spring Bird Watching Walk
DESCRIPTION:Join Old Lyme Land Trust for a walk led by Roger Tory Peterson Estuary Council guide Joe Attwater. You will observe woodland habitats and w alk over level ground with two stream crossings. Bring binoculars. \nClick to Register.
URL:https://the-e-list.com/event/spring-bird-watching-walk/
LOCATION:Lay Allen Preserve\, 4-1 Bayberry Ridge Road\, Old Lyme\, CT
ATTACH;FMTTYPE=image/jpeg:https://the-e-list.com/wp-content/uploads/2026/04/FB-FLYER-Bird-Walk-RTP-EC-2026-e1776605826446.jpg
ORGANIZER;CN="Old Lyme Land Trust":MAILTO:info@oldlymelandtrust.org
END:VEVENT
END:VCALENDAR