BEGIN:VCALENDAR
VERSION:2.0
PRODID:-//The E List - ECPv6.15.20//NONSGML v1.0//EN
CALSCALE:GREGORIAN
METHOD:PUBLISH
X-ORIGINAL-URL:https://the-e-list.com
X-WR-CALDESC:Events for The E List
REFRESH-INTERVAL;VALUE=DURATION:PT1H
X-Robots-Tag:noindex
X-PUBLISHED-TTL:PT1H
BEGIN:VTIMEZONE
TZID:UTC
BEGIN:STANDARD
TZOFFSETFROM:+0000
TZOFFSETTO:+0000
TZNAME:UTC
DTSTART:20240101T000000
END:STANDARD
END:VTIMEZONE
BEGIN:VEVENT
DTSTART;TZID=UTC:20250410T110000
DTEND;TZID=UTC:20250410T113000
DTSTAMP:20260425T183804
CREATED:20250403T231036Z
LAST-MODIFIED:20250407T155608Z
UID:10002975-1744282800-1744284600@the-e-list.com
SUMMARY:Take Control: Learn Personal Boundaries and Self-Protection from a Retired Detective
DESCRIPTION:Knowledge is Power! Get some tactical tools and strategies from Alison Sullivan\, retired detective\, on how navigate some of the most potentially dangerous dating situations. Join the discussion as we investigate how to protect yourself or a loved one from date rape. Before heading out on that date\, equip yourself with tools and strategies to protect yourself. \nLive webinar sponsored by Soroptimist International of Willimantic with retired detective Alison Sullivan on dating strategies for ladies. \nClick for more information. \nCan’t make the live event\, sign up for our mailing list and we’ll send the recording to your inbox. https://limitlessladiesnetwork.com/sign-up \nLearn more about the good work Soroptimist International of Willimantic is doing for the girls in the Northeast: https://www.soroptimistwillimantic.org/ \n 
URL:https://the-e-list.com/event/take-control-learn-personal-boundaries-and-self-protection-from-a-retired-detective/
LOCATION:Limitless Ladies Network
ATTACH;FMTTYPE=image/png:https://the-e-list.com/wp-content/uploads/2025/04/Copy-of-Dating-Strategies-Reel-600-x-400-px.png
END:VEVENT
END:VCALENDAR