BEGIN:VCALENDAR
VERSION:2.0
PRODID:-//The E List - ECPv6.15.20//NONSGML v1.0//EN
CALSCALE:GREGORIAN
METHOD:PUBLISH
X-WR-CALNAME:The E List
X-ORIGINAL-URL:https://the-e-list.com
X-WR-CALDESC:Events for The E List
REFRESH-INTERVAL;VALUE=DURATION:PT1H
X-Robots-Tag:noindex
X-PUBLISHED-TTL:PT1H
BEGIN:VTIMEZONE
TZID:UTC
BEGIN:STANDARD
TZOFFSETFROM:+0000
TZOFFSETTO:+0000
TZNAME:UTC
DTSTART:20250101T000000
END:STANDARD
END:VTIMEZONE
BEGIN:VEVENT
DTSTART;TZID=UTC:20260425T100000
DTEND;TZID=UTC:20260425T170000
DTSTAMP:20260424T115434
CREATED:20260406T175410Z
LAST-MODIFIED:20260406T185223Z
UID:10003378-1777111200-1777136400@the-e-list.com
SUMMARY:Sip\, Shop & Social: Boy Mom Edition at Little Willow
DESCRIPTION:Head to Little Willow in Madison for a fun day designed just for boy moms – because raising boys deserves a bubbly break! \nSip mimosas\, shop adorable styles\, and enjoy a little time just for you. \n20% OFF boys’ clothing! 11:00 – 5:00 pm \nEarly Bird Special: 30% off from 10:00-11:00 am \nGrab your friends\, come early for the best deals\, and treat yourself to a morning out! \nCheers to boy moms- we’ve earned this! \nlittlewillowmadison.com
URL:https://the-e-list.com/event/sip-shop-social-boy-mom-edition-at-little-willow/
LOCATION:Little Willow\, 36 Wall Street\, Madison\, CT\, 06443\, United States
ATTACH;FMTTYPE=image/png:https://the-e-list.com/wp-content/uploads/2026/04/boy-e1775498041873.png
END:VEVENT
END:VCALENDAR