BEGIN:VCALENDAR
VERSION:2.0
PRODID:-//The E List - ECPv6.15.20//NONSGML v1.0//EN
CALSCALE:GREGORIAN
METHOD:PUBLISH
X-ORIGINAL-URL:https://the-e-list.com
X-WR-CALDESC:Events for The E List
REFRESH-INTERVAL;VALUE=DURATION:PT1H
X-Robots-Tag:noindex
X-PUBLISHED-TTL:PT1H
BEGIN:VTIMEZONE
TZID:UTC
BEGIN:STANDARD
TZOFFSETFROM:+0000
TZOFFSETTO:+0000
TZNAME:UTC
DTSTART:20240101T000000
END:STANDARD
END:VTIMEZONE
BEGIN:VEVENT
DTSTART;TZID=UTC:20250315T183000
DTEND;TZID=UTC:20250315T220000
DTSTAMP:20260423T075923
CREATED:20250225T182959Z
LAST-MODIFIED:20250225T222843Z
UID:10002926-1742063400-1742076000@the-e-list.com
SUMMARY:Ring in Spring by Celebrating the Persian New Year with Weekend Kitchen
DESCRIPTION:Weekend Kitchen loves to celebrate different cultures through their foods and traditions. It introduces you to new ingredients\, techniques and a glimpse at different cultures that you might not otherwise know about. Weekend Kitchen has a few Iranian friends and they always talk about their welcoming spring new year holiday called Norwus. And who couldn’t use a little spring right now! \nPersian New Year or Nowruz is the celebration of the arrival of Spring! In Iran the vernal equinox has been celebrated for about 3000 years! This celebration comes with a myriad of traditions. The “Haft-seen” is set up – which is a collection of items that symbolize a different hope for the new year. There are 7 things that are always included: (1.) some kind of sprout or grass to symbolize renewal\, (2.) dried fruit- Love\, (3.) Apples- for health and beauty\, (4.) Garlic- for medicine or self-care\, (5.) A sweet pudding- for wealth and fertility\, (6.) Vinegar- for patience and wisdom that comes with aging\, and (7.) Sumac- for the sunrise of a new day. Chef Jeanine will help us prepare some classic Persian foods that are significant for Nowruz. \nPersian New Year\nSaturday March 15\, 6:30 to 10:00PM | Cost $95\nChef Jeanine Kelly \nPersian New Year or Nowruz is the celebration of the arrival of Spring! In Iran the vernal equinox has been celebrated for about 3\,000 years. This celebration comes with a myriad of traditions. The “Haft-seen” is set up – which is a collection of items that symbolize a different hope for the new year. There are 7 things that are always included: (1.) some kind of sprout or grass to symbolize renewal (2.) dried fruit- Love (3.) Apples- for health and beauty (4.) Garlic- for medicine or self-care (5.) A sweet pudding- for wealth and fertility (6.) Vinegar- for patience and wisdom that comes with aging\, and (7.) Sumac- for the sunrise of a new day. Chef Jeanine will help us prepare some classic Persian foods that are significant for Nowruz. \nMenu \nAdas Polo (Persian jeweled rice and lentils with raisins and dates)\nSalad Shirazi with cucumber tomato\nSumo citrus and feta stuffed dates\nKuku Sabzi ( Persian herb omelet) served with feta and sumac onion\nSumac Onions\nMahi ba Zefferan: saffron fried Cod\nPersian Love cake with almond flour Cardamon and crushed pistachios\nBYOB (perhaps a nice Shiraz) \nReserve your spot here. \n  \nClick below to learn about Weekend Kitchen’s April events: \n4/12: Modern Sauces\, $95 \n4/23: Plant Based Basics with Terry Walters\, $95 \n4/26 My Big Fat Greek Easter Pop-Up Dinner with Chef Welch\, $125
URL:https://the-e-list.com/event/ring-in-spring-by-celebrating-the-persian-new-year-with-weekend-kitchen/
LOCATION:Location to be announced
ATTACH;FMTTYPE=image/png:https://the-e-list.com/wp-content/uploads/2025/02/Pers.png
END:VEVENT
END:VCALENDAR