BEGIN:VCALENDAR
VERSION:2.0
PRODID:-//The E List - ECPv6.15.20//NONSGML v1.0//EN
CALSCALE:GREGORIAN
METHOD:PUBLISH
X-WR-CALNAME:The E List
X-ORIGINAL-URL:https://the-e-list.com
X-WR-CALDESC:Events for The E List
REFRESH-INTERVAL;VALUE=DURATION:PT1H
X-Robots-Tag:noindex
X-PUBLISHED-TTL:PT1H
BEGIN:VTIMEZONE
TZID:America/New_York
BEGIN:DAYLIGHT
TZOFFSETFROM:-0500
TZOFFSETTO:-0400
TZNAME:EDT
DTSTART:20210314T070000
END:DAYLIGHT
BEGIN:STANDARD
TZOFFSETFROM:-0400
TZOFFSETTO:-0500
TZNAME:EST
DTSTART:20211107T060000
END:STANDARD
BEGIN:DAYLIGHT
TZOFFSETFROM:-0500
TZOFFSETTO:-0400
TZNAME:EDT
DTSTART:20220313T070000
END:DAYLIGHT
BEGIN:STANDARD
TZOFFSETFROM:-0400
TZOFFSETTO:-0500
TZNAME:EST
DTSTART:20221106T060000
END:STANDARD
BEGIN:DAYLIGHT
TZOFFSETFROM:-0500
TZOFFSETTO:-0400
TZNAME:EDT
DTSTART:20230312T070000
END:DAYLIGHT
BEGIN:STANDARD
TZOFFSETFROM:-0400
TZOFFSETTO:-0500
TZNAME:EST
DTSTART:20231105T060000
END:STANDARD
BEGIN:DAYLIGHT
TZOFFSETFROM:-0500
TZOFFSETTO:-0400
TZNAME:EDT
DTSTART:20240310T070000
END:DAYLIGHT
BEGIN:STANDARD
TZOFFSETFROM:-0400
TZOFFSETTO:-0500
TZNAME:EST
DTSTART:20241103T060000
END:STANDARD
END:VTIMEZONE
BEGIN:VEVENT
DTSTART;VALUE=DATE:20230301
DTEND;VALUE=DATE:20230318
DTSTAMP:20260425T150247
CREATED:20221206T195529Z
LAST-MODIFIED:20221206T195529Z
UID:10001997-1677628800-1679097599@the-e-list.com
SUMMARY:Mosaic Art Class at Lover's Lane Farm
DESCRIPTION:At Lover’s lane Farm you will have a great time making your own mosaic art piece. Using tiles\, clay\, glass\, and gems\, relaxing and enjoyable class time is spent in a beautiful studio. Anyone can do it and they will have a memorable time.  \n\n\n\n\nLocation:      Lovers Lane Farm\, Killingworth\, CT\nClass Time:  Pick any Tuesday morning for a class session 10:00 am – 12:30 pm\nCost:            $40 per class\n\nReserve a Place:  610-329-3935 or email: msplantscapes@gmail.com
URL:https://the-e-list.com/event/mosaic-art-class/
LOCATION:Lovers Lane Farm\, 42 Lovers Lane\, Killingworth\, CT\, 06419\, United States
ATTACH;FMTTYPE=image/jpeg:https://the-e-list.com/wp-content/uploads/2022/12/IMG_7513-rotated-e1670867812319.jpg
END:VEVENT
BEGIN:VEVENT
DTSTART;TZID=America/New_York:20221011T100000
DTEND;TZID=America/New_York:20221011T123000
DTSTAMP:20260425T150247
CREATED:20220927T104628Z
LAST-MODIFIED:20220927T104628Z
UID:10001921-1665482400-1665491400@the-e-list.com
SUMMARY:Make Your Own Mosaic Creation
DESCRIPTION:Take some time out for yourself to explore mosaics. Using tile\, glass\, stones and clay\, anyone can create their own work of art. Classes held in a unique\, renovated barn. All skill levels welcomed. Techniques and tools of this ancient art will be offered. \nDates: Classes on Tuesdays and Fridays for 6 weeks\nStarting 10-11-22\nTime: 10:00 – 12:30\nCost: $40.per class (includes materials & tools)\nLocation: Killingworth\, CT \nReserve Your Place at the Table Now.\n610-329-3935\nmsplantscapes@gmail.com
URL:https://the-e-list.com/event/make-your-own-mosaic-creation/
LOCATION:Lovers Lane Farm\, 42 Lovers Lane\, Killingworth\, CT\, 06419\, United States
END:VEVENT
END:VCALENDAR