BEGIN:VCALENDAR
VERSION:2.0
PRODID:-//The E List - ECPv6.15.20//NONSGML v1.0//EN
CALSCALE:GREGORIAN
METHOD:PUBLISH
X-WR-CALNAME:The E List
X-ORIGINAL-URL:https://the-e-list.com
X-WR-CALDESC:Events for The E List
REFRESH-INTERVAL;VALUE=DURATION:PT1H
X-Robots-Tag:noindex
X-PUBLISHED-TTL:PT1H
BEGIN:VTIMEZONE
TZID:UTC
BEGIN:STANDARD
TZOFFSETFROM:+0000
TZOFFSETTO:+0000
TZNAME:UTC
DTSTART:20230101T000000
END:STANDARD
END:VTIMEZONE
BEGIN:VTIMEZONE
TZID:America/New_York
BEGIN:DAYLIGHT
TZOFFSETFROM:-0500
TZOFFSETTO:-0400
TZNAME:EDT
DTSTART:20210314T070000
END:DAYLIGHT
BEGIN:STANDARD
TZOFFSETFROM:-0400
TZOFFSETTO:-0500
TZNAME:EST
DTSTART:20211107T060000
END:STANDARD
BEGIN:DAYLIGHT
TZOFFSETFROM:-0500
TZOFFSETTO:-0400
TZNAME:EDT
DTSTART:20220313T070000
END:DAYLIGHT
BEGIN:STANDARD
TZOFFSETFROM:-0400
TZOFFSETTO:-0500
TZNAME:EST
DTSTART:20221106T060000
END:STANDARD
BEGIN:DAYLIGHT
TZOFFSETFROM:-0500
TZOFFSETTO:-0400
TZNAME:EDT
DTSTART:20230312T070000
END:DAYLIGHT
BEGIN:STANDARD
TZOFFSETFROM:-0400
TZOFFSETTO:-0500
TZNAME:EST
DTSTART:20231105T060000
END:STANDARD
BEGIN:DAYLIGHT
TZOFFSETFROM:-0500
TZOFFSETTO:-0400
TZNAME:EDT
DTSTART:20240310T070000
END:DAYLIGHT
BEGIN:STANDARD
TZOFFSETFROM:-0400
TZOFFSETTO:-0500
TZNAME:EST
DTSTART:20241103T060000
END:STANDARD
END:VTIMEZONE
BEGIN:VEVENT
DTSTART;TZID=UTC:20240327T160000
DTEND;TZID=UTC:20240327T173000
DTSTAMP:20260424T142419
CREATED:20240303T033416Z
LAST-MODIFIED:20240303T033416Z
UID:10002521-1711555200-1711560600@the-e-list.com
SUMMARY:Summer Camp Fair at LYSB
DESCRIPTION:Summer Camp Fair\nWednesday\, March 27\, 2024\n4:00-5:30 p.m.\nLyme-Old Lyme High School Commons \nMore than 30 local camps will be at LYSB’s Summer Camp Fair on Wednesday\, March 27 from 4:00 – 5:30 pm in the Lyme-Old Lyme High School Commons. \nPick up brochures\, meet camp reps\, and maybe even register. It’s one stop shopping for a summer of fun!\nAdmission is free.  Click here to see what camps will be there. \n  \nCAMPS – please click here to register your camp to participate in the fair. \n 
URL:https://the-e-list.com/event/summer-camp-fair-at-lysb/
LOCATION:Lyme Old Lyme High School\, 69 Lyme Street\, Old Lyme\, CT\, 06371\, United States
ATTACH;FMTTYPE=image/jpeg:https://the-e-list.com/wp-content/uploads/2023/10/LYSB-Exterior-e1696618131533.jpeg
END:VEVENT
BEGIN:VEVENT
DTSTART;TZID=America/New_York:20231213T130000
DTEND;TZID=America/New_York:20231213T140000
DTSTAMP:20260424T142419
CREATED:20231211T121307Z
LAST-MODIFIED:20231211T121307Z
UID:10002403-1702472400-1702476000@the-e-list.com
SUMMARY:FREE Holiday Concert Featuring the Lyme Old Lyme High School Wind Ensemble
DESCRIPTION:Enjoy a Free Holiday Concert by the Lyme Old Lyme High School Wind Ensemble on Wednesday\, December 13 at 1:00pm at the Lyme Old Lyme High School Auditorium at 69 Lyme Street in Old Lyme.
URL:https://the-e-list.com/event/free-holiday-concert-featuring-the-lyme-old-lyme-high-school-wind-ensemble/
LOCATION:Lyme Old Lyme High School\, 69 Lyme Street\, Old Lyme\, CT\, 06371\, United States
ATTACH;FMTTYPE=image/jpeg:https://the-e-list.com/wp-content/uploads/2023/12/LOL-Holiday-Concert-1-e1702315021477.jpg
END:VEVENT
BEGIN:VEVENT
DTSTART;TZID=America/New_York:20220330T160000
DTEND;TZID=America/New_York:20220330T180000
DTSTAMP:20260424T142419
CREATED:20220321T095015Z
LAST-MODIFIED:20220321T095015Z
UID:10001750-1648656000-1648663200@the-e-list.com
SUMMARY:Summer Camp Fair
DESCRIPTION:More than 30 local camps will be at Lyme Youth Service Bureau’s Summer Camp Fair at the Lyme-Old Lyme High School Commons on Wednesday\, March 30th from 4 – 6pm. \nPick up brochures\, meet camp reps\, and maybe even register. It’s one stop shopping for a summer of fun! \nAdmission is free and open to the public. \nCAMPS ATTENDING:\nAmerican Wanderer Summer Camp \nBlack Hall Outfitters \nBushy Hill Day Camp \nCamp Claire \nCamp Hazen YMCA \nCamp Stonewall \nCT Audubon – Roger Tory Peterson Estuary Center \nConnecticut River Museum \nEastern Connecticut Ballet \nFlorence Griswold Museum \nGlobal Citizen Program \nGrasshopper Green Preschool \nHigh Hopes Therapeutic Riding \nKate’s Camp for Kids \nLyme Academy of Fine Arts \nLyme Old Lyme Food Share Garden \nLyme Old Lyme Soccer Club \nLyme Park & Rec \nLyme Public Library \nMystic Aquarium \nMystic Seaport Museum \nNiantic Bay Sailing Academy \nNorth Cove Yacht Club \nOld Lyme Children’s Learning Center \nOld Lyme Park & Rec \nOld Lyme – Phoebe Griffin Noyes Library \nPequot Sherwood Day Camp \nThames Valley Music School \nTreehouse Players \nWaterford Country School \nYMCA Camp Shore
URL:https://the-e-list.com/event/summer-camp-fair/
LOCATION:Lyme Old Lyme High School\, 69 Lyme Street\, Old Lyme\, CT\, 06371\, United States
END:VEVENT
END:VCALENDAR